View In:
ArcGIS JavaScript
ArcGIS Online Map Viewer
ArcGIS Earth
Service Description: The project is to complete 1"=100' scale mapping using 1"=763' Digital Mapping Camera aerial photography. Analytical aerotriangulation was done to provide complete photo control for mapping and orthophoto production. There are 3515 photos in the aerotriangulation. Post flight processing of the digital aerial data was completed at Aero-Metric, Inc.
The project location is Will County, Illinois.
Control units are in feet. Coordinate system is Illinois State Plane, East Zone on NAD 83/97 horizontal datum. Vertical datum is NGVD 88. Airborne-gps control for 3510 photos was completed by Aero-Metric, Inc. Ground-control eastings, northings and elevations were surveyed by Aero-Metric, Inc. During the initial flight of line 27 (on 11/22/06) the flight was diverted to avoid other air traffic. The initial re-flight left a gap of three images in the usable coverage. This was re-flown on 4/13/07 and five images were manually measured and tied to the surrounding AB/GPS controlled photography.
A combination of auto-correlated and manually measured points were used to establish pass points, strip tie points and horizontal and vertical check points. The auto-correlation was accomplished using the 'Image Station Automatic Triangulation (ISAT) program from 'Intergraph'.
The calibrated focal length for all photos is 120 mm. The photo dates are 11/20, 22 & 23/06 and 4/13/07.
Name: Orthoimagery/Orthos_2006P_6IN
Description: The project is to complete 1"=100' scale mapping using 1"=763' Digital Mapping Camera aerial photography. Analytical aerotriangulation was done to provide complete photo control for mapping and orthophoto production. There are 3515 photos in the aerotriangulation. Post flight processing of the digital aerial data was completed at Aero-Metric, Inc.
The project location is Will County, Illinois.
Control units are in feet. Coordinate system is Illinois State Plane, East Zone on NAD 83/97 horizontal datum. Vertical datum is NGVD 88. Airborne-gps control for 3510 photos was completed by Aero-Metric, Inc. Ground-control eastings, northings and elevations were surveyed by Aero-Metric, Inc. During the initial flight of line 27 (on 11/22/06) the flight was diverted to avoid other air traffic. The initial re-flight left a gap of three images in the usable coverage. This was re-flown on 4/13/07 and five images were manually measured and tied to the surrounding AB/GPS controlled photography.
A combination of auto-correlated and manually measured points were used to establish pass points, strip tie points and horizontal and vertical check points. The auto-correlation was accomplished using the 'Image Station Automatic Triangulation (ISAT) program from 'Intergraph'.
The calibrated focal length for all photos is 120 mm. The photo dates are 11/20, 22 & 23/06 and 4/13/07.
Single Fused Map Cache: false
Extent:
XMin: 1003100.0
YMin: 1664300.0
XMax: 1193100.0
YMax: 1844300.0
Spatial Reference: 102671
(3435)
LatestVCSWkid(0)
Initial Extent:
XMin: 1003100.0
YMin: 1664300.0
XMax: 1193100.0
YMax: 1844300.0
Spatial Reference: 102671
(3435)
LatestVCSWkid(0)
Full Extent:
XMin: 1003100.0
YMin: 1664300.0
XMax: 1193100.0
YMax: 1844300.0
Spatial Reference: 102671
(3435)
LatestVCSWkid(0)
Pixel Size X: 0.5
Pixel Size Y: 0.5
Band Count: 3
Pixel Type: U8
RasterFunction Infos: {"rasterFunctionInfos": [{
"name": "None",
"description": "A No-Op Function.",
"help": ""
}]}
Mensuration Capabilities: None
Inspection Capabilities:
Has Histograms: true
Has Colormap: false
Has Multi Dimensions : false
Rendering Rule:
Min Scale: 0
Max Scale: 0
Copyright Text: Aero-Metric, Inc.
Service Data Type: esriImageServiceDataTypeRGB
Min Values: 0, 0, 0
Max Values: 255, 255, 255
Mean Values: 101.92251543643603, 83.73776736912383, 83.67002037648467
Standard Deviation Values: 25.667455359717085, 23.316275444794798, 19.663972846190916
Object ID Field: OBJECTID
Fields:
-
OBJECTID
(
type: esriFieldTypeOID, alias: OBJECTID
)
-
Name
(
type: esriFieldTypeString, alias: Name, length: 200
)
-
MinPS
(
type: esriFieldTypeDouble, alias: MinPS
)
-
MaxPS
(
type: esriFieldTypeDouble, alias: MaxPS
)
-
LowPS
(
type: esriFieldTypeDouble, alias: LowPS
)
-
HighPS
(
type: esriFieldTypeDouble, alias: HighPS
)
-
Category
(
type: esriFieldTypeInteger, alias: Category
, Coded Values:
[0: Unknown]
, [1: Primary]
, [2: Overview]
, ...6 more...
)
-
Tag
(
type: esriFieldTypeString, alias: Tag, length: 100
)
-
GroupName
(
type: esriFieldTypeString, alias: GroupName, length: 100
)
-
ProductName
(
type: esriFieldTypeString, alias: ProductName, length: 100
)
-
CenterX
(
type: esriFieldTypeDouble, alias: CenterX
)
-
CenterY
(
type: esriFieldTypeDouble, alias: CenterY
)
-
ZOrder
(
type: esriFieldTypeInteger, alias: ZOrder
)
-
Shape
(
type: esriFieldTypeGeometry, alias: Shape
)
-
Shape.STArea()
(
type: esriFieldTypeDouble, alias: Shape.STArea()
)
-
Shape.STLength()
(
type: esriFieldTypeDouble, alias: Shape.STLength()
)
Default Mosaic Method: Northwest
Allowed Mosaic Methods: NorthWest,Center,LockRaster,ByAttribute,Nadir,Viewpoint,Seamline,None
SortField:
SortValue: null
Mosaic Operator: First
Default Compression Quality: 75
Default Resampling Method: Bilinear
Max Record Count: 1000
Max Image Height: 4100
Max Image Width: 15000
Max Download Image Count: 20
Max Mosaic Image Count: 20
Allow Raster Function: true
Allow Copy: true
Allow Analysis: true
Allow Compute TiePoints: false
Supports Statistics: true
Supports Advanced Queries: true
Use StandardizedQueries: true
Raster Type Infos:
Name: Raster Dataset
Description: Supports all ArcGIS Raster Datasets
Help:
Has Raster Attribute Table: false
Edit Fields Info: null
Ownership Based AccessControl For Rasters: null
Child Resources:
Info
Histograms
Statistics
Key Properties
Legend
Raster Function Infos
Supported Operations:
Export Image
Query
Identify
Compute Histograms
Compute Statistics Histograms
Get Samples
Compute Class Statistics
Query GPS Info
Find Images
Image to Map
Map to Image
Measure from Image
Image to Map Multiray
Query Boundary
Compute Pixel Location
Compute Angles
Validate
Project