{ "currentVersion": 11.3, "serviceDescription": "
The project is to complete 1\"=100' scale mapping using 1\"=763' Digital Mapping Camera aerial photography. Analytical aerotriangulation was done to provide complete photo control for mapping and orthophoto production. There are 3515 photos in the aerotriangulation. Post flight processing of the digital aerial data was completed at Aero-Metric, Inc.<\/SPAN><\/P> The project location is Will County, Illinois.<\/SPAN><\/P> Control units are in feet. Coordinate system is Illinois State Plane, East Zone on NAD 83/97 horizontal datum. Vertical datum is NGVD 88. Airborne-gps control for 3510 photos was completed by Aero-Metric, Inc. Ground-control eastings, northings and elevations were surveyed by Aero-Metric, Inc. During the initial flight of line 27 (on 11/22/06) the flight was diverted to avoid other air traffic. The initial re-flight left a gap of three images in the usable coverage. This was re-flown on 4/13/07 and five images were manually measured and tied to the surrounding AB/GPS controlled photography.<\/SPAN><\/P> A combination of auto-correlated and manually measured points were used to establish pass points, strip tie points and horizontal and vertical check points. The auto-correlation was accomplished using the 'Image Station Automatic Triangulation (ISAT) program from 'Intergraph'.<\/SPAN><\/P> The calibrated focal length for all photos is 120 mm. The photo dates are 11/20, 22 & 23/06 and 4/13/07.<\/SPAN><\/P><\/DIV><\/DIV><\/DIV>",
"name": "Orthoimagery/Orthos_2006P_6IN",
"description": " The project is to complete 1\"=100' scale mapping using 1\"=763' Digital Mapping Camera aerial photography. Analytical aerotriangulation was done to provide complete photo control for mapping and orthophoto production. There are 3515 photos in the aerotriangulation. Post flight processing of the digital aerial data was completed at Aero-Metric, Inc.<\/SPAN><\/P> The project location is Will County, Illinois.<\/SPAN><\/P> Control units are in feet. Coordinate system is Illinois State Plane, East Zone on NAD 83/97 horizontal datum. Vertical datum is NGVD 88. Airborne-gps control for 3510 photos was completed by Aero-Metric, Inc. Ground-control eastings, northings and elevations were surveyed by Aero-Metric, Inc. During the initial flight of line 27 (on 11/22/06) the flight was diverted to avoid other air traffic. The initial re-flight left a gap of three images in the usable coverage. This was re-flown on 4/13/07 and five images were manually measured and tied to the surrounding AB/GPS controlled photography.<\/SPAN><\/P> A combination of auto-correlated and manually measured points were used to establish pass points, strip tie points and horizontal and vertical check points. The auto-correlation was accomplished using the 'Image Station Automatic Triangulation (ISAT) program from 'Intergraph'.<\/SPAN><\/P> The calibrated focal length for all photos is 120 mm. The photo dates are 11/20, 22 & 23/06 and 4/13/07.<\/SPAN><\/P><\/DIV><\/DIV><\/DIV>",
"extent": {
"xmin": 1003100,
"ymin": 1664300,
"xmax": 1193100,
"ymax": 1844300,
"spatialReference": {
"wkid": 102671,
"latestWkid": 3435
}
},
"initialExtent": {
"xmin": 1003100,
"ymin": 1664300,
"xmax": 1193100,
"ymax": 1844300,
"spatialReference": {
"wkid": 102671,
"latestWkid": 3435
}
},
"fullExtent": {
"xmin": 1003100,
"ymin": 1664300,
"xmax": 1193100,
"ymax": 1844300,
"spatialReference": {
"wkid": 102671,
"latestWkid": 3435
}
},
"sortableFields": "MinPS,MaxPS,LowPS,HighPS,CenterX,CenterY,ZOrder,Shape.STArea(),Shape.STLength()",
"bandCount": 3,
"pixelType": "U8",
"minValues": [
0,
0,
0
],
"maxValues": [
255,
255,
255
],
"meanValues": [
101.92251543643603,
83.73776736912383,
83.67002037648467
],
"stdvValues": [
25.667455359717085,
23.316275444794798,
19.663972846190916
],
"hasMultidimensions": false,
"pixelSizeX": 0.5,
"pixelSizeY": 0.5,
"meanPixelSize": 0.15240030480060962,
"datasetFormat": "AMD",
"uncompressedSize": 410400000000,
"blockWidth": 2048,
"blockHeight": 256,
"compressionType": "None",
"bandNames": [
"Band_1",
"Band_2",
"Band_3"
],
"allowCopy": true,
"allowAnalysis": true,
"itemAccess": false,
"inspectionCapabilities": "",
"minPixelSize": 0,
"maxPixelSize": 0,
"copyrightText": "Aero-Metric, Inc.",
"serviceDataType": "esriImageServiceDataTypeRGB",
"serviceSourceType": "esriImageServiceSourceTypeMosaicDataset",
"objectIdField": "OBJECTID",
"fields": [
{
"name": "OBJECTID",
"type": "esriFieldTypeOID",
"alias": "OBJECTID",
"domain": null
},
{
"name": "Name",
"type": "esriFieldTypeString",
"alias": "Name",
"domain": null,
"length": 200
},
{
"name": "MinPS",
"type": "esriFieldTypeDouble",
"alias": "MinPS",
"domain": null
},
{
"name": "MaxPS",
"type": "esriFieldTypeDouble",
"alias": "MaxPS",
"domain": null
},
{
"name": "LowPS",
"type": "esriFieldTypeDouble",
"alias": "LowPS",
"domain": null
},
{
"name": "HighPS",
"type": "esriFieldTypeDouble",
"alias": "HighPS",
"domain": null
},
{
"name": "Category",
"type": "esriFieldTypeInteger",
"alias": "Category",
"domain": {
"type": "codedValue",
"name": "MosaicCatalogItemCategoryDomain",
"description": "Catalog item categories.",
"codedValues": [
{
"name": "Unknown",
"code": 0
},
{
"name": "Primary",
"code": 1
},
{
"name": "Overview",
"code": 2
},
{
"name": "Unprocessed Overview",
"code": 3
},
{
"name": "Partial Overview",
"code": 4
},
{
"name": "Inactive",
"code": 5
},
{
"name": "Uploaded",
"code": 253
},
{
"name": "Incomplete",
"code": 254
},
{
"name": "Custom",
"code": 255
}
],
"mergePolicy": "esriMPTDefaultValue",
"splitPolicy": "esriSPTDefaultValue"
}
},
{
"name": "Tag",
"type": "esriFieldTypeString",
"alias": "Tag",
"domain": null,
"length": 100
},
{
"name": "GroupName",
"type": "esriFieldTypeString",
"alias": "GroupName",
"domain": null,
"length": 100
},
{
"name": "ProductName",
"type": "esriFieldTypeString",
"alias": "ProductName",
"domain": null,
"length": 100
},
{
"name": "CenterX",
"type": "esriFieldTypeDouble",
"alias": "CenterX",
"domain": null
},
{
"name": "CenterY",
"type": "esriFieldTypeDouble",
"alias": "CenterY",
"domain": null
},
{
"name": "ZOrder",
"type": "esriFieldTypeInteger",
"alias": "ZOrder",
"domain": null
},
{
"name": "Shape",
"type": "esriFieldTypeGeometry",
"alias": "Shape",
"domain": null
},
{
"name": "Shape.STArea()",
"type": "esriFieldTypeDouble",
"alias": "Shape.STArea()",
"domain": null
},
{
"name": "Shape.STLength()",
"type": "esriFieldTypeDouble",
"alias": "Shape.STLength()",
"domain": null
}
],
"capabilities": "Image,Metadata,Catalog",
"defaultMosaicMethod": "Northwest",
"allowedMosaicMethods": "NorthWest,Center,LockRaster,ByAttribute,Nadir,Viewpoint,Seamline,None",
"sortField": "",
"sortValue": null,
"sortAscending": true,
"mosaicOperator": "First",
"maxDownloadSizeLimit": 2048,
"defaultCompressionQuality": 75,
"defaultResamplingMethod": "Bilinear",
"maxImageHeight": 4100,
"maxImageWidth": 15000,
"maxRecordCount": 1000,
"maxDownloadImageCount": 20,
"maxMosaicImageCount": 20,
"allowRasterFunction": true,
"rasterFunctionInfos": [
{
"name": "None",
"description": "A No-Op Function.",
"help": ""
}
],
"rasterTypeInfos": [
{
"name": "Raster Dataset",
"description": "Supports all ArcGIS Raster Datasets",
"help": ""
}
],
"mensurationCapabilities": "None",
"hasHistograms": true,
"hasColormap": false,
"hasRasterAttributeTable": false,
"minScale": 0,
"maxScale": 0,
"exportTilesAllowed": false,
"supportsStatistics": true,
"supportsAdvancedQueries": true,
"editFieldsInfo": null,
"ownershipBasedAccessControlForRasters": null,
"allowComputeTiePoints": false,
"useStandardizedQueries": true,
"advancedQueryCapabilities": {
"useStandardizedQueries": true,
"supportsStatistics": true,
"supportsOrderBy": true,
"supportsDistinct": true,
"supportsPagination": true
},
"spatialReference": {
"wkid": 102671,
"latestWkid": 3435
}
}