View In:
ArcGIS JavaScript
ArcGIS Online Map Viewer
ArcGIS Earth
Service Description: This dataset was produced from digital color orthophotography that was flown by AirPhotoUSA in October, 2002 for the entire county. The original raster data was stored in MAP format accessible only within AirPhotoUSA's PhotoMapper application.
195 Separate image TIF files were extracted from the original 2 images supplied by AirPhotoUSA. These TIF files were imported into an ArcSDE raster layer.
Each TIF file is approximately 105 Megabytes and covers a ground area of roughly 150,000 square feet. The ArcSDE raster layer is comprised of 195 TIF files that are joined seamlessly. The TIF files are organized by row, there is a total of 22 rows with a maximum of 13 TIF files on any single row.
Name: Orthoimagery/Ortho2002_1M
Description: This dataset was produced from digital color orthophotography that was flown by AirPhotoUSA in October, 2002 for the entire county. The original raster data was stored in MAP format accessible only within AirPhotoUSA's PhotoMapper application.
195 Separate image TIF files were extracted from the original 2 images supplied by AirPhotoUSA. These TIF files were imported into an ArcSDE raster layer.
Each TIF file is approximately 105 Megabytes and covers a ground area of roughly 150,000 square feet. The ArcSDE raster layer is comprised of 195 TIF files that are joined seamlessly. The TIF files are organized by row, there is a total of 22 rows with a maximum of 13 TIF files on any single row.
Single Fused Map Cache: false
Extent:
XMin: 1003634.999960028
YMin: 1651096.9999600295
XMax: 1211048.999960028
YMax: 1844626.9999600295
Spatial Reference: 102671
(3435)
LatestVCSWkid(0)
Initial Extent:
XMin: 1003634.999960028
YMin: 1651096.9999600295
XMax: 1211048.999960028
YMax: 1844626.9999600295
Spatial Reference: 102671
(3435)
LatestVCSWkid(0)
Full Extent:
XMin: 1003634.999960028
YMin: 1651096.9999600295
XMax: 1211048.999960028
YMax: 1844626.9999600295
Spatial Reference: 102671
(3435)
LatestVCSWkid(0)
Pixel Size X: 2.0000000000000013
Pixel Size Y: 2.0
Band Count: 3
Pixel Type: U8
RasterFunction Infos: {"rasterFunctionInfos": [{
"name": "None",
"description": "",
"help": ""
}]}
Mensuration Capabilities: Basic
Inspection Capabilities:
Has Histograms: true
Has Colormap: false
Has Multi Dimensions : false
Rendering Rule:
Min Scale: 0
Max Scale: 0
Resampling: false
Copyright Text: Spatial Insights, Inc.
Service Data Type: esriImageServiceDataTypeRGB
Min Values: 0, 0, 0
Max Values: 255, 255, 255
Mean Values: 107.39391569701046, 109.77167624420171, 101.0587248634753
Standard Deviation Values: 47.18992342501435, 42.91938191848844, 43.384807628250556
Object ID Field:
Fields:
None
Default Mosaic Method: Center
Allowed Mosaic Methods:
SortField:
SortValue: null
Mosaic Operator: First
Default Compression Quality: 75
Default Resampling Method: Bilinear
Max Record Count: null
Max Image Height: 4100
Max Image Width: 15000
Max Download Image Count: null
Max Mosaic Image Count: null
Allow Raster Function: true
Allow Copy: true
Allow Analysis: true
Allow Compute TiePoints: false
Supports Statistics: false
Supports Advanced Queries: false
Use StandardizedQueries: true
Raster Type Infos:
Name: Raster Dataset
Description: Supports all ArcGIS Raster Datasets
Help:
Has Raster Attribute Table: false
Edit Fields Info: null
Ownership Based AccessControl For Rasters: null
Child Resources:
Info
Histograms
Statistics
Key Properties
Legend
Raster Function Infos
Supported Operations:
Export Image
Identify
Measure
Compute Histograms
Compute Statistics Histograms
Get Samples
Compute Class Statistics
Query Boundary
Compute Pixel Location
Compute Angles
Validate
Project