{ "currentVersion": 11.3, "serviceDescription": "
This dataset was produced from digital color orthophotography that was flown by AirPhotoUSA in October, 2002 for the entire county. The original raster data was stored in MAP format accessible only within AirPhotoUSA's PhotoMapper application.<\/span><\/p> 195 Separate image TIF files were extracted from the original 2 images supplied by AirPhotoUSA. These TIF files were imported into an ArcSDE raster layer.<\/span><\/p> Each TIF file is approximately 105 Megabytes and covers a ground area of roughly 150,000 square feet. The ArcSDE raster layer is comprised of 195 TIF files that are joined seamlessly. The TIF files are organized by row, there is a total of 22 rows with a maximum of 13 TIF files on any single row.<\/span><\/p><\/div><\/div><\/div>",
"name": "Orthoimagery/Ortho2002_1M",
"description": " This dataset was produced from digital color orthophotography that was flown by AirPhotoUSA in October, 2002 for the entire county. The original raster data was stored in MAP format accessible only within AirPhotoUSA's PhotoMapper application.<\/span><\/p> 195 Separate image TIF files were extracted from the original 2 images supplied by AirPhotoUSA. These TIF files were imported into an ArcSDE raster layer.<\/span><\/p> Each TIF file is approximately 105 Megabytes and covers a ground area of roughly 150,000 square feet. The ArcSDE raster layer is comprised of 195 TIF files that are joined seamlessly. The TIF files are organized by row, there is a total of 22 rows with a maximum of 13 TIF files on any single row.<\/span><\/p><\/div><\/div><\/div>",
"extent": {
"xmin": 1003634.999960028,
"ymin": 1651096.9999600295,
"xmax": 1211048.999960028,
"ymax": 1844626.9999600295,
"spatialReference": {
"wkid": 102671,
"latestWkid": 3435
}
},
"initialExtent": {
"xmin": 1003634.999960028,
"ymin": 1651096.9999600295,
"xmax": 1211048.999960028,
"ymax": 1844626.9999600295,
"spatialReference": {
"wkid": 102671,
"latestWkid": 3435
}
},
"fullExtent": {
"xmin": 1003634.999960028,
"ymin": 1651096.9999600295,
"xmax": 1211048.999960028,
"ymax": 1844626.9999600295,
"spatialReference": {
"wkid": 102671,
"latestWkid": 3435
}
},
"sortableFields": "",
"bandCount": 3,
"pixelType": "U8",
"minValues": [
0,
0,
0
],
"maxValues": [
255,
255,
255
],
"meanValues": [
107.39391569701046,
109.77167624420171,
101.0587248634753
],
"stdvValues": [
47.18992342501435,
42.91938191848844,
43.384807628250556
],
"hasMultidimensions": false,
"pixelSizeX": 2.0000000000000013,
"pixelSizeY": 2,
"meanPixelSize": 0.6096012192024387,
"datasetFormat": "SDR",
"uncompressedSize": 30105333270,
"blockWidth": 128,
"blockHeight": 128,
"compressionType": "JPEG",
"bandNames": [
"Band_1",
"Band_2",
"Band_3"
],
"allowCopy": true,
"allowAnalysis": true,
"itemAccess": false,
"inspectionCapabilities": "",
"minPixelSize": 0,
"maxPixelSize": 0,
"copyrightText": "Spatial Insights, Inc.",
"serviceDataType": "esriImageServiceDataTypeRGB",
"serviceSourceType": "esriImageServiceSourceTypeDataset",
"objectIdField": "",
"fields": [],
"capabilities": "Mensuration,Image,Metadata",
"defaultMosaicMethod": "Center",
"allowedMosaicMethods": "",
"sortField": "",
"sortValue": null,
"sortAscending": true,
"mosaicOperator": "First",
"defaultCompressionQuality": 75,
"defaultResamplingMethod": "Bilinear",
"maxImageHeight": 4100,
"maxImageWidth": 15000,
"allowRasterFunction": true,
"rasterFunctionInfos": [
{
"name": "None",
"description": "",
"help": ""
}
],
"rasterTypeInfos": [
{
"name": "Raster Dataset",
"description": "Supports all ArcGIS Raster Datasets",
"help": ""
}
],
"mensurationCapabilities": "Basic",
"hasHistograms": true,
"hasColormap": false,
"hasRasterAttributeTable": false,
"minScale": 0,
"maxScale": 0,
"exportTilesAllowed": false,
"supportsStatistics": false,
"supportsAdvancedQueries": false,
"editFieldsInfo": null,
"ownershipBasedAccessControlForRasters": null,
"allowComputeTiePoints": false,
"useStandardizedQueries": true,
"advancedQueryCapabilities": {
"useStandardizedQueries": true,
"supportsStatistics": false,
"supportsOrderBy": false,
"supportsDistinct": false,
"supportsPagination": false
},
"spatialReference": {
"wkid": 102671,
"latestWkid": 3435
},
"resampling": false
}