View In:
ArcGIS JavaScript
ArcGIS Online Map Viewer
ArcGIS Earth
Service Description: United States. Commodity Stabilization Service.; Hycon Aerial Surveys, Inc.; Contact prints with stereoscopic coverage (60% overlap).; Complete in ca. 493 images.; Title from photomosaic index.; "Flying completed 7-12-54"--Index.; Flight dates: 5-29-54; 5-30-54; 6-11-54; 6-13-54; 6-15-54; 6-22-54; 6-24-54; 6-26-54; 6-28-54; 7-12-54.; Photos numbered BXK-1N-2 through BXK-10N-170. Numbers on west edge of photos.; Photomosaic index oriented with north to the right.; "Index copied 7-23-54."; Photomosaic index includes key to sheets.; "Invitation no. PMA-42-54-DC. Item no. 2."
Available at Richard J Daley Library Daley Library - Maps/3rd floor (non-circ) (G4103.W6A4 1954 .U5)
Name: Orthoimagery/AerialBW1954_1M
Description: United States. Commodity Stabilization Service.; Hycon Aerial Surveys, Inc.; Contact prints with stereoscopic coverage (60% overlap).; Complete in ca. 493 images.; Title from photomosaic index.; "Flying completed 7-12-54"--Index.; Flight dates: 5-29-54; 5-30-54; 6-11-54; 6-13-54; 6-15-54; 6-22-54; 6-24-54; 6-26-54; 6-28-54; 7-12-54.; Photos numbered BXK-1N-2 through BXK-10N-170. Numbers on west edge of photos.; Photomosaic index oriented with north to the right.; "Index copied 7-23-54."; Photomosaic index includes key to sheets.; "Invitation no. PMA-42-54-DC. Item no. 2."
Available at Richard J Daley Library Daley Library - Maps/3rd floor (non-circ) (G4103.W6A4 1954 .U5)
Single Fused Map Cache: false
Extent:
XMin: 1001229.5598509084
YMin: 1650674.6042411693
XMax: 1208531.4125273
YMax: 1846594.5692217925
Spatial Reference: 0
(0)
LatestVCSWkid(0)
Initial Extent:
XMin: 1001229.5598509084
YMin: 1650674.6042411693
XMax: 1208531.4125273
YMax: 1846594.5692217925
Spatial Reference: 0
(0)
LatestVCSWkid(0)
Full Extent:
XMin: 1001229.5598509084
YMin: 1650674.6042411693
XMax: 1208531.4125273
YMax: 1846594.5692217925
Spatial Reference: 0
(0)
LatestVCSWkid(0)
Pixel Size X: 1.6949996948242188
Pixel Size Y: 1.694999999832362
Band Count: 1
Pixel Type: U16
RasterFunction Infos: {"rasterFunctionInfos": [{
"name": "None",
"description": "",
"help": ""
}]}
Mensuration Capabilities: Basic
Inspection Capabilities:
Has Histograms: true
Has Colormap: false
Has Multi Dimensions : false
Rendering Rule:
Min Scale: 0
Max Scale: 0
Resampling: false
Copyright Text: University of Illinois Chicago Library
Service Data Type: esriImageServiceDataTypeGeneric
Min Values: 0
Max Values: 65535
Mean Values: 50739.39590806964
Standard Deviation Values: 13220.020801856914
Object ID Field:
Fields:
None
Default Mosaic Method: Center
Allowed Mosaic Methods:
SortField:
SortValue: null
Mosaic Operator: First
Default Compression Quality: 75
Default Resampling Method: Bilinear
Max Record Count: null
Max Image Height: 4100
Max Image Width: 15000
Max Download Image Count: null
Max Mosaic Image Count: null
Allow Raster Function: true
Allow Copy: true
Allow Analysis: true
Allow Compute TiePoints: false
Supports Statistics: false
Supports Advanced Queries: false
Use StandardizedQueries: true
Raster Type Infos:
Name: Raster Dataset
Description: Supports all ArcGIS Raster Datasets
Help:
Has Raster Attribute Table: false
Edit Fields Info: null
Ownership Based AccessControl For Rasters: null
Child Resources:
Info
Histograms
Statistics
Key Properties
Legend
Raster Function Infos
Supported Operations:
Export Image
Identify
Measure
Compute Histograms
Compute Statistics Histograms
Get Samples
Compute Class Statistics
Query Boundary
Compute Pixel Location
Compute Angles
Validate
Project