{ "currentVersion": 11.3, "serviceDescription": "
United States. Commodity Stabilization Service.; Hycon Aerial Surveys, Inc.; Contact prints with stereoscopic coverage (60% overlap).; Complete in ca. 493 images.; Title from photomosaic index.; \"Flying completed 7-12-54\"--Index.; Flight dates: 5-29-54; 5-30-54; 6-11-54; 6-13-54; 6-15-54; 6-22-54; 6-24-54; 6-26-54; 6-28-54; 7-12-54.; Photos numbered BXK-1N-2 through BXK-10N-170. Numbers on west edge of photos.; Photomosaic index oriented with north to the right.; \"Index copied 7-23-54.\"; Photomosaic index includes key to sheets.; \"Invitation no. PMA-42-54-DC. Item no. 2.\"<\/span><\/p> Available at Richard J Daley Library Daley Library - Maps/3rd floor (non-circ) (G4103.W6A4 1954 .U5)<\/span><\/p><\/div><\/div><\/div>",
"name": "Orthoimagery/AerialBW1954_1M",
"description": " United States. Commodity Stabilization Service.; Hycon Aerial Surveys, Inc.; Contact prints with stereoscopic coverage (60% overlap).; Complete in ca. 493 images.; Title from photomosaic index.; \"Flying completed 7-12-54\"--Index.; Flight dates: 5-29-54; 5-30-54; 6-11-54; 6-13-54; 6-15-54; 6-22-54; 6-24-54; 6-26-54; 6-28-54; 7-12-54.; Photos numbered BXK-1N-2 through BXK-10N-170. Numbers on west edge of photos.; Photomosaic index oriented with north to the right.; \"Index copied 7-23-54.\"; Photomosaic index includes key to sheets.; \"Invitation no. PMA-42-54-DC. Item no. 2.\"<\/span><\/p> Available at Richard J Daley Library Daley Library - Maps/3rd floor (non-circ) (G4103.W6A4 1954 .U5)<\/span><\/p><\/div><\/div><\/div>",
"extent": {
"xmin": 1001229.5598509084,
"ymin": 1650674.6042411693,
"xmax": 1208531.4125273,
"ymax": 1846594.5692217925,
"spatialReference": {
"wkt2": "PROJCRS[\"TNTmips_Georeference\",BASEGEOGCRS[\"GCS_North_American_1983\",DATUM[\"D_North_American_1983\",ELLIPSOID[\"GRS_1980\",6378137.0,298.257222101,LENGTHUNIT[\"Meter\",1.0]]],PRIMEM[\"Greenwich\",0.0,ANGLEUNIT[\"Degree\",0.0174532925199433]],CS[ellipsoidal,2],ANGLEUNIT[\"Degree\",0.0174532925199433]],CONVERSION[\"Transverse_Mercator\",METHOD[\"Transverse_Mercator\"],PARAMETER[\"false_easting\",984250.0,LENGTHUNIT[\"Foot_US\",0.3048006096012192]],PARAMETER[\"false_northing\",0.0,LENGTHUNIT[\"Foot_US\",0.3048006096012192]],PARAMETER[\"central_meridian\",-88.33333333333333,ANGLEUNIT[\"Degree\",0.0174532925199433]],PARAMETER[\"scale_factor\",0.999975,SCALEUNIT[\"Unity\",1.0]],PARAMETER[\"latitude_of_origin\",36.66666666666666,ANGLEUNIT[\"Degree\",0.0174532925199433]]],CS[Cartesian,2],AXIS[\"Easting (X)\",east,ORDER[1]],AXIS[\"Northing (Y)\",north,ORDER[2]],LENGTHUNIT[\"Foot_US\",0.3048006096012192]]",
"wkt": "PROJCS[\"TNTmips_Georeference\",GEOGCS[\"GCS_North_American_1983\",DATUM[\"D_North_American_1983\",SPHEROID[\"GRS_1980\",6378137.0,298.257222101]],PRIMEM[\"Greenwich\",0.0],UNIT[\"Degree\",0.0174532925199433]],PROJECTION[\"Transverse_Mercator\"],PARAMETER[\"false_easting\",984250.0],PARAMETER[\"false_northing\",0.0],PARAMETER[\"central_meridian\",-88.33333333333333],PARAMETER[\"scale_factor\",0.999975],PARAMETER[\"latitude_of_origin\",36.66666666666666],UNIT[\"Foot_US\",0.3048006096012192]]"
}
},
"initialExtent": {
"xmin": 1001229.5598509084,
"ymin": 1650674.6042411693,
"xmax": 1208531.4125273,
"ymax": 1846594.5692217925,
"spatialReference": {
"wkt2": "PROJCRS[\"TNTmips_Georeference\",BASEGEOGCRS[\"GCS_North_American_1983\",DATUM[\"D_North_American_1983\",ELLIPSOID[\"GRS_1980\",6378137.0,298.257222101,LENGTHUNIT[\"Meter\",1.0]]],PRIMEM[\"Greenwich\",0.0,ANGLEUNIT[\"Degree\",0.0174532925199433]],CS[ellipsoidal,2],ANGLEUNIT[\"Degree\",0.0174532925199433]],CONVERSION[\"Transverse_Mercator\",METHOD[\"Transverse_Mercator\"],PARAMETER[\"false_easting\",984250.0,LENGTHUNIT[\"Foot_US\",0.3048006096012192]],PARAMETER[\"false_northing\",0.0,LENGTHUNIT[\"Foot_US\",0.3048006096012192]],PARAMETER[\"central_meridian\",-88.33333333333333,ANGLEUNIT[\"Degree\",0.0174532925199433]],PARAMETER[\"scale_factor\",0.999975,SCALEUNIT[\"Unity\",1.0]],PARAMETER[\"latitude_of_origin\",36.66666666666666,ANGLEUNIT[\"Degree\",0.0174532925199433]]],CS[Cartesian,2],AXIS[\"Easting (X)\",east,ORDER[1]],AXIS[\"Northing (Y)\",north,ORDER[2]],LENGTHUNIT[\"Foot_US\",0.3048006096012192]]",
"wkt": "PROJCS[\"TNTmips_Georeference\",GEOGCS[\"GCS_North_American_1983\",DATUM[\"D_North_American_1983\",SPHEROID[\"GRS_1980\",6378137.0,298.257222101]],PRIMEM[\"Greenwich\",0.0],UNIT[\"Degree\",0.0174532925199433]],PROJECTION[\"Transverse_Mercator\"],PARAMETER[\"false_easting\",984250.0],PARAMETER[\"false_northing\",0.0],PARAMETER[\"central_meridian\",-88.33333333333333],PARAMETER[\"scale_factor\",0.999975],PARAMETER[\"latitude_of_origin\",36.66666666666666],UNIT[\"Foot_US\",0.3048006096012192]]"
}
},
"fullExtent": {
"xmin": 1001229.5598509084,
"ymin": 1650674.6042411693,
"xmax": 1208531.4125273,
"ymax": 1846594.5692217925,
"spatialReference": {
"wkt2": "PROJCRS[\"TNTmips_Georeference\",BASEGEOGCRS[\"GCS_North_American_1983\",DATUM[\"D_North_American_1983\",ELLIPSOID[\"GRS_1980\",6378137.0,298.257222101,LENGTHUNIT[\"Meter\",1.0]]],PRIMEM[\"Greenwich\",0.0,ANGLEUNIT[\"Degree\",0.0174532925199433]],CS[ellipsoidal,2],ANGLEUNIT[\"Degree\",0.0174532925199433]],CONVERSION[\"Transverse_Mercator\",METHOD[\"Transverse_Mercator\"],PARAMETER[\"false_easting\",984250.0,LENGTHUNIT[\"Foot_US\",0.3048006096012192]],PARAMETER[\"false_northing\",0.0,LENGTHUNIT[\"Foot_US\",0.3048006096012192]],PARAMETER[\"central_meridian\",-88.33333333333333,ANGLEUNIT[\"Degree\",0.0174532925199433]],PARAMETER[\"scale_factor\",0.999975,SCALEUNIT[\"Unity\",1.0]],PARAMETER[\"latitude_of_origin\",36.66666666666666,ANGLEUNIT[\"Degree\",0.0174532925199433]]],CS[Cartesian,2],AXIS[\"Easting (X)\",east,ORDER[1]],AXIS[\"Northing (Y)\",north,ORDER[2]],LENGTHUNIT[\"Foot_US\",0.3048006096012192]]",
"wkt": "PROJCS[\"TNTmips_Georeference\",GEOGCS[\"GCS_North_American_1983\",DATUM[\"D_North_American_1983\",SPHEROID[\"GRS_1980\",6378137.0,298.257222101]],PRIMEM[\"Greenwich\",0.0],UNIT[\"Degree\",0.0174532925199433]],PROJECTION[\"Transverse_Mercator\"],PARAMETER[\"false_easting\",984250.0],PARAMETER[\"false_northing\",0.0],PARAMETER[\"central_meridian\",-88.33333333333333],PARAMETER[\"scale_factor\",0.999975],PARAMETER[\"latitude_of_origin\",36.66666666666666],UNIT[\"Foot_US\",0.3048006096012192]]"
}
},
"sortableFields": "",
"bandCount": 1,
"pixelType": "U16",
"minValues": [
0
],
"maxValues": [
65535
],
"meanValues": [
50739.39590806964
],
"stdvValues": [
13220.020801856914
],
"hasMultidimensions": false,
"pixelSizeX": 1.6949996948242188,
"pixelSizeY": 1.694999999832362,
"meanPixelSize": 0.5166369867396364,
"datasetFormat": "SDR",
"uncompressedSize": 28273042548,
"blockWidth": 128,
"blockHeight": 128,
"compressionType": "LZ77",
"bandNames": [
"Band_1"
],
"allowCopy": true,
"allowAnalysis": true,
"itemAccess": false,
"inspectionCapabilities": "",
"minPixelSize": 0,
"maxPixelSize": 0,
"copyrightText": "University of Illinois Chicago Library",
"serviceDataType": "esriImageServiceDataTypeGeneric",
"serviceSourceType": "esriImageServiceSourceTypeDataset",
"objectIdField": "",
"fields": [],
"capabilities": "Mensuration,Image,Metadata",
"defaultMosaicMethod": "Center",
"allowedMosaicMethods": "",
"sortField": "",
"sortValue": null,
"sortAscending": true,
"mosaicOperator": "First",
"defaultCompressionQuality": 75,
"defaultResamplingMethod": "Bilinear",
"maxImageHeight": 4100,
"maxImageWidth": 15000,
"allowRasterFunction": true,
"rasterFunctionInfos": [
{
"name": "None",
"description": "",
"help": ""
}
],
"rasterTypeInfos": [
{
"name": "Raster Dataset",
"description": "Supports all ArcGIS Raster Datasets",
"help": ""
}
],
"mensurationCapabilities": "Basic",
"hasHistograms": true,
"hasColormap": false,
"hasRasterAttributeTable": false,
"minScale": 0,
"maxScale": 0,
"exportTilesAllowed": false,
"supportsStatistics": false,
"supportsAdvancedQueries": false,
"editFieldsInfo": null,
"ownershipBasedAccessControlForRasters": null,
"allowComputeTiePoints": false,
"useStandardizedQueries": true,
"advancedQueryCapabilities": {
"useStandardizedQueries": true,
"supportsStatistics": false,
"supportsOrderBy": false,
"supportsDistinct": false,
"supportsPagination": false
},
"spatialReference": {
"wkt2": "PROJCRS[\"TNTmips_Georeference\",BASEGEOGCRS[\"GCS_North_American_1983\",DATUM[\"D_North_American_1983\",ELLIPSOID[\"GRS_1980\",6378137.0,298.257222101,LENGTHUNIT[\"Meter\",1.0]]],PRIMEM[\"Greenwich\",0.0,ANGLEUNIT[\"Degree\",0.0174532925199433]],CS[ellipsoidal,2],ANGLEUNIT[\"Degree\",0.0174532925199433]],CONVERSION[\"Transverse_Mercator\",METHOD[\"Transverse_Mercator\"],PARAMETER[\"false_easting\",984250.0,LENGTHUNIT[\"Foot_US\",0.3048006096012192]],PARAMETER[\"false_northing\",0.0,LENGTHUNIT[\"Foot_US\",0.3048006096012192]],PARAMETER[\"central_meridian\",-88.33333333333333,ANGLEUNIT[\"Degree\",0.0174532925199433]],PARAMETER[\"scale_factor\",0.999975,SCALEUNIT[\"Unity\",1.0]],PARAMETER[\"latitude_of_origin\",36.66666666666666,ANGLEUNIT[\"Degree\",0.0174532925199433]]],CS[Cartesian,2],AXIS[\"Easting (X)\",east,ORDER[1]],AXIS[\"Northing (Y)\",north,ORDER[2]],LENGTHUNIT[\"Foot_US\",0.3048006096012192]]",
"wkt": "PROJCS[\"TNTmips_Georeference\",GEOGCS[\"GCS_North_American_1983\",DATUM[\"D_North_American_1983\",SPHEROID[\"GRS_1980\",6378137.0,298.257222101]],PRIMEM[\"Greenwich\",0.0],UNIT[\"Degree\",0.0174532925199433]],PROJECTION[\"Transverse_Mercator\"],PARAMETER[\"false_easting\",984250.0],PARAMETER[\"false_northing\",0.0],PARAMETER[\"central_meridian\",-88.33333333333333],PARAMETER[\"scale_factor\",0.999975],PARAMETER[\"latitude_of_origin\",36.66666666666666],UNIT[\"Foot_US\",0.3048006096012192]]"
},
"resampling": false
}