View In:
ArcGIS JavaScript
ArcGIS Online Map Viewer
ArcGIS Earth
Service Description: Orthoimagery/AerialBW1862
Name: Orthoimagery/AerialBW1862
Description:
Single Fused Map Cache: false
Extent:
XMin: 962839.4620981857
YMin: 1641570.897155223
XMax: 1239696.3763637058
YMax: 1863045.2996539213
Spatial Reference: 102671
(3435)
LatestVCSWkid(0)
Initial Extent:
XMin: 962839.4620981857
YMin: 1641570.897155223
XMax: 1239696.3763637058
YMax: 1863045.2996539213
Spatial Reference: 102671
(3435)
LatestVCSWkid(0)
Full Extent:
XMin: 962839.4620981857
YMin: 1641570.897155223
XMax: 1239696.3763637058
YMax: 1863045.2996539213
Spatial Reference: 102671
(3435)
LatestVCSWkid(0)
Pixel Size X: 14.656268621785081
Pixel Size Y: 14.469776721462063
Band Count: 3
Pixel Type: U8
RasterFunction Infos: {"rasterFunctionInfos": [{
"name": "None",
"description": "",
"help": ""
}]}
Mensuration Capabilities: Basic
Inspection Capabilities:
Has Histograms: true
Has Colormap: false
Has Multi Dimensions : false
Rendering Rule:
Min Scale: 0
Max Scale: 0
Resampling: false
Copyright Text:
Service Data Type: esriImageServiceDataTypeRGB
Min Values: 0, 0, 0
Max Values: 255, 255, 255
Mean Values: 173.30861027936396, 142.46081240384527, 106.5211243586543
Standard Deviation Values: 41.4295767178535, 33.86648976540438, 28.196581743062442
Object ID Field:
Fields:
None
Default Mosaic Method: Center
Allowed Mosaic Methods:
SortField:
SortValue: null
Mosaic Operator: First
Default Compression Quality: 75
Default Resampling Method: Bilinear
Max Record Count: null
Max Image Height: 4100
Max Image Width: 15000
Max Download Image Count: null
Max Mosaic Image Count: null
Allow Raster Function: true
Allow Copy: true
Allow Analysis: true
Allow Compute TiePoints: false
Supports Statistics: false
Supports Advanced Queries: false
Use StandardizedQueries: true
Raster Type Infos:
Name: Raster Dataset
Description: Supports all ArcGIS Raster Datasets
Help:
Has Raster Attribute Table: false
Edit Fields Info: null
Ownership Based AccessControl For Rasters: null
Child Resources:
Info
Histograms
Statistics
Key Properties
Legend
Raster Function Infos
Supported Operations:
Export Image
Identify
Measure
Compute Histograms
Compute Statistics Histograms
Get Samples
Compute Class Statistics
Query Boundary
Compute Pixel Location
Compute Angles
Validate
Project