{
 "currentVersion": 11.3,
 "serviceDescription": "Orthoimagery/AerialBW1862",
 "name": "Orthoimagery/AerialBW1862",
 "description": "",
 "extent": {
  "xmin": 962839.4620981857,
  "ymin": 1641570.897155223,
  "xmax": 1239696.3763637058,
  "ymax": 1863045.2996539213,
  "spatialReference": {
   "wkid": 102671,
   "latestWkid": 3435
  }
 },
 "initialExtent": {
  "xmin": 962839.4620981857,
  "ymin": 1641570.897155223,
  "xmax": 1239696.3763637058,
  "ymax": 1863045.2996539213,
  "spatialReference": {
   "wkid": 102671,
   "latestWkid": 3435
  }
 },
 "fullExtent": {
  "xmin": 962839.4620981857,
  "ymin": 1641570.897155223,
  "xmax": 1239696.3763637058,
  "ymax": 1863045.2996539213,
  "spatialReference": {
   "wkid": 102671,
   "latestWkid": 3435
  }
 },
 "sortableFields": "",
 "bandCount": 3,
 "pixelType": "U8",
 "minValues": [
  0,
  0,
  0
 ],
 "maxValues": [
  255,
  255,
  255
 ],
 "meanValues": [
  173.30861027936396,
  142.46081240384527,
  106.5211243586543
 ],
 "stdvValues": [
  41.4295767178535,
  33.86648976540438,
  28.196581743062442
 ],
 "hasMultidimensions": false,
 "pixelSizeX": 14.656268621785081,
 "pixelSizeY": 14.469776721462063,
 "meanPixelSize": 4.438818187947241,
 "datasetFormat": "SDR",
 "uncompressedSize": 867391020,
 "blockWidth": 128,
 "blockHeight": 128,
 "compressionType": "LZ77",
 "bandNames": [
  "Band_1",
  "Band_2",
  "Band_3"
 ],
 "allowCopy": true,
 "allowAnalysis": true,
 "itemAccess": false,
 "inspectionCapabilities": "",
 "minPixelSize": 0,
 "maxPixelSize": 0,
 "copyrightText": "",
 "serviceDataType": "esriImageServiceDataTypeRGB",
 "serviceSourceType": "esriImageServiceSourceTypeDataset",
 "objectIdField": "",
 "fields": [],
 "capabilities": "Mensuration,Image,Metadata",
 "defaultMosaicMethod": "Center",
 "allowedMosaicMethods": "",
 "sortField": "",
 "sortValue": null,
 "sortAscending": true,
 "mosaicOperator": "First",
 "defaultCompressionQuality": 75,
 "defaultResamplingMethod": "Bilinear",
 "maxImageHeight": 4100,
 "maxImageWidth": 15000,
 "allowRasterFunction": true,
 "rasterFunctionInfos": [
  {
   "name": "None",
   "description": "",
   "help": ""
  }
 ],
 "rasterTypeInfos": [
  {
   "name": "Raster Dataset",
   "description": "Supports all ArcGIS Raster Datasets",
   "help": ""
  }
 ],
 "mensurationCapabilities": "Basic",
 "hasHistograms": true,
 "hasColormap": false,
 "hasRasterAttributeTable": false,
 "minScale": 0,
 "maxScale": 0,
 "exportTilesAllowed": false,
 "supportsStatistics": false,
 "supportsAdvancedQueries": false,
 "editFieldsInfo": null,
 "ownershipBasedAccessControlForRasters": null,
 "allowComputeTiePoints": false,
 "useStandardizedQueries": true,
 "advancedQueryCapabilities": {
  "useStandardizedQueries": true,
  "supportsStatistics": false,
  "supportsOrderBy": false,
  "supportsDistinct": false,
  "supportsPagination": false
 },
 "spatialReference": {
  "wkid": 102671,
  "latestWkid": 3435
 },
 "resampling": false
}
