View In:
ArcGIS JavaScript
ArcGIS Online Map Viewer
ArcGIS Earth
Service Description: When only the ground returns in a classified point cloud are used, the resulting hydro-flattened grid of bare-earth elevations is a DTM. Also, lake surfaces are smoothed and stream courses are conditioned for downhill flow using breakline data. This subset of the processed returns from the airborne laser sensor represent the ground surface and is commonly referred to as the ‘Bare Earth’ point cloud.
Name: AyersDEM/Lidar2021_DTM
Description: When only the ground returns in a classified point cloud are used, the resulting hydro-flattened grid of bare-earth elevations is a DTM. Also, lake surfaces are smoothed and stream courses are conditioned for downhill flow using breakline data. This subset of the processed returns from the airborne laser sensor represent the ground surface and is commonly referred to as the ‘Bare Earth’ point cloud.
Single Fused Map Cache: false
Extent:
XMin: 1002589.4155724645
YMin: 1650355.5644751787
XMax: 1207209.4155724645
YMax: 1845260.5644751787
Spatial Reference: 103037
(6455)
VCSWkid(105703)
LatestVCSWkid(6360)
Initial Extent:
XMin: 1002589.4155724645
YMin: 1650355.5644751787
XMax: 1207209.4155724645
YMax: 1845260.5644751787
Spatial Reference: 103037
(6455)
VCSWkid(105703)
LatestVCSWkid(6360)
Full Extent:
XMin: 1002589.4155724645
YMin: 1650355.5644751787
XMax: 1207209.4155724645
YMax: 1845260.5644751787
Spatial Reference: 103037
(6455)
VCSWkid(105703)
LatestVCSWkid(6360)
Pixel Size X: 1.0
Pixel Size Y: 1.0
Band Count: 1
Pixel Type: F32
RasterFunction Infos: {"rasterFunctionInfos": [{
"name": "None",
"description": "",
"help": ""
}]}
Mensuration Capabilities: Basic
Inspection Capabilities:
Has Histograms: true
Has Colormap: false
Has Multi Dimensions : false
Rendering Rule:
Min Scale: 0
Max Scale: 0
Resampling: false
Copyright Text: Illinois State Geologic Survey
Service Data Type: esriImageServiceDataTypeGeneric
Min Values: 400.0179138183594
Max Values: 874.6615600585938
Mean Values: 661.8253641907822
Standard Deviation Values: 67.94947627471059
Object ID Field:
Fields:
None
Default Mosaic Method: Center
Allowed Mosaic Methods:
SortField:
SortValue: null
Mosaic Operator: First
Default Compression Quality: 75
Default Resampling Method: Bilinear
Max Record Count: null
Max Image Height: 4100
Max Image Width: 15000
Max Download Image Count: null
Max Mosaic Image Count: null
Allow Raster Function: true
Allow Copy: true
Allow Analysis: true
Allow Compute TiePoints: false
Supports Statistics: false
Supports Advanced Queries: false
Use StandardizedQueries: true
Raster Type Infos:
Name: Raster Dataset
Description: Supports all ArcGIS Raster Datasets
Help:
Has Raster Attribute Table: false
Edit Fields Info: null
Ownership Based AccessControl For Rasters: null
Child Resources:
Info
Histograms
Statistics
Key Properties
Legend
Raster Function Infos
Supported Operations:
Export Image
Identify
Measure
Compute Histograms
Compute Statistics Histograms
Get Samples
Compute Class Statistics
Query Boundary
Compute Pixel Location
Compute Angles
Validate
Project