{
 "currentVersion": 11.3,
 "serviceDescription": "When only the ground returns in a classified point cloud are used, the resulting hydro-flattened grid of bare-earth elevations is a DTM. Also, lake surfaces are smoothed and stream courses are conditioned for downhill flow using breakline data. This subset of the processed returns from the airborne laser sensor represent the ground surface and is commonly referred to as the \u2018Bare Earth\u2019 point cloud.<\/span>",
 "name": "AyersDEM/Lidar2021_DTM",
 "description": "When only the ground returns in a classified point cloud are used, the resulting hydro-flattened grid of bare-earth elevations is a DTM. Also, lake surfaces are smoothed and stream courses are conditioned for downhill flow using breakline data. This subset of the processed returns from the airborne laser sensor represent the ground surface and is commonly referred to as the \u2018Bare Earth\u2019 point cloud.<\/span>",
 "extent": {
  "xmin": 1002589.4155724645,
  "ymin": 1650355.5644751787,
  "xmax": 1207209.4155724645,
  "ymax": 1845260.5644751787,
  "spatialReference": {
   "wkid": 103037,
   "latestWkid": 6455,
   "vcsWkid": 105703,
   "latestVcsWkid": 6360
  }
 },
 "initialExtent": {
  "xmin": 1002589.4155724645,
  "ymin": 1650355.5644751787,
  "xmax": 1207209.4155724645,
  "ymax": 1845260.5644751787,
  "spatialReference": {
   "wkid": 103037,
   "latestWkid": 6455,
   "vcsWkid": 105703,
   "latestVcsWkid": 6360
  }
 },
 "fullExtent": {
  "xmin": 1002589.4155724645,
  "ymin": 1650355.5644751787,
  "xmax": 1207209.4155724645,
  "ymax": 1845260.5644751787,
  "spatialReference": {
   "wkid": 103037,
   "latestWkid": 6455,
   "vcsWkid": 105703,
   "latestVcsWkid": 6360
  }
 },
 "sortableFields": "",
 "heightModelInfo": {
  "heightModel": "gravity_related_height",
  "vertCRS": "NAVD88_height_(ftUS)",
  "heightUnit": "us-foot"
 },
 "bandCount": 1,
 "pixelType": "F32",
 "minValues": [
  400.0179138183594
 ],
 "maxValues": [
  874.6615600585938
 ],
 "meanValues": [
  661.8253641907822
 ],
 "stdvValues": [
  67.94947627471059
 ],
 "hasMultidimensions": false,
 "pixelSizeX": 1,
 "pixelSizeY": 1,
 "meanPixelSize": 0.30480060960121924,
 "datasetFormat": "SDR",
 "uncompressedSize": 159525844400,
 "blockWidth": 128,
 "blockHeight": 128,
 "compressionType": "LZ77",
 "bandNames": [
  "Band_1"
 ],
 "allowCopy": true,
 "allowAnalysis": true,
 "itemAccess": false,
 "inspectionCapabilities": "",
 "minPixelSize": 0,
 "maxPixelSize": 0,
 "copyrightText": "Illinois State Geologic Survey",
 "serviceDataType": "esriImageServiceDataTypeGeneric",
 "serviceSourceType": "esriImageServiceSourceTypeDataset",
 "objectIdField": "",
 "fields": [],
 "capabilities": "Mensuration,Image,Metadata",
 "defaultMosaicMethod": "Center",
 "allowedMosaicMethods": "",
 "sortField": "",
 "sortValue": null,
 "sortAscending": true,
 "mosaicOperator": "First",
 "defaultCompressionQuality": 75,
 "defaultResamplingMethod": "Bilinear",
 "maxImageHeight": 4100,
 "maxImageWidth": 15000,
 "allowRasterFunction": true,
 "rasterFunctionInfos": [
  {
   "name": "None",
   "description": "",
   "help": ""
  }
 ],
 "rasterTypeInfos": [
  {
   "name": "Raster Dataset",
   "description": "Supports all ArcGIS Raster Datasets",
   "help": ""
  }
 ],
 "mensurationCapabilities": "Basic",
 "hasHistograms": true,
 "hasColormap": false,
 "hasRasterAttributeTable": false,
 "minScale": 0,
 "maxScale": 0,
 "exportTilesAllowed": false,
 "supportsStatistics": false,
 "supportsAdvancedQueries": false,
 "editFieldsInfo": null,
 "ownershipBasedAccessControlForRasters": null,
 "allowComputeTiePoints": false,
 "useStandardizedQueries": true,
 "advancedQueryCapabilities": {
  "useStandardizedQueries": true,
  "supportsStatistics": false,
  "supportsOrderBy": false,
  "supportsDistinct": false,
  "supportsPagination": false
 },
 "spatialReference": {
  "wkid": 103037,
  "latestWkid": 6455,
  "vcsWkid": 105703,
  "latestVcsWkid": 6360
 },
 "resampling": false
}
