View In:
ArcGIS JavaScript
ArcGIS Online Map Viewer
ArcGIS Earth
ArcGIS Pro
Service Description: <p>United States. Commodity Stabilization Service.; Hycon Aerial Surveys, Inc.; Contact prints with stereoscopic coverage (60% overlap).; Complete in ca. 493 images.; Title from photomosaic index.; "Flying completed 7-12-54"--Index.; Flight dates: 5-29-54; 5-30-54; 6-11-54; 6-13-54; 6-15-54; 6-22-54; 6-24-54; 6-26-54; 6-28-54; 7-12-54.; Photos numbered BXK-1N-2 through BXK-10N-170. Numbers on west edge of photos.; Photomosaic index oriented with north to the right.; "Index copied 7-23-54."; Photomosaic index includes key to sheets.; "Invitation no. PMA-42-54-DC. Item no. 2."</p><p>Available at Richard J Daley Library Daley Library - Maps/3rd floor (non-circ) (G4103.W6A4 1954 .U5)</p>
Map Name: Orthos_1954_1M_BW_WM
Legend
All Layers and Tables
Dynamic Legend
Dynamic All Layers
Layers:
Description: United States. Commodity Stabilization Service.; Hycon Aerial Surveys, Inc.; Contact prints with stereoscopic coverage (60% overlap).; Complete in ca. 493 images.; Title from photomosaic index.; "Flying completed 7-12-54"--Index.; Flight dates: 5-29-54; 5-30-54; 6-11-54; 6-13-54; 6-15-54; 6-22-54; 6-24-54; 6-26-54; 6-28-54; 7-12-54.; Photos numbered BXK-1N-2 through BXK-10N-170. Numbers on west edge of photos.; Photomosaic index oriented with north to the right.; "Index copied 7-23-54."; Photomosaic index includes key to sheets.; "Invitation no. PMA-42-54-DC. Item no. 2."Available at Richard J Daley Library Daley Library - Maps/3rd floor (non-circ) (G4103.W6A4 1954 .U5)
Service Item Id: bbf38e1a78994357aeb9bb9ffc7a8dce
Copyright Text: University of Illinois Chicago Library
Spatial Reference:
102100
(3857)
Single Fused Map Cache: true
Tile Info:
- Height: 256.0
- Width: 256.0
- DPI: 96.0
-
Levels of Detail: 22
-
Level ID: 0
[ Start Tile, End Tile ]
- Resolution: 156543.03392799999
- Scale: 591657527.591555
-
Level ID: 1
[ Start Tile, End Tile ]
- Resolution: 78271.516963999893
- Scale: 295828763.79577702
-
Level ID: 2
[ Start Tile, End Tile ]
- Resolution: 39135.758482000099
- Scale: 147914381.89788899
-
Level ID: 3
[ Start Tile, End Tile ]
- Resolution: 19567.879240999901
- Scale: 73957190.948944002
-
Level ID: 4
[ Start Tile, End Tile ]
- Resolution: 9783.9396204999593
- Scale: 36978595.474472001
-
Level ID: 5
[ Start Tile, End Tile ]
- Resolution: 4891.9698102499797
- Scale: 18489297.737236001
-
Level ID: 6
[ Start Tile, End Tile ]
- Resolution: 2445.9849051249898
- Scale: 9244648.8686180003
-
Level ID: 7
[ Start Tile, End Tile ]
- Resolution: 1222.9924525624899
- Scale: 4622324.4343090001
-
Level ID: 8
[ Start Tile, End Tile ]
- Resolution: 611.49622628138002
- Scale: 2311162.2171550002
-
Level ID: 10
[ Start Tile, End Tile ]
- Resolution: 152.874056570411
- Scale: 577790.55428899999
-
Level ID: 11
[ Start Tile, End Tile ]
- Resolution: 76.437028285073197
- Scale: 288895.27714399999
-
Level ID: 13
[ Start Tile, End Tile ]
- Resolution: 19.109257071268299
- Scale: 72223.819285999998
-
Level ID: 14
[ Start Tile, End Tile ]
- Resolution: 9.5546285356341496
- Scale: 36111.909642999999
-
Level ID: 16
[ Start Tile, End Tile ]
- Resolution: 2.38865713397468
- Scale: 9027.9774109999998
-
Level ID: 17
[ Start Tile, End Tile ]
- Resolution: 1.1943285668550501
- Scale: 4513.9887049999998
-
Level ID: 19
[ Start Tile, End Tile ]
- Resolution: 0.29858214164761698
- Scale: 1128.4971760000001
-
Level ID: 20
[ Start Tile, End Tile ]
- Resolution: 0.14929107082380833
- Scale: 564.24858800000004
- Format: MIXED
- Compression Quality: 75.0
- Origin: X: -2.0037508342787E7
Y: 2.0037508342787E7
- Spatial Reference: 102100
(3857)
Storage Info:
- Storage Format: esriMapCacheStorageModeCompactV2
- Packet Size: 128
Initial Extent:
XMin: -9855715.957879191
YMin: 5015839.966043782
XMax: -9707584.473938106
YMax: 5144679.5126041295
Spatial Reference: 102100
(3857)
Full Extent:
XMin: -9826353.925847437
YMin: 5041293.51235322
XMax: -9741749.901641764
YMax: 5121597.7612823825
Spatial Reference: 102100
(3857)
Units: esriMeters
Supported Image Format Types: PNG32,PNG24,PNG,JPG,DIB,TIFF,EMF,PS,PDF,GIF,SVG,SVGZ,BMP
Document Info:
Title: Map
Author:
Comments:
Subject:
Category:
Keywords: Aerial,Orthoimagery,1954
AntialiasingMode: Fast
TextAntialiasingMode: Force
Supports Dynamic Layers: true
Resampling: false
MaxRecordCount: 2000
MaxSelectionCount: 2000
MaxImageHeight: 4096
MaxImageWidth: 4096
Supported Query Formats: JSON, geoJSON, PBF
Supports Query Data Elements: true
Min Scale: 591657527.591555
Max Scale: 500
Supports Datum Transformation: true
Child Resources:
Info
Dynamic Layer
Supported Operations:
Export Map
Identify
QueryLegends
QueryDomains
Find
Return Updates