View In:
ArcGIS JavaScript
ArcGIS Online Map Viewer
ArcGIS Earth
Service Description: The dataset consists of tiled orthogonal imagery produced from nadir images captured by Pictometry International.
Name: Orthoimagery/Orthos_2020_6IN
Description: The dataset consists of tiled orthogonal imagery produced from nadir images captured by Pictometry International.
Single Fused Map Cache: false
Extent:
XMin: 952354.5
YMin: 1648182.5
XMax: 1207785.5
YMax: 1854227.0
Spatial Reference: PROJCS["NAD_1983_Illinois_East_ftUS",GEOGCS["GCS_NAD83_1986",DATUM["D_North_American_1983",SPHEROID["GRS_1980",6378137.0,298.257222101]],PRIMEM["Greenwich",0.0],UNIT["Degree",0.0174532925199433]],PROJECTION["Transverse_Mercator"],PARAMETER["false_easting",984250.0],PARAMETER["false_northing",0.0],PARAMETER["central_meridian",-88.333333333333],PARAMETER["scale_factor",0.999975],PARAMETER["latitude_of_origin",36.666666666667],UNIT["US Survey Foot",0.3048006096012192]]
Initial Extent:
XMin: 952354.5
YMin: 1648182.5
XMax: 1207785.5
YMax: 1854227.0
Spatial Reference: PROJCS["NAD_1983_Illinois_East_ftUS",GEOGCS["GCS_NAD83_1986",DATUM["D_North_American_1983",SPHEROID["GRS_1980",6378137.0,298.257222101]],PRIMEM["Greenwich",0.0],UNIT["Degree",0.0174532925199433]],PROJECTION["Transverse_Mercator"],PARAMETER["false_easting",984250.0],PARAMETER["false_northing",0.0],PARAMETER["central_meridian",-88.333333333333],PARAMETER["scale_factor",0.999975],PARAMETER["latitude_of_origin",36.666666666667],UNIT["US Survey Foot",0.3048006096012192]]
Full Extent:
XMin: 952354.5
YMin: 1648182.5
XMax: 1207785.5
YMax: 1854227.0
Spatial Reference: PROJCS["NAD_1983_Illinois_East_ftUS",GEOGCS["GCS_NAD83_1986",DATUM["D_North_American_1983",SPHEROID["GRS_1980",6378137.0,298.257222101]],PRIMEM["Greenwich",0.0],UNIT["Degree",0.0174532925199433]],PROJECTION["Transverse_Mercator"],PARAMETER["false_easting",984250.0],PARAMETER["false_northing",0.0],PARAMETER["central_meridian",-88.333333333333],PARAMETER["scale_factor",0.999975],PARAMETER["latitude_of_origin",36.666666666667],UNIT["US Survey Foot",0.3048006096012192]]
Pixel Size X: 0.5
Pixel Size Y: 0.5
Band Count: 3
Pixel Type: U8
RasterFunction Infos: {"rasterFunctionInfos": [{
"help": "",
"name": "None",
"description": ""
}]}
Mensuration Capabilities: None
Inspection Capabilities:
Has Histograms: true
Has Colormap: false
Has Multi Dimensions : false
Rendering Rule:
Min Scale: 0
Max Scale: 0
Copyright Text: Pictometry International
Service Data Type: esriImageServiceDataTypeRGB
Min Values: 0, 0, 0
Max Values: 255, 255, 255
Mean Values: 137.26493775143967, 126.30866740693763, 91.258235524051244
Standard Deviation Values: 31.038124567418123, 25.359032693098747, 26.202142947468737
Object ID Field: OBJECTID
Fields:
-
OBJECTID
(
alias: OBJECTID, type: esriFieldTypeOID
)
-
Name
(
length: 200, alias: Name, type: esriFieldTypeString
)
-
MinPS
(
alias: MinPS, type: esriFieldTypeDouble
)
-
MaxPS
(
alias: MaxPS, type: esriFieldTypeDouble
)
-
LowPS
(
alias: LowPS, type: esriFieldTypeDouble
)
-
HighPS
(
alias: HighPS, type: esriFieldTypeDouble
)
-
Category
(
alias: Category, type: esriFieldTypeInteger
, Coded Values:
[0: Unknown]
, [1: Primary]
, [2: Overview]
, ...6 more...
)
-
Tag
(
length: 100, alias: Tag, type: esriFieldTypeString
)
-
GroupName
(
length: 100, alias: GroupName, type: esriFieldTypeString
)
-
ProductName
(
length: 100, alias: ProductName, type: esriFieldTypeString
)
-
CenterX
(
alias: CenterX, type: esriFieldTypeDouble
)
-
CenterY
(
alias: CenterY, type: esriFieldTypeDouble
)
-
ZOrder
(
alias: ZOrder, type: esriFieldTypeInteger
)
-
Shape
(
alias: Shape, type: esriFieldTypeGeometry
)
-
Shape.STArea()
(
alias: Shape.STArea(), type: esriFieldTypeDouble
)
-
Shape.STLength()
(
alias: Shape.STLength(), type: esriFieldTypeDouble
)
Default Mosaic Method: Northwest
Allowed Mosaic Methods: NorthWest,Center,LockRaster,ByAttribute,Nadir,Viewpoint,Seamline,None
SortField:
SortValue: N/A
Mosaic Operator: First
Default Compression Quality: 75
Default Resampling Method: Bilinear
Max Record Count: 1000
Max Image Height: 4100
Max Image Width: 15000
Max Download Image Count: 20
Max Mosaic Image Count: 20
Allow Raster Function: true
Allow Copy: true
Allow Analysis: true
Allow Compute TiePoints: false
Supports Statistics: true
Supports Advanced Queries: true
Use StandardizedQueries: true
Raster Type Infos:
Name: Raster Dataset
Description: Supports all ArcGIS Raster Datasets
Help:
Has Raster Attribute Table: false
Edit Fields Info: N/A
Ownership Based AccessControl For Rasters: N/A
Child Resources:
Info
Histograms
Statistics
Key Properties
Legend
Raster Function Infos
Supported Operations:
Export Image
Query
Identify
Compute Histograms
Compute Statistics Histograms
Get Samples
Compute Class Statistics
Query GPS Info
Find Images
Image to Map
Map to Image
Measure from Image
Image to Map Multiray
Query Boundary
Compute Pixel Location
Compute Angles
Validate
Project