View In:
ArcGIS JavaScript
ArcGIS Online Map Viewer
ArcGIS Earth
Service Description: This digital geospatial file consists of a series of raster digital orthophoto images covering all of Cook, DuPage, Grundy, Kane, Kendall, Lake, McHenry, and Will County, Illinois.
The images have a pixel resolution of 0.5 feet which generated an orthophotographic database with a mapping scale of 1" = 100'. The imagery for the "Countywide Flight" was collected between April 2, 2013 and May 7, 2013.
The imagery for the "Special Consideration Area" was collected between April 3, 2013 and June 14, 2013. (Refer to the relevant Process Step for a description of the principal differences between these two flights.)
A digital orthoimage is a raster image of remotely sensed data that has had displacement in the image introduced by sensor orientation and terrain relief removed. Digital orthoimages combine the image characteristics of photography with the geometric qualities of maps. The normal orientation of this data is by lines (rows) and samples (columns). Each sample in this data set contains a series of pixels ordered from west to east with the order of the lines from north to south.
The data set is tiled for dissemination into 18,905 separate tiles, each of which is 2500 feet on a side.
This digital geospatial file has been orthorectified using survey control points obtained through both Airborne Global Positioning Systems and Ground Control Survey. This dataset is projected using the Transverse Mercator map projection. The grid coordinate system used is the Illinois State Plane Coordinate System, East Zone (Zone Number Zone 3776, FIPS 1201), NAD 83 (NSRS2007) (horizontal datum), with ground coordinates expressed in U.S. Survey Feet.
Each tile consists of two files, a TIFF (Tagged Image File Format) (.tif), and an ASCII geo-referencing header file (.tfw). Each tile is approximately 100MB in size resulting in a total of 1.9TB for the region.
Name: Orthoimagery/Orthos_2013IR_6IN
Description: This digital geospatial file consists of a series of raster digital orthophoto images covering all of Cook, DuPage, Grundy, Kane, Kendall, Lake, McHenry, and Will County, Illinois.
The images have a pixel resolution of 0.5 feet which generated an orthophotographic database with a mapping scale of 1" = 100'. The imagery for the "Countywide Flight" was collected between April 2, 2013 and May 7, 2013.
The imagery for the "Special Consideration Area" was collected between April 3, 2013 and June 14, 2013. (Refer to the relevant Process Step for a description of the principal differences between these two flights.)
A digital orthoimage is a raster image of remotely sensed data that has had displacement in the image introduced by sensor orientation and terrain relief removed. Digital orthoimages combine the image characteristics of photography with the geometric qualities of maps. The normal orientation of this data is by lines (rows) and samples (columns). Each sample in this data set contains a series of pixels ordered from west to east with the order of the lines from north to south.
The data set is tiled for dissemination into 18,905 separate tiles, each of which is 2500 feet on a side.
This digital geospatial file has been orthorectified using survey control points obtained through both Airborne Global Positioning Systems and Ground Control Survey. This dataset is projected using the Transverse Mercator map projection. The grid coordinate system used is the Illinois State Plane Coordinate System, East Zone (Zone Number Zone 3776, FIPS 1201), NAD 83 (NSRS2007) (horizontal datum), with ground coordinates expressed in U.S. Survey Feet.
Each tile consists of two files, a TIFF (Tagged Image File Format) (.tif), and an ASCII geo-referencing header file (.tfw). Each tile is approximately 100MB in size resulting in a total of 1.9TB for the region.
Single Fused Map Cache: false
Extent:
XMin: 1002500.0
YMin: 1650000.0
XMax: 1207500.0
YMax: 1847500.0
Spatial Reference: PROJCS["NAD_1983_NSRS2007_StatePlane_Illinois_East_FIPS_1201_Ft_US",GEOGCS["GCS_NAD_1983_NSRS2007",DATUM["D_NAD_1983_NSRS2007",SPHEROID["GRS_1980",6378137.0,298.257222101]],PRIMEM["Greenwich",0.0],UNIT["Degree",0.0174532925199433]],PROJECTION["Transverse_Mercator"],PARAMETER["False_Easting",984250.0],PARAMETER["False_Northing",0.0],PARAMETER["Central_Meridian",-88.33333333333333],PARAMETER["Scale_Factor",0.999975],PARAMETER["Latitude_Of_Origin",36.66666666666666],UNIT["Foot_US",0.3048006096012192]],VERTCS["NAVD_1988",VDATUM["North_American_Vertical_Datum_1988"],PARAMETER["Vertical_Shift",0.0],PARAMETER["Direction",1.0],UNIT["Foot_US",0.3048006096012192]]
Initial Extent:
XMin: 1002500.0
YMin: 1650000.0
XMax: 1207500.0
YMax: 1847500.0
Spatial Reference: PROJCS["NAD_1983_NSRS2007_StatePlane_Illinois_East_FIPS_1201_Ft_US",GEOGCS["GCS_NAD_1983_NSRS2007",DATUM["D_NAD_1983_NSRS2007",SPHEROID["GRS_1980",6378137.0,298.257222101]],PRIMEM["Greenwich",0.0],UNIT["Degree",0.0174532925199433]],PROJECTION["Transverse_Mercator"],PARAMETER["False_Easting",984250.0],PARAMETER["False_Northing",0.0],PARAMETER["Central_Meridian",-88.33333333333333],PARAMETER["Scale_Factor",0.999975],PARAMETER["Latitude_Of_Origin",36.66666666666666],UNIT["Foot_US",0.3048006096012192]],VERTCS["NAVD_1988",VDATUM["North_American_Vertical_Datum_1988"],PARAMETER["Vertical_Shift",0.0],PARAMETER["Direction",1.0],UNIT["Foot_US",0.3048006096012192]]
Full Extent:
XMin: 1002500.0
YMin: 1650000.0
XMax: 1207500.0
YMax: 1847500.0
Spatial Reference: PROJCS["NAD_1983_NSRS2007_StatePlane_Illinois_East_FIPS_1201_Ft_US",GEOGCS["GCS_NAD_1983_NSRS2007",DATUM["D_NAD_1983_NSRS2007",SPHEROID["GRS_1980",6378137.0,298.257222101]],PRIMEM["Greenwich",0.0],UNIT["Degree",0.0174532925199433]],PROJECTION["Transverse_Mercator"],PARAMETER["False_Easting",984250.0],PARAMETER["False_Northing",0.0],PARAMETER["Central_Meridian",-88.33333333333333],PARAMETER["Scale_Factor",0.999975],PARAMETER["Latitude_Of_Origin",36.66666666666666],UNIT["Foot_US",0.3048006096012192]],VERTCS["NAVD_1988",VDATUM["North_American_Vertical_Datum_1988"],PARAMETER["Vertical_Shift",0.0],PARAMETER["Direction",1.0],UNIT["Foot_US",0.3048006096012192]]
Pixel Size X: 0.5
Pixel Size Y: 0.5
Band Count: 4
Pixel Type: U8
RasterFunction Infos: {"rasterFunctionInfos": [{
"help": "",
"name": "None",
"description": ""
}]}
Mensuration Capabilities: Basic
Inspection Capabilities:
Has Histograms: true
Has Colormap: false
Has Multi Dimensions : false
Rendering Rule:
Min Scale: 0
Max Scale: 0
Copyright Text: Cook County Board of Commissioners, Merrick & Company
Service Data Type: esriImageServiceDataTypeGeneric
Min Values: 1, 2, 3, 0
Max Values: 233, 235, 234, 225
Mean Values: 105.56375790946821, 102.87427458468501, 83.830003796864759, 116.07277267910804
Standard Deviation Values: 32.46087070739533, 30.774954471823502, 28.661718511764377, 33.586925365734551
Object ID Field: OBJECTID
Fields:
-
OBJECTID
(
alias: OBJECTID, type: esriFieldTypeOID
)
-
Name
(
length: 200, alias: Name, type: esriFieldTypeString
)
-
MinPS
(
alias: MinPS, type: esriFieldTypeDouble
)
-
MaxPS
(
alias: MaxPS, type: esriFieldTypeDouble
)
-
LowPS
(
alias: LowPS, type: esriFieldTypeDouble
)
-
HighPS
(
alias: HighPS, type: esriFieldTypeDouble
)
-
Category
(
alias: Category, type: esriFieldTypeInteger
, Coded Values:
[0: Unknown]
, [1: Primary]
, [2: Overview]
, ...6 more...
)
-
Tag
(
length: 100, alias: Tag, type: esriFieldTypeString
)
-
GroupName
(
length: 100, alias: GroupName, type: esriFieldTypeString
)
-
ProductName
(
length: 100, alias: ProductName, type: esriFieldTypeString
)
-
CenterX
(
alias: CenterX, type: esriFieldTypeDouble
)
-
CenterY
(
alias: CenterY, type: esriFieldTypeDouble
)
-
ZOrder
(
alias: ZOrder, type: esriFieldTypeInteger
)
-
Shape
(
alias: Shape, type: esriFieldTypeGeometry
)
-
Shape.STArea()
(
alias: Shape.STArea(), type: esriFieldTypeDouble
)
-
Shape.STLength()
(
alias: Shape.STLength(), type: esriFieldTypeDouble
)
Default Mosaic Method: Northwest
Allowed Mosaic Methods: NorthWest,Center,LockRaster,ByAttribute,Nadir,Viewpoint,Seamline,None
SortField:
SortValue: N/A
Mosaic Operator: First
Default Compression Quality: 75
Default Resampling Method: Bilinear
Max Record Count: 1000
Max Image Height: 4100
Max Image Width: 15000
Max Download Image Count: 20
Max Mosaic Image Count: 20
Allow Raster Function: true
Allow Copy: true
Allow Analysis: true
Allow Compute TiePoints: false
Supports Statistics: true
Supports Advanced Queries: true
Use StandardizedQueries: true
Raster Type Infos:
Name: Raster Dataset
Description: Supports all ArcGIS Raster Datasets
Help:
Has Raster Attribute Table: false
Edit Fields Info: N/A
Ownership Based AccessControl For Rasters: N/A
Child Resources:
Info
Histograms
Statistics
Key Properties
Legend
Raster Function Infos
Supported Operations:
Export Image
Query
Identify
Measure
Compute Histograms
Compute Statistics Histograms
Get Samples
Compute Class Statistics
Query GPS Info
Find Images
Image to Map
Map to Image
Measure from Image
Image to Map Multiray
Query Boundary
Compute Pixel Location
Compute Angles
Validate
Project