View In:
ArcGIS JavaScript
ArcGIS Online Map Viewer
ArcGIS Earth
Service Description: Orthoimagery/AERIALBW1970_FT
Name: Orthoimagery/AERIALBW1970_FT
Description:
Single Fused Map Cache: false
Extent:
XMin: 1003875.151846163
YMin: 1651676.0631350225
XMax: 1205878.341419096
YMax: 1843953.1198645693
Spatial Reference: 102671
(3435)
LatestVCSWkid(0)
Initial Extent:
XMin: 1003875.151846163
YMin: 1651676.0631350225
XMax: 1205878.341419096
YMax: 1843953.1198645693
Spatial Reference: 102671
(3435)
LatestVCSWkid(0)
Full Extent:
XMin: 1003875.151846163
YMin: 1651676.0631350225
XMax: 1205878.341419096
YMax: 1843953.1198645693
Spatial Reference: 102671
(3435)
LatestVCSWkid(0)
Pixel Size X: 1.3093878356739879
Pixel Size Y: 1.3093878356739879
Band Count: 1
Pixel Type: U8
RasterFunction Infos: {"rasterFunctionInfos": [{
"name": "None",
"description": "",
"help": ""
}]}
Mensuration Capabilities: Basic
Inspection Capabilities:
Has Histograms: true
Has Colormap: false
Has Multi Dimensions : false
Rendering Rule:
Min Scale: 0
Max Scale: 0
Resampling: false
Copyright Text:
Service Data Type: esriImageServiceDataTypeGeneric
Min Values: 12
Max Values: 255
Mean Values: 117.61403506275234
Standard Deviation Values: 43.015382934879966
Object ID Field:
Fields:
None
Default Mosaic Method: Center
Allowed Mosaic Methods:
SortField:
SortValue: null
Mosaic Operator: First
Default Compression Quality: 75
Default Resampling Method: Bilinear
Max Record Count: null
Max Image Height: 4100
Max Image Width: 15000
Max Download Image Count: null
Max Mosaic Image Count: null
Allow Raster Function: true
Allow Copy: true
Allow Analysis: true
Allow Compute TiePoints: false
Supports Statistics: false
Supports Advanced Queries: false
Use StandardizedQueries: true
Raster Type Infos:
Name: Raster Dataset
Description: Supports all ArcGIS Raster Datasets
Help:
Has Raster Attribute Table: false
Edit Fields Info: null
Ownership Based AccessControl For Rasters: null
Child Resources:
Info
Histograms
Statistics
Key Properties
Legend
Raster Function Infos
Supported Operations:
Export Image
Identify
Measure
Compute Histograms
Compute Statistics Histograms
Get Samples
Compute Class Statistics
Query Boundary
Compute Pixel Location
Compute Angles
Validate
Project