View In:
ArcGIS JavaScript
ArcGIS Online Map Viewer
ArcGIS Earth
Service Description: AyersDEM/cogis_DBO_Lidar2021_SoilErosionPA
Name: AyersDEM/cogis_DBO_Lidar2021_SoilErosionPA
Description:
Single Fused Map Cache: false
Extent:
XMin: 1003017.5183600044
YMin: 1652424.729115347
XMax: 1207213.5183600043
YMax: 1845000.729115347
Spatial Reference: 103037
(6455)
LatestVCSWkid(0)
Initial Extent:
XMin: 1003017.5183600044
YMin: 1652424.729115347
XMax: 1207213.5183600043
YMax: 1845000.729115347
Spatial Reference: 103037
(6455)
LatestVCSWkid(0)
Full Extent:
XMin: 1003017.5183600044
YMin: 1652424.729115347
XMax: 1207213.5183600043
YMax: 1845000.729115347
Spatial Reference: 103037
(6455)
LatestVCSWkid(0)
Pixel Size X: 1.999999999999999
Pixel Size Y: 2.0
Band Count: 1
Pixel Type: U4
RasterFunction Infos: {"rasterFunctionInfos": [{
"name": "None",
"description": "",
"help": ""
}]}
Mensuration Capabilities: Basic
Inspection Capabilities:
Has Histograms: true
Has Colormap: false
Has Multi Dimensions : false
Rendering Rule:
Min Scale: 0
Max Scale: 0
Resampling: false
Copyright Text:
Service Data Type: esriImageServiceDataTypeGeneric
Min Values: 1
Max Values: 1
Mean Values: 1
Standard Deviation Values: 0
Object ID Field:
Fields:
None
Default Mosaic Method: Center
Allowed Mosaic Methods:
SortField:
SortValue: null
Mosaic Operator: First
Default Compression Quality: 75
Default Resampling Method: Bilinear
Max Record Count: null
Max Image Height: 4100
Max Image Width: 15000
Max Download Image Count: null
Max Mosaic Image Count: null
Allow Raster Function: true
Allow Copy: true
Allow Analysis: true
Allow Compute TiePoints: false
Supports Statistics: false
Supports Advanced Queries: false
Use StandardizedQueries: true
Raster Type Infos:
Name: Raster Dataset
Description: Supports all ArcGIS Raster Datasets
Help:
Has Raster Attribute Table: false
Edit Fields Info: null
Ownership Based AccessControl For Rasters: null
Child Resources:
Info
Histograms
Statistics
Key Properties
Legend
Raster Function Infos
Supported Operations:
Export Image
Identify
Measure
Compute Histograms
Compute Statistics Histograms
Get Samples
Compute Class Statistics
Query Boundary
Compute Pixel Location
Compute Angles
Validate
Project