View In:
ArcGIS JavaScript
ArcGIS Online Map Viewer
ArcGIS Earth
Service Description: AyersDEM/Lidar2021_SoilErosion_RUSLE
Name: AyersDEM/Lidar2021_SoilErosion_RUSLE
Description:
Single Fused Map Cache: false
Extent:
XMin: 1002583.437994
YMin: 1650350.425327217
XMax: 1207215.4379939996
YMax: 1845266.4253272165
Spatial Reference: 103037
(6455)
LatestVCSWkid(0)
Initial Extent:
XMin: 1002583.437994
YMin: 1650350.425327217
XMax: 1207215.4379939996
YMax: 1845266.4253272165
Spatial Reference: 103037
(6455)
LatestVCSWkid(0)
Full Extent:
XMin: 1002583.437994
YMin: 1650350.425327217
XMax: 1207215.4379939996
YMax: 1845266.4253272165
Spatial Reference: 103037
(6455)
LatestVCSWkid(0)
Pixel Size X: 1.9999999999999956
Pixel Size Y: 1.9999999999999951
Band Count: 1
Pixel Type: F32
RasterFunction Infos: {"rasterFunctionInfos": [{
"name": "None",
"description": "",
"help": ""
}]}
Mensuration Capabilities: Basic
Inspection Capabilities:
Has Histograms: true
Has Colormap: false
Has Multi Dimensions : false
Rendering Rule:
Min Scale: 0
Max Scale: 0
Copyright Text:
Service Data Type: esriImageServiceDataTypeGeneric
Min Values: 0
Max Values: 827.1585083007812
Mean Values: 3.195968725738762
Standard Deviation Values: 8.517801934385524
Object ID Field:
Fields:
None
Default Mosaic Method: Center
Allowed Mosaic Methods:
SortField:
SortValue: null
Mosaic Operator: First
Default Compression Quality: 75
Default Resampling Method: Bilinear
Max Record Count: null
Max Image Height: 4100
Max Image Width: 15000
Max Download Image Count: null
Max Mosaic Image Count: null
Allow Raster Function: true
Allow Copy: true
Allow Analysis: true
Allow Compute TiePoints: false
Supports Statistics: false
Supports Advanced Queries: false
Use StandardizedQueries: true
Raster Type Infos:
Name: Raster Dataset
Description: Supports all ArcGIS Raster Datasets
Help:
Has Raster Attribute Table: false
Edit Fields Info: null
Ownership Based AccessControl For Rasters: null
Child Resources:
Info
Histograms
Statistics
Key Properties
Legend
Raster Function Infos
Supported Operations:
Export Image
Identify
Measure
Compute Histograms
Compute Statistics Histograms
Get Samples
Compute Class Statistics
Query Boundary
Compute Pixel Location
Compute Angles
Validate
Project