{
 "documentInfo": {
  "Category": "",
  "Keywords": "2013,6 inch,9 inch,Aerial,Aerials,Imagery,Orthos,Will County,Illinois,Raster,Web Mercator",
  "Version": "2.9.0",
  "Comments": "",
  "AntialiasingMode": "Fast",
  "Title": "Map1",
  "Author": "",
  "TextAntialiasingMode": "Force",
  "Subject": ""
 },
 "maxImageWidth": 4096,
 "wmtsScaleFactor": 0.00028000000000003521,
 "maxRecordCount": 2000,
 "tileInfo": {
  "lods": [
   {
    "level": 0,
    "scale": 591657527.591555,
    "resolution": 156543.03392799999
   },
   {
    "level": 1,
    "scale": 295828763.79577702,
    "resolution": 78271.516963999893
   },
   {
    "level": 2,
    "scale": 147914381.89788899,
    "resolution": 39135.758482000099
   },
   {
    "level": 3,
    "scale": 73957190.948944002,
    "resolution": 19567.879240999901
   },
   {
    "level": 4,
    "scale": 36978595.474472001,
    "resolution": 9783.9396204999593
   },
   {
    "level": 5,
    "scale": 18489297.737236001,
    "resolution": 4891.9698102499797
   },
   {
    "level": 6,
    "scale": 9244648.8686180003,
    "resolution": 2445.9849051249898
   },
   {
    "level": 7,
    "scale": 4622324.4343090001,
    "resolution": 1222.9924525624899
   },
   {
    "level": 8,
    "scale": 2311162.2171550002,
    "resolution": 611.49622628138002
   },
   {
    "level": 9,
    "scale": 1155581.108577,
    "resolution": 305.74811314055802
   },
   {
    "level": 10,
    "scale": 577790.55428899999,
    "resolution": 152.874056570411
   },
   {
    "level": 11,
    "scale": 288895.27714399999,
    "resolution": 76.437028285073197
   },
   {
    "level": 12,
    "scale": 144447.638572,
    "resolution": 38.218514142536598
   },
   {
    "level": 13,
    "scale": 72223.819285999998,
    "resolution": 19.109257071268299
   },
   {
    "level": 14,
    "scale": 36111.909642999999,
    "resolution": 9.5546285356341496
   },
   {
    "level": 15,
    "scale": 18055.954822,
    "resolution": 4.7773142679493699
   },
   {
    "level": 16,
    "scale": 9027.9774109999998,
    "resolution": 2.38865713397468
   },
   {
    "level": 17,
    "scale": 4513.9887049999998,
    "resolution": 1.1943285668550501
   },
   {
    "level": 18,
    "scale": 2256.994353,
    "resolution": 0.59716428355981699
   },
   {
    "level": 19,
    "scale": 1128.4971760000001,
    "resolution": 0.29858214164761698
   },
   {
    "level": 20,
    "scale": 564.24858800000004,
    "resolution": 0.14929107082380833
   },
   {
    "level": 21,
    "scale": 500,
    "resolution": 0.13229193125052918
   }
  ],
  "origin": {
   "x": -20037508.342787001,
   "y": 20037508.342787001
  },
  "format": "MIXED",
  "compressionQuality": 75,
  "rows": 256,
  "dpi": 96,
  "spatialReference": {
   "falseM": -100000,
   "xyTolerance": 0.001,
   "mUnits": 10000,
   "zUnits": 10000,
   "latestWkid": 3857,
   "zTolerance": 0.001,
   "wkid": 102100,
   "xyUnits": 148923141.928385377,
   "mTolerance": 0.001,
   "falseX": -20037700,
   "falseY": -30241100,
   "falseZ": -100000
  },
  "cols": 256
 },
 "description": "This ortho-mosaic (outside of Will County) is a visualization product and is not intended or valid for authoritative or definitive use, nor is it suitable for submittal to the USGS for funding reimbursement in such programs.The dataset consists of tiled orthogonal imagery produced from nadir images captured by Pictometry International.",
 "datesInUnknownTimezone": false,
 "supportsQueryDomains": true,
 "units": "esriMeters",
 "maxSelectionCount": 2000,
 "supportedImageFormatTypes": "PNG32,PNG24,PNG,JPG,DIB,TIFF,EMF,PS,PDF,GIF,SVG,SVGZ,BMP",
 "supportsClipping": true,
 "exportTilesAllowed": false,
 "maxImageHeight": 4096,
 "tables": [],
 "hasVersionedData": false,
 "supportsDatumTransformation": true,
 "cimVersion": "3.7.0",
 "supportsQueryDataElements": true,
 "layers": [
  {
   "subLayerIds": null,
   "maxScale": 0,
   "name": "County_Limits",
   "defaultVisibility": false,
   "id": 0,
   "minScale": 0,
   "supportsDynamicLegends": true,
   "type": "Feature Layer",
   "parentLayerId": -1,
   "geometryType": "esriGeometryPolygon"
  },
  {
   "subLayerIds": null,
   "maxScale": 0,
   "name": "ORTHOS2013IR_6IN",
   "defaultVisibility": true,
   "id": 1,
   "minScale": 0,
   "supportsDynamicLegends": true,
   "type": "Raster Layer",
   "parentLayerId": -1
  }
 ],
 "mapName": "Orthos_2013_CombinedRes_WM",
 "minScale": 591657527.591555,
 "archivingInfo": {
  "supportsHistoricMoment": false
 },
 "spatialReference": {
  "falseM": -100000,
  "xyTolerance": 0.001,
  "mUnits": 10000,
  "zUnits": 10000,
  "latestWkid": 3857,
  "zTolerance": 0.001,
  "wkid": 102100,
  "xyUnits": 10000,
  "mTolerance": 0.001,
  "falseX": -20037700,
  "falseY": -30241100,
  "falseZ": -100000
 },
 "tileImageInfo": {
  "bandCount": 1,
  "lercError": 0,
  "format": "MIXED",
  "compressionQuality": 75
 },
 "fullExtent": {
  "ymin": 5041023.5880808588,
  "xmin": -9825840.2448160406,
  "ymax": 5121968.1038859123,
  "xmax": -9742167.0265015326,
  "spatialReference": {
   "falseM": -100000,
   "xyTolerance": 0.001,
   "mUnits": 10000,
   "zUnits": 10000,
   "latestWkid": 3857,
   "zTolerance": 0.001,
   "wkid": 102100,
   "xyUnits": 10000,
   "mTolerance": 0.001,
   "falseX": -20037700,
   "falseY": -30241100,
   "falseZ": -100000
  }
 },
 "supportedExtensions": "",
 "serviceItemId": "93875998d1a1466b87957e828d130124",
 "capabilities": "Query,Map,Data",
 "supportsDynamicLayers": true,
 "maxScale": 500,
 "singleFusedMapCache": true,
 "currentVersion": 12.1,
 "storageInfo": {
  "storageFormat": "esriMapCacheStorageModeCompactV2",
  "packetSize": 128
 },
 "hasBranchVersionedData": false,
 "mapUnits": {
  "uwkid": 9001
 },
 "referenceScale": 0,
 "supportsSpatialFilter": true,
 "supportedQueryFormats": "JSON, geoJSON, PBF",
 "datumTransformations": [
  {
   "geoTransforms": [
    {
     "latestWkid": 108190,
     "transformForward": false,
     "wkid": 108190,
     "name": "WGS_1984_(ITRF00)_To_NAD_1983"
    }
   ]
  },
  {
   "geoTransforms": [
    {
     "latestWkid": 108190,
     "transformForward": true,
     "wkid": 108190,
     "name": "WGS_1984_(ITRF00)_To_NAD_1983"
    }
   ]
  },
  {
   "geoTransforms": [
    {
     "latestWkid": 108356,
     "transformForward": true,
     "wkid": 108356,
     "name": "NAD_1983_NSRS2007_To_NAD_1983_2011"
    },
    {
     "latestWkid": 108363,
     "transformForward": false,
     "wkid": 108363,
     "name": "WGS_1984_(ITRF08)_To_NAD_1983_2011"
    }
   ]
  },
  {
   "geoTransforms": [
    {
     "latestWkid": 108363,
     "transformForward": true,
     "wkid": 108363,
     "name": "WGS_1984_(ITRF08)_To_NAD_1983_2011"
    },
    {
     "latestWkid": 108356,
     "transformForward": false,
     "wkid": 108356,
     "name": "NAD_1983_NSRS2007_To_NAD_1983_2011"
    }
   ]
  }
 ],
 "initialExtent": {
  "ymin": 5029711.2103383541,
  "xmin": -9845178.8448944222,
  "ymax": 5135387.6383027118,
  "xmax": -9723678.8356979359,
  "spatialReference": {
   "falseM": -100000,
   "xyTolerance": 0.001,
   "mUnits": 10000,
   "zUnits": 10000,
   "latestWkid": 3857,
   "zTolerance": 0.001,
   "wkid": 102100,
   "xyUnits": 10000,
   "mTolerance": 0.001,
   "falseX": -20037700,
   "falseY": -30241100,
   "falseZ": -100000
  }
 },
 "serviceDescription": " This ortho-mosaic (outside of Will County) is a visualization product and is not intended or valid for authoritative or definitive use, nor is it suitable for submittal to the USGS for funding reimbursement in such programs.<\/p> The dataset consists of tiled orthogonal imagery produced from nadir images captured by Pictometry International.<\/p>",
 "copyrightText": "Merrick, Inc.; Pictometry International",
 "supportsTimeRelation": true
}
