<?xml version="1.0" encoding="UTF-8" standalone="no"?>
<metadata xml:lang="en">
<Esri>
<CreaDate>20200615</CreaDate>
<CreaTime>15415600</CreaTime>
<ArcGISFormat>1.0</ArcGISFormat>
<SyncOnce>FALSE</SyncOnce>
<DataProperties>
<lineage>
<Process Date="20180313" Name="" Time="112531" ToolSource="c:\program files (x86)\arcgis\desktop10.5\ArcToolbox\Toolboxes\Data Management Tools.tbx\CreateMosaicDataset" export="">CreateMosaicDataset "Database Connections\dbo to cogis.gissql.sde" Ortho2017_9IN "PROJCS['NAD_1983_Illinois_East_ftUS',GEOGCS['GCS_NAD83_1986',DATUM['D_North_American_1983',SPHEROID['GRS_1980',6378137.0,298.257222101]],PRIMEM['Greenwich',0.0],UNIT['Degree',0.0174532925199433]],PROJECTION['Transverse_Mercator'],PARAMETER['false_easting',984250.0],PARAMETER['false_northing',0.0],PARAMETER['central_meridian',-88.333333333333],PARAMETER['scale_factor',0.999975],PARAMETER['latitude_of_origin',36.666666666667],UNIT['US survey foot',0.3048006096012223]];-17463800 -46132600 137244822.078466;-100000 10000;-100000 10000;3.2808333333333E-03;0.001;0.001;IsHighPrecision" 3 8_BIT_UNSIGNED NONE #</Process>
<Process Date="20180316" Name="" Time="093205" ToolSource="c:\program files (x86)\arcgis\desktop10.5\ArcToolbox\Toolboxes\Data Management Tools.tbx\ChangePrivileges" export="">ChangePrivileges 'Database Connections\dbo to cogis.gissql.sde\cogis.DBO.Ortho2006P_6IN';'Database Connections\dbo to cogis.gissql.sde\cogis.DBO.Ortho2008_6IN';'Database Connections\dbo to cogis.gissql.sde\cogis.DBO.Ortho2009_1FT';'Database Connections\dbo to cogis.gissql.sde\cogis.DBO.Ortho2009P_6IN';'Database Connections\dbo to cogis.gissql.sde\cogis.DBO.Ortho2011P_1FT';'Database Connections\dbo to cogis.gissql.sde\cogis.DBO.Ortho2011P_6IN';'Database Connections\dbo to cogis.gissql.sde\cogis.DBO.Ortho2013_9IN';'Database Connections\dbo to cogis.gissql.sde\cogis.DBO.Ortho2013P_4IN';'Database Connections\dbo to cogis.gissql.sde\cogis.DBO.Ortho2015_9IN';'Database Connections\dbo to cogis.gissql.sde\cogis.DBO.Ortho2015P_4IN';'Database Connections\dbo to cogis.gissql.sde\cogis.DBO.Ortho2017_9IN';'Database Connections\dbo to cogis.gissql.sde\cogis.DBO.Ortho2017P_4IN';'Database Connections\dbo to cogis.gissql.sde\cogis.DBO.OrthoIR2009_6IN';'Database Connections\dbo to cogis.gissql.sde\cogis.DBO.OrthoIR2010_6IN';'Database Connections\dbo to cogis.gissql.sde\cogis.DBO.OrthoIR2011_6IN';'Database Connections\dbo to cogis.gissql.sde\cogis.DBO.OrthoIR2012_6IN';'Database Connections\dbo to cogis.gissql.sde\cogis.DBO.OrthoIR2013_6IN';'Database Connections\dbo to cogis.gissql.sde\cogis.DBO.OrthoIR2014_6IN';'Database Connections\dbo to cogis.gissql.sde\cogis.DBO.OrthoIR2015_6IN' ims GRANT #</Process>
<Process Date="20200616" Name="" Time="140246" ToolSource="c:\program files (x86)\arcgis\desktop10.5\ArcToolbox\Toolboxes\Data Management Tools.tbx\ChangePrivileges" export="">ChangePrivileges 'Database Connections\gisadminSQL to cogis.gissql01.sde\cogis.DBO.Ortho2004_6IN';'Database Connections\gisadminSQL to cogis.gissql01.sde\cogis.DBO.Ortho2005_1FT';'Database Connections\gisadminSQL to cogis.gissql01.sde\cogis.DBO.Ortho2006P_6IN';'Database Connections\gisadminSQL to cogis.gissql01.sde\cogis.DBO.Ortho2008_6IN';'Database Connections\gisadminSQL to cogis.gissql01.sde\cogis.DBO.Ortho2009_1FT';'Database Connections\gisadminSQL to cogis.gissql01.sde\cogis.DBO.Ortho2009IR_6IN';'Database Connections\gisadminSQL to cogis.gissql01.sde\cogis.DBO.Ortho2009P_6IN';'Database Connections\gisadminSQL to cogis.gissql01.sde\cogis.DBO.Ortho2010IR_6IN';'Database Connections\gisadminSQL to cogis.gissql01.sde\cogis.DBO.Ortho2011IR_6IN';'Database Connections\gisadminSQL to cogis.gissql01.sde\cogis.DBO.Ortho2011P_1FT';'Database Connections\gisadminSQL to cogis.gissql01.sde\cogis.DBO.Ortho2011P_6IN';'Database Connections\gisadminSQL to cogis.gissql01.sde\cogis.DBO.Ortho2012IR_6IN';'Database Connections\gisadminSQL to cogis.gissql01.sde\cogis.DBO.Ortho2013_9IN';'Database Connections\gisadminSQL to cogis.gissql01.sde\cogis.DBO.Ortho2013IR_6IN';'Database Connections\gisadminSQL to cogis.gissql01.sde\cogis.DBO.Ortho2013P_4IN';'Database Connections\gisadminSQL to cogis.gissql01.sde\cogis.DBO.Ortho2014IR_6IN';'Database Connections\gisadminSQL to cogis.gissql01.sde\cogis.DBO.Ortho2015_9IN';'Database Connections\gisadminSQL to cogis.gissql01.sde\cogis.DBO.Ortho2015IR_6IN';'Database Connections\gisadminSQL to cogis.gissql01.sde\cogis.DBO.Ortho2015P_4IN';'Database Connections\gisadminSQL to cogis.gissql01.sde\cogis.DBO.Ortho2017_9IN';'Database Connections\gisadminSQL to cogis.gissql01.sde\cogis.DBO.Ortho2017P_4IN';'Database Connections\gisadminSQL to cogis.gissql01.sde\cogis.DBO.Ortho2018_6IN';'Database Connections\gisadminSQL to cogis.gissql01.sde\cogis.DBO.Ortho2018P_4IN';'Database Connections\gisadminSQL to cogis.gissql01.sde\cogis.DBO.Ortho2019_6IN' ims GRANT AS_IS</Process>
<Process Date="20200616" Name="" Time="140336" ToolSource="c:\program files (x86)\arcgis\desktop10.5\ArcToolbox\Toolboxes\Data Management Tools.tbx\ChangePrivileges" export="">ChangePrivileges 'Database Connections\gisadminSQL to cogis.gissql01.sde\cogis.DBO.Ortho2004_6IN';'Database Connections\gisadminSQL to cogis.gissql01.sde\cogis.DBO.Ortho2005_1FT';'Database Connections\gisadminSQL to cogis.gissql01.sde\cogis.DBO.Ortho2006P_6IN';'Database Connections\gisadminSQL to cogis.gissql01.sde\cogis.DBO.Ortho2008_6IN';'Database Connections\gisadminSQL to cogis.gissql01.sde\cogis.DBO.Ortho2009_1FT';'Database Connections\gisadminSQL to cogis.gissql01.sde\cogis.DBO.Ortho2009IR_6IN';'Database Connections\gisadminSQL to cogis.gissql01.sde\cogis.DBO.Ortho2009P_6IN';'Database Connections\gisadminSQL to cogis.gissql01.sde\cogis.DBO.Ortho2010IR_6IN';'Database Connections\gisadminSQL to cogis.gissql01.sde\cogis.DBO.Ortho2011IR_6IN';'Database Connections\gisadminSQL to cogis.gissql01.sde\cogis.DBO.Ortho2011P_1FT';'Database Connections\gisadminSQL to cogis.gissql01.sde\cogis.DBO.Ortho2011P_6IN';'Database Connections\gisadminSQL to cogis.gissql01.sde\cogis.DBO.Ortho2012IR_6IN';'Database Connections\gisadminSQL to cogis.gissql01.sde\cogis.DBO.Ortho2013_9IN';'Database Connections\gisadminSQL to cogis.gissql01.sde\cogis.DBO.Ortho2013IR_6IN';'Database Connections\gisadminSQL to cogis.gissql01.sde\cogis.DBO.Ortho2013P_4IN';'Database Connections\gisadminSQL to cogis.gissql01.sde\cogis.DBO.Ortho2014IR_6IN';'Database Connections\gisadminSQL to cogis.gissql01.sde\cogis.DBO.Ortho2015_9IN';'Database Connections\gisadminSQL to cogis.gissql01.sde\cogis.DBO.Ortho2015IR_6IN';'Database Connections\gisadminSQL to cogis.gissql01.sde\cogis.DBO.Ortho2015P_4IN';'Database Connections\gisadminSQL to cogis.gissql01.sde\cogis.DBO.Ortho2017_9IN';'Database Connections\gisadminSQL to cogis.gissql01.sde\cogis.DBO.Ortho2017P_4IN';'Database Connections\gisadminSQL to cogis.gissql01.sde\cogis.DBO.Ortho2018_6IN';'Database Connections\gisadminSQL to cogis.gissql01.sde\cogis.DBO.Ortho2018P_4IN';'Database Connections\gisadminSQL to cogis.gissql01.sde\cogis.DBO.Ortho2019_6IN' pubeditor GRANT GRANT</Process>
</lineage>
<itemProps>
<itemName Sync="TRUE">cogis.DBO.Ortho2017_9IN</itemName>
<itemLocation>
<linkage Sync="TRUE">Server=gissql01; Service=sde:sqlserver:gissql01; Database=cogis; User=gisadmin; Version=dbo.DEFAULT</linkage>
<protocol Sync="TRUE">ArcSDE Connection</protocol>
</itemLocation>
<nativeExtBox>
<westBL Sync="TRUE">952354.500000</westBL>
<eastBL Sync="TRUE">1207785.000000</eastBL>
<southBL Sync="TRUE">1648182.750000</southBL>
<northBL Sync="TRUE">1854227.250000</northBL>
<exTypeCode Sync="TRUE">1</exTypeCode>
</nativeExtBox>
</itemProps>
<coordRef>
<type Sync="TRUE">Projected</type>
<geogcsn Sync="TRUE">GCS_NAD83_1986</geogcsn>
<csUnits Sync="TRUE">Linear Unit: US survey foot (0.304801)</csUnits>
<projcsn Sync="TRUE">NAD_1983_Illinois_East_ftUS</projcsn>
<peXml Sync="TRUE">&lt;ProjectedCoordinateSystem xsi:type='typens:ProjectedCoordinateSystem' xmlns:xsi='http://www.w3.org/2001/XMLSchema-instance' xmlns:xs='http://www.w3.org/2001/XMLSchema' xmlns:typens='http://www.esri.com/schemas/ArcGIS/10.8'&gt;&lt;WKT&gt;PROJCS[&amp;quot;NAD_1983_Illinois_East_ftUS&amp;quot;,GEOGCS[&amp;quot;GCS_NAD83_1986&amp;quot;,DATUM[&amp;quot;D_North_American_1983&amp;quot;,SPHEROID[&amp;quot;GRS_1980&amp;quot;,6378137.0,298.257222101]],PRIMEM[&amp;quot;Greenwich&amp;quot;,0.0],UNIT[&amp;quot;Degree&amp;quot;,0.0174532925199433]],PROJECTION[&amp;quot;Transverse_Mercator&amp;quot;],PARAMETER[&amp;quot;false_easting&amp;quot;,984250.0],PARAMETER[&amp;quot;false_northing&amp;quot;,0.0],PARAMETER[&amp;quot;central_meridian&amp;quot;,-88.333333333333],PARAMETER[&amp;quot;scale_factor&amp;quot;,0.999975],PARAMETER[&amp;quot;latitude_of_origin&amp;quot;,36.666666666667],UNIT[&amp;quot;US survey foot&amp;quot;,0.3048006096012192]]&lt;/WKT&gt;&lt;XOrigin&gt;-17463800&lt;/XOrigin&gt;&lt;YOrigin&gt;-46132600&lt;/YOrigin&gt;&lt;XYScale&gt;137244822.07846552&lt;/XYScale&gt;&lt;ZOrigin&gt;-100000&lt;/ZOrigin&gt;&lt;ZScale&gt;10000&lt;/ZScale&gt;&lt;MOrigin&gt;-100000&lt;/MOrigin&gt;&lt;MScale&gt;10000&lt;/MScale&gt;&lt;XYTolerance&gt;0.0032808333333333331&lt;/XYTolerance&gt;&lt;ZTolerance&gt;0.001&lt;/ZTolerance&gt;&lt;MTolerance&gt;0.001&lt;/MTolerance&gt;&lt;HighPrecision&gt;true&lt;/HighPrecision&gt;&lt;/ProjectedCoordinateSystem&gt;</peXml>
</coordRef>
<RasterProperties>
<General>
<PixelDepth Sync="TRUE">8</PixelDepth>
<HasColormap Sync="TRUE">FALSE</HasColormap>
<CompressionType Sync="TRUE">None</CompressionType>
<NumBands Sync="TRUE">3</NumBands>
<Format Sync="TRUE">AMD</Format>
<HasPyramids Sync="TRUE">TRUE</HasPyramids>
<SourceType Sync="TRUE">continuous</SourceType>
<PixelType Sync="TRUE">unsigned integer</PixelType>
<NoDataValue Sync="TRUE"/>
</General>
<Properties>
<MaxImageHeight Sync="TRUE">4100</MaxImageHeight>
<MaxImageWidth Sync="TRUE">15000</MaxImageWidth>
<MaxRecordCount Sync="TRUE">1000</MaxRecordCount>
<MaxDownloadImageCount Sync="TRUE">20</MaxDownloadImageCount>
<MaxDownloadSizeLimit Sync="TRUE">2048</MaxDownloadSizeLimit>
<MaxMosaicImageCount Sync="TRUE">20</MaxMosaicImageCount>
<DefaultCompressionQuality Sync="TRUE">75</DefaultCompressionQuality>
<DefaultCompressionTolerance Sync="TRUE">0.01</DefaultCompressionTolerance>
<BlendWidth Sync="TRUE">10</BlendWidth>
<ViewpointSpacingX Sync="TRUE">600</ViewpointSpacingX>
<ViewpointSpacingY Sync="TRUE">300</ViewpointSpacingY>
<AllowedItemMetadata Sync="TRUE">Basic</AllowedItemMetadata>
<DefaultResamplingMethod Sync="TRUE">1</DefaultResamplingMethod>
<AllowedMosaicMethods Sync="TRUE">NorthWest,Center,LockRaster,ByAttribute,Nadir,Viewpoint,Seamline,None</AllowedMosaicMethods>
<AllowedCompressions Sync="TRUE">None,JPEG,LZ77,LERC</AllowedCompressions>
<AllowedMensurationCapabilities Sync="TRUE">Basic</AllowedMensurationCapabilities>
<AvailableMensurationCapabilities Sync="TRUE">None,Basic,Base-Top Height,Top-Top Shadow Height,Base-Top Shadow Height,3D</AvailableMensurationCapabilities>
<ClipToBoundary Sync="TRUE">-1</ClipToBoundary>
<FootprintMayContainNoData Sync="TRUE">-1</FootprintMayContainNoData>
<CellSizeTolerance Sync="TRUE">0.8</CellSizeTolerance>
<MinimumPixelContribution Sync="TRUE">1</MinimumPixelContribution>
<AvailableMosaicMethods Sync="TRUE">NorthWest,Center,LockRaster,ByAttribute,Nadir,Viewpoint,Seamline,None</AvailableMosaicMethods>
<AvailableCompressionMethods Sync="TRUE">None,JPEG,LZ77,LERC</AvailableCompressionMethods>
<AvailableItemMetadataLevels Sync="TRUE">None,Basic,Full</AvailableItemMetadataLevels>
<BandDefinitionKeyword Sync="TRUE">NONE</BandDefinitionKeyword>
<AllowedFields Sync="TRUE">Name,MinPS,MaxPS,LowPS,HighPS,Tag,GroupName,ProductName,CenterX,CenterY,ZOrder,Shape.STArea(),Shape.STLength()</AllowedFields>
<MaxCellSize Sync="TRUE">36450</MaxCellSize>
<LowCellSize Sync="TRUE">0.75</LowCellSize>
<HighCellSize Sync="TRUE">729</HighCellSize>
<ApplyColorCorrection Sync="TRUE">0</ApplyColorCorrection>
</Properties>
<Functions Sync="TRUE">
<Function Description="Performs on-the-fly mosaic on a raster catalog." Name="Mosaic Function"/>
</Functions>
</RasterProperties>
</DataProperties>
<ModDate>20220801</ModDate>
<ModTime>10433400</ModTime>
<SyncDate>20220801</SyncDate>
<SyncTime>10433400</SyncTime>
<scaleRange>
<minScale>625000</minScale>
<maxScale>5000</maxScale>
</scaleRange>
<ArcGISProfile>ItemDescription</ArcGISProfile>
</Esri>
<mdDateSt Sync="TRUE">20220801</mdDateSt>
<dataIdInfo>
<envirDesc Sync="TRUE"> Version 6.2 (Build 9200) ; Esri ArcGIS 10.9.1.28388</envirDesc>
<dataLang>
<languageCode Sync="TRUE" value="eng"/>
<countryCode Sync="TRUE" value="USA"/>
</dataLang>
<idCitation>
<resTitle Sync="FALSE">cogis_DBO_Ortho2017_9IN</resTitle>
<presForm>
<PresFormCd Sync="TRUE" value="005"/>
</presForm>
</idCitation>
<spatRpType>
<SpatRepTypCd Sync="TRUE" value="002"/>
</spatRpType>
<dataExt>
<geoEle>
<GeoBndBox esriExtentType="search">
<exTypeCode Sync="TRUE">1</exTypeCode>
<westBL Sync="TRUE">-88.450234</westBL>
<eastBL Sync="TRUE">-87.514091</eastBL>
<northBL Sync="TRUE">41.757509</northBL>
<southBL Sync="TRUE">41.189165</southBL>
</GeoBndBox>
</geoEle>
</dataExt>
<idPurp>This ortho-mosaic dataset is a visualization product and is not intended or valid for authoritative or definitive use, nor is it suitable for submittal to the USGS for funding reimbursement in such programs.</idPurp>
<idAbs>&lt;DIV STYLE="text-align:Left;"&gt;&lt;DIV&gt;&lt;DIV&gt;&lt;P&gt;&lt;SPAN&gt;The mosaic dataset consists of tiled orthogonal imagery produced from nadir images captured by Pictometry International.&lt;/SPAN&gt;&lt;/P&gt;&lt;/DIV&gt;&lt;/DIV&gt;&lt;/DIV&gt;</idAbs>
<idCredit>Pictometry International</idCredit>
<searchKeys>
<keyword>Illinois</keyword>
<keyword>county</keyword>
<keyword>Will</keyword>
<keyword>Pictometry</keyword>
<keyword>orthogonal imagery</keyword>
<keyword>9 INCH</keyword>
<keyword>mosaic dataset</keyword>
</searchKeys>
<resConst>
<Consts>
<useLimit>&lt;DIV STYLE="text-align:Left;"&gt;&lt;DIV&gt;&lt;DIV&gt;&lt;P&gt;&lt;SPAN&gt;Use of this dataset is constrained by the relevant Pictometry International Corp. license agreement&lt;/SPAN&gt;&lt;/P&gt;&lt;/DIV&gt;&lt;/DIV&gt;&lt;/DIV&gt;</useLimit>
</Consts>
</resConst>
</dataIdInfo>
<mdLang>
<languageCode Sync="TRUE" value="eng"/>
<countryCode Sync="TRUE" value="USA"/>
</mdLang>
<refSysInfo>
<RefSystem>
<refSysID>
<identCode Sync="TRUE" code="0"/>
</refSysID>
</RefSystem>
</refSysInfo>
<spatRepInfo>
<Georect>
<cellGeo>
<CellGeoCd Sync="TRUE" value="002"/>
</cellGeo>
<numDims Sync="TRUE">2</numDims>
<tranParaAv Sync="TRUE">1</tranParaAv>
<chkPtAv Sync="TRUE">0</chkPtAv>
<cornerPts>
<pos Sync="TRUE">952354.500000 1648182.750000</pos>
</cornerPts>
<cornerPts>
<pos Sync="TRUE">952354.500000 1854227.250000</pos>
</cornerPts>
<cornerPts>
<pos Sync="TRUE">1207785.000000 1854227.250000</pos>
</cornerPts>
<cornerPts>
<pos Sync="TRUE">1207785.000000 1648182.750000</pos>
</cornerPts>
<centerPt>
<pos Sync="TRUE">1080069.750000 1751205.000000</pos>
</centerPt>
<axisDimension type="002">
<dimSize Sync="TRUE">340574</dimSize>
<dimResol>
<value Sync="TRUE" uom="ftUS">0.750000</value>
</dimResol>
</axisDimension>
<axisDimension type="001">
<dimSize Sync="TRUE">274726</dimSize>
<dimResol>
<value Sync="TRUE" uom="ftUS">0.750000</value>
</dimResol>
</axisDimension>
<ptInPixel>
<PixOrientCd Sync="TRUE" value="001"/>
</ptInPixel>
</Georect>
</spatRepInfo>
<contInfo>
<ImgDesc>
<contentTyp>
<ContentTypCd Sync="TRUE" value="001"/>
</contentTyp>
<covDim>
<Band>
<dimDescrp Sync="TRUE">Band_1</dimDescrp>
<maxVal Sync="TRUE">255.000000</maxVal>
<minVal Sync="TRUE">0.000000</minVal>
<bitsPerVal Sync="TRUE">8</bitsPerVal>
<valUnit>
<UOM type="length"/>
</valUnit>
</Band>
<Band>
<dimDescrp Sync="TRUE">Band_2</dimDescrp>
<maxVal Sync="TRUE">255.000000</maxVal>
<minVal Sync="TRUE">0.000000</minVal>
<bitsPerVal Sync="TRUE">8</bitsPerVal>
<valUnit>
<UOM type="length"/>
</valUnit>
</Band>
<Band>
<dimDescrp Sync="TRUE">Band_3</dimDescrp>
<maxVal Sync="TRUE">255.000000</maxVal>
<minVal Sync="TRUE">0.000000</minVal>
<bitsPerVal Sync="TRUE">8</bitsPerVal>
<valUnit>
<UOM type="length"/>
</valUnit>
</Band>
</covDim>
</ImgDesc>
</contInfo>
<mdHrLv>
<ScopeCd value="005"/>
</mdHrLv>
</metadata>
