<?xml version="1.0" encoding="UTF-8" standalone="no"?>
<metadata xml:lang="en">
<Esri>
<CreaDate>20220706</CreaDate>
<CreaTime>14371100</CreaTime>
<ArcGISFormat>1.0</ArcGISFormat>
<SyncOnce>FALSE</SyncOnce>
<DataProperties>
<lineage>
<Process Date="20220706" Name="" Time="135516" ToolSource="c:\program files\arcgis\pro\Resources\ArcToolbox\toolboxes\Data Management Tools.tbx\CreateMosaicDataset" export="">CreateMosaicDataset \\gisbds\Imagery\Imagery.gdb Ortho2021_6IN PROJCS["NAD_1983_StatePlane_Illinois_East_FIPS_1201_Feet",GEOGCS["GCS_North_American_1983",DATUM["D_North_American_1983",SPHEROID["GRS_1980",6378137.0,298.257222101]],PRIMEM["Greenwich",0.0],UNIT["Degree",0.0174532925199433]],PROJECTION["Transverse_Mercator"],PARAMETER["False_Easting",984250.0],PARAMETER["False_Northing",0.0],PARAMETER["Central_Meridian",-88.33333333333333],PARAMETER["Scale_Factor",0.999975],PARAMETER["Latitude_Of_Origin",36.66666666666666],UNIT["Foot_US",0.3048006096012192]] 3 "8-bit unsigned" "Natural color" "Red 630 690;Green 530 570;Blue 440 510"</Process>
<Process Date="20220706" Name="" Time="143137" ToolSource="c:\program files\arcgis\pro\Resources\ArcToolbox\toolboxes\Data Management Tools.tbx\AddRastersToMosaicDataset" export="">AddRastersToMosaicDataset \\gisbds\Imagery\Imagery.gdb\Ortho2021_6IN "Raster Dataset" \\gisbds\Imagery\2021\GeoTiffs UPDATE_CELL_SIZES UPDATE_BOUNDARY UPDATE_OVERVIEWS # 0 1500 # # SUBFOLDERS "Allow duplicates" NO_PYRAMIDS NO_STATISTICS NO_THUMBNAILS # NO_FORCE_SPATIAL_REFERENCE NO_STATISTICS # NO_PIXEL_CACHE C:\Users\gjohnson\AppData\Local\ESRI\rasterproxies\Ortho2021_6IN</Process>
<Process Date="20220706" Name="" Time="143311" ToolSource="c:\program files\arcgis\pro\Resources\ArcToolbox\toolboxes\Data Management Tools.tbx\Rename" export="">Rename \\gisbds\Imagery\Imagery.gdb\Ortho2021_6IN \\gisbds\Imagery\Imagery.gdb\Ortho2021_6IN_BDS MosaicDataset</Process>
<Process Date="20240105" Time="083230" ToolSource="c:\program files (x86)\arcgis\desktop10.8\ArcToolbox\Toolboxes\Data Management Tools.tbx\RepairMosaicDatasetPaths">RepairMosaicDatasetPaths "Database Connections\gisadminSQL to cogis.gissql01.sde\DBO.Ortho2021_6IN" "# \\gisbds\Imagery\2021\GeoTiffs \\gissql01\imagery\2021\GeoTiffs" #</Process>
<Process Date="20240826" Time="131054" ToolSource="c:\program files\arcgis\pro\Resources\ArcToolbox\toolboxes\Data Management Tools.tbx\ChangePrivileges">ChangePrivileges \\gisfile\gisstaff\SQLServer-gissql-cogis.sde\DBO.Ortho2023_6IN;\\gisfile\gisstaff\SQLServer-gissql-cogis.sde\DBO.Ortho2020P_3IN;\\gisfile\gisstaff\SQLServer-gissql-cogis.sde\DBO.Ortho2021_6IN;\\gisfile\gisstaff\SQLServer-gissql-cogis.sde\DBO.Ortho2022IR_3IN ims "Grant view privileges" "Do not change edit privileges"</Process>
</lineage>
<itemProps>
<itemLocation>
<linkage Sync="TRUE">Server=gissql01; Service=sde:sqlserver:gissql01; Database=cogis; User=gisadmin; Version=dbo.DEFAULT</linkage>
<protocol Sync="TRUE">ArcSDE Connection</protocol>
</itemLocation>
<itemName Sync="TRUE">DBO.Ortho2021_6IN</itemName>
<nativeExtBox>
<westBL Sync="TRUE">952021.000000</westBL>
<eastBL Sync="TRUE">1208101.000000</eastBL>
<southBL Sync="TRUE">1647853.000000</southBL>
<northBL Sync="TRUE">1856413.000000</northBL>
<exTypeCode Sync="TRUE">1</exTypeCode>
</nativeExtBox>
<imsContentType>002</imsContentType>
</itemProps>
<coordRef>
<type Sync="TRUE">Projected</type>
<geogcsn Sync="TRUE">GCS_North_American_1983</geogcsn>
<csUnits Sync="TRUE">Linear Unit: Foot_US (0.304801)</csUnits>
<projcsn Sync="TRUE">NAD_1983_StatePlane_Illinois_East_FIPS_1201_Feet</projcsn>
<peXml Sync="TRUE">&lt;ProjectedCoordinateSystem xsi:type='typens:ProjectedCoordinateSystem' xmlns:xsi='http://www.w3.org/2001/XMLSchema-instance' xmlns:xs='http://www.w3.org/2001/XMLSchema' xmlns:typens='http://www.esri.com/schemas/ArcGIS/10.8'&gt;&lt;WKT&gt;PROJCS[&amp;quot;NAD_1983_StatePlane_Illinois_East_FIPS_1201_Feet&amp;quot;,GEOGCS[&amp;quot;GCS_North_American_1983&amp;quot;,DATUM[&amp;quot;D_North_American_1983&amp;quot;,SPHEROID[&amp;quot;GRS_1980&amp;quot;,6378137.0,298.257222101]],PRIMEM[&amp;quot;Greenwich&amp;quot;,0.0],UNIT[&amp;quot;Degree&amp;quot;,0.0174532925199433]],PROJECTION[&amp;quot;Transverse_Mercator&amp;quot;],PARAMETER[&amp;quot;False_Easting&amp;quot;,984250.0],PARAMETER[&amp;quot;False_Northing&amp;quot;,0.0],PARAMETER[&amp;quot;Central_Meridian&amp;quot;,-88.33333333333333],PARAMETER[&amp;quot;Scale_Factor&amp;quot;,0.999975],PARAMETER[&amp;quot;Latitude_Of_Origin&amp;quot;,36.66666666666666],UNIT[&amp;quot;Foot_US&amp;quot;,0.3048006096012192],AUTHORITY[&amp;quot;EPSG&amp;quot;,3435]]&lt;/WKT&gt;&lt;XOrigin&gt;-17463800&lt;/XOrigin&gt;&lt;YOrigin&gt;-46132600&lt;/YOrigin&gt;&lt;XYScale&gt;137244822.07846552&lt;/XYScale&gt;&lt;ZOrigin&gt;-100000&lt;/ZOrigin&gt;&lt;ZScale&gt;10000&lt;/ZScale&gt;&lt;MOrigin&gt;-100000&lt;/MOrigin&gt;&lt;MScale&gt;10000&lt;/MScale&gt;&lt;XYTolerance&gt;0.0032808333333333331&lt;/XYTolerance&gt;&lt;ZTolerance&gt;0.001&lt;/ZTolerance&gt;&lt;MTolerance&gt;0.001&lt;/MTolerance&gt;&lt;HighPrecision&gt;true&lt;/HighPrecision&gt;&lt;WKID&gt;102671&lt;/WKID&gt;&lt;LatestWKID&gt;3435&lt;/LatestWKID&gt;&lt;/ProjectedCoordinateSystem&gt;</peXml>
</coordRef>
<RasterProperties>
<General>
<PixelDepth Sync="TRUE">8</PixelDepth>
<HasColormap Sync="TRUE">FALSE</HasColormap>
<CompressionType Sync="TRUE">None</CompressionType>
<NumBands Sync="TRUE">3</NumBands>
<Format Sync="TRUE">AMD</Format>
<HasPyramids Sync="TRUE">TRUE</HasPyramids>
<SourceType Sync="TRUE">continuous</SourceType>
<PixelType Sync="TRUE">unsigned integer</PixelType>
<NoDataValue Sync="TRUE"/>
</General>
<Properties>
<MaxImageHeight Sync="TRUE">4100</MaxImageHeight>
<MaxImageWidth Sync="TRUE">15000</MaxImageWidth>
<MaxRecordCount Sync="TRUE">1000</MaxRecordCount>
<MaxDownloadImageCount Sync="TRUE">20</MaxDownloadImageCount>
<MaxDownloadSizeLimit Sync="TRUE">2048</MaxDownloadSizeLimit>
<MaxMosaicImageCount Sync="TRUE">20</MaxMosaicImageCount>
<DefaultCompressionQuality Sync="TRUE">75</DefaultCompressionQuality>
<DefaultCompressionTolerance Sync="TRUE">0.01</DefaultCompressionTolerance>
<BlendWidth Sync="TRUE">10</BlendWidth>
<ViewpointSpacingX Sync="TRUE">600</ViewpointSpacingX>
<ViewpointSpacingY Sync="TRUE">300</ViewpointSpacingY>
<AllowedItemMetadata Sync="TRUE">Basic</AllowedItemMetadata>
<DefaultResamplingMethod Sync="TRUE">1</DefaultResamplingMethod>
<AllowedMosaicMethods Sync="TRUE">NorthWest,Center,LockRaster,ByAttribute,Nadir,Viewpoint,Seamline,None</AllowedMosaicMethods>
<AllowedCompressions Sync="TRUE">None,JPEG,LZ77,LERC</AllowedCompressions>
<AllowedMensurationCapabilities Sync="TRUE">Basic</AllowedMensurationCapabilities>
<AvailableMensurationCapabilities Sync="TRUE">None,Basic,Base-Top Height,Top-Top Shadow Height,Base-Top Shadow Height,3D</AvailableMensurationCapabilities>
<ClipToBoundary Sync="TRUE">-1</ClipToBoundary>
<FootprintMayContainNoData Sync="TRUE">-1</FootprintMayContainNoData>
<CellSizeTolerance Sync="TRUE">0.8</CellSizeTolerance>
<MinimumPixelContribution Sync="TRUE">1</MinimumPixelContribution>
<AvailableMosaicMethods Sync="TRUE">NorthWest,Center,LockRaster,ByAttribute,Nadir,Viewpoint,Seamline,None</AvailableMosaicMethods>
<AvailableCompressionMethods Sync="TRUE">None,JPEG,LZ77,LERC</AvailableCompressionMethods>
<AvailableItemMetadataLevels Sync="TRUE">None,Basic,Full</AvailableItemMetadataLevels>
<BandDefinitionKeyword Sync="TRUE">NaturalColor</BandDefinitionKeyword>
<_docversion_ Sync="TRUE">10</_docversion_>
<AllowedFields Sync="TRUE">Name,MinPS,MaxPS,LowPS,HighPS,Tag,GroupName,ProductName,CenterX,CenterY,ZOrder,Shape_Length,Shape_Area</AllowedFields>
<MaxCellSize Sync="TRUE">36450</MaxCellSize>
<LowCellSize Sync="TRUE">0.5</LowCellSize>
<HighCellSize Sync="TRUE">729</HighCellSize>
<PixelCacheLocation Sync="TRUE">C:\Users\gjohnson\AppData\Local\ESRI\rasterproxies\Ortho2021_6IN</PixelCacheLocation>
<ApplyColorCorrection Sync="TRUE">0</ApplyColorCorrection>
</Properties>
<Functions Sync="TRUE">
<Function Description="Performs on-the-fly mosaic on a raster catalog." Name="Mosaic Function"/>
</Functions>
</RasterProperties>
</DataProperties>
<SyncDate>20220801</SyncDate>
<SyncTime>11553500</SyncTime>
<ModDate>20220801</ModDate>
<ModTime>11553500</ModTime>
<scaleRange>
<minScale>625000</minScale>
<maxScale>5000</maxScale>
</scaleRange>
<ArcGISProfile>ItemDescription</ArcGISProfile>
</Esri>
<mdLang>
<languageCode value="eng"/>
<countryCode Sync="TRUE" value="USA"/>
</mdLang>
<mdChar>
<CharSetCd value="004"/>
</mdChar>
<mdHrLv>
<ScopeCd value="005"/>
</mdHrLv>
<mdContact>
<rpIndName>Andrew Thompson</rpIndName>
<rpOrgName>Pictometry International Corp.</rpOrgName>
<rpPosName>Aerial Triangulation Analyst</rpPosName>
<rpCntInfo>
<cntPhone>
<voiceNum>585-486-0093</voiceNum>
<faxNum>585-486-0098</faxNum>
</cntPhone>
<cntAddress addressType="both">
<delPoint>25 Methodist Hill Drive</delPoint>
<city>Rochester</city>
<adminArea>New York</adminArea>
<postCode>14623</postCode>
<country>US</country>
</cntAddress>
<cntHours>0900-1700 EST</cntHours>
</rpCntInfo>
<role>
<RoleCd value="007"/>
</role>
</mdContact>
<mdDateSt Sync="TRUE">20220801</mdDateSt>
<mdStanName>ArcGIS Metadata</mdStanName>
<mdStanVer>1.0</mdStanVer>
<distInfo>
<distributor>
<distorCont>
<rpIndName>Thom S. Salter</rpIndName>
<rpOrgName>Pictometry International Corp.</rpOrgName>
<rpPosName>Director, Photogrammetric Production</rpPosName>
<rpCntInfo>
<cntPhone>
<voiceNum>585-486-0093</voiceNum>
<faxNum>585-486-0098</faxNum>
</cntPhone>
<cntAddress addressType="both">
<delPoint>25 Methodist Hill Drive</delPoint>
<city>Rochester</city>
<adminArea>New York</adminArea>
<postCode>14623</postCode>
<country>US</country>
</cntAddress>
<cntHours>0900-1700 EST</cntHours>
</rpCntInfo>
<role>
<RoleCd value="005"/>
</role>
</distorCont>
<distorOrdPrc>
<resFees>$TBD</resFees>
</distorOrdPrc>
<distorFormat>
<formatName>TIFF</formatName>
</distorFormat>
<distorTran>
<transSize>0.097</transSize>
<offLineMed>
<medName>
<MedNameCd value="001"/>
</medName>
<medDensity>1</medDensity>
<medDenUnits>percent</medDenUnits>
</offLineMed>
</distorTran>
</distributor>
<distTranOps>
<onLineSrc>
<linkage>IL_Will_6in_Ortho_Only _Confirmed Grid.shp</linkage>
</onLineSrc>
</distTranOps>
</distInfo>
<dataIdInfo>
<idCitation>
<resTitle Sync="FALSE">Orthos_2021_6IN</resTitle>
<date>
<pubDate>2021-06-08</pubDate>
</date>
<citRespParty>
<rpOrgName>IL</rpOrgName>
<role>
<RoleCd value="006"/>
</role>
</citRespParty>
<citRespParty>
<rpOrgName>Will</rpOrgName>
<role>
<RoleCd value="006"/>
</role>
</citRespParty>
<presForm>
<PresFormCd value="005"/>
</presForm>
<presForm>
<fgdcGeoform>vector digital data</fgdcGeoform>
</presForm>
</idCitation>
<idAbs>&lt;div style='text-align:Left;'&gt;&lt;div&gt;&lt;div&gt;&lt;p&gt;&lt;span&gt;The dataset consists of tiled orthogonal imagery produced from nadir images captured by Pictometry International. Automatic aerial triangulation (AAT) was performed. The triangulated frames were rectified to a LiDAR derived DEM. Mosaicking was performed using an automatic seaming algorithm and manually edited to eliminate seams through elevated features where possible.&lt;/span&gt;&lt;/p&gt;&lt;/div&gt;&lt;/div&gt;&lt;/div&gt;</idAbs>
<idPurp>IL Will Orthogonal Imagery-SP83_ILE_NAD83_USFT (6 IN): 2021 Mosaic Dataset Orthogonal image mosaic to support the needs of IL Will. Other uses expected.</idPurp>
<idStatus>
<ProgCd value="001"/>
</idStatus>
<idPoC>
<rpIndName>Thom S. Salter</rpIndName>
<rpOrgName>Pictometry International Corp.</rpOrgName>
<rpPosName>Director, Photogrammetric Production</rpPosName>
<rpCntInfo>
<cntPhone>
<voiceNum>585-486-0093</voiceNum>
<faxNum>585-486-0098</faxNum>
</cntPhone>
<cntAddress addressType="both">
<delPoint>25 Methodist Hill Drive</delPoint>
<city>Rochester</city>
<adminArea>New York</adminArea>
<postCode>14623</postCode>
<country>US</country>
</cntAddress>
<cntHours>0900-1700 EST</cntHours>
</rpCntInfo>
<role>
<RoleCd value="007"/>
</role>
</idPoC>
<resMaint>
<maintFreq>
<MaintFreqCd value="012"/>
</maintFreq>
</resMaint>
<placeKeys>
<thesaName>
<resTitle>Geographic Names Index Service</resTitle>
</thesaName>
<keyword>IL</keyword>
<keyword>Will</keyword>
</placeKeys>
<tempKeys>
<keyword>Current</keyword>
</tempKeys>
<themeKeys>
<thesaName>
<resTitle>EDI Thesaurus</resTitle>
</thesaName>
<keyword>Digital Orthophotography</keyword>
</themeKeys>
<searchKeys>
<keyword>Aerial</keyword>
<keyword>Orthoimagery</keyword>
<keyword>ImageServer</keyword>
<keyword>2021</keyword>
</searchKeys>
<resConst>
<LegConsts>
<useLimit>Distribution of this dataset is constrained by the existing license agreement between the Pictometry International Corp. and IL Will.</useLimit>
<othConsts>Access to this data is constrained by the license agreements between Pictometry International and IL Will.</othConsts>
</LegConsts>
</resConst>
<resConst>
<Consts>
<useLimit>&lt;div style='text-align:Left;'&gt;&lt;p&gt;&lt;span style='font-family:&amp;quot;Avenir Next W01&amp;quot;, &amp;quot;Avenir Next W00&amp;quot;, &amp;quot;Avenir Next&amp;quot;, Avenir, &amp;quot;Helvetica Neue&amp;quot;, sans-serif; font-size:16px;'&gt;Please review the Terms of Open Geo-Spatial Data License posted on this website: &lt;/span&gt;&lt;a href='https://www.willcountyillinois.com/County-Offices/Administration/GIS-Division/Data' style='color:rgb(0, 121, 193); text-decoration-line:none; font-family:&amp;quot;Avenir Next W01&amp;quot;, &amp;quot;Avenir Next W00&amp;quot;, &amp;quot;Avenir Next&amp;quot;, Avenir, &amp;quot;Helvetica Neue&amp;quot;, sans-serif; font-size:16px;'&gt;https://www.willcountyillinois.com/County-Offices/Administration/GIS-Division/Data&lt;/a&gt;&lt;span style='font-family:&amp;quot;Avenir Next W01&amp;quot;, &amp;quot;Avenir Next W00&amp;quot;, &amp;quot;Avenir Next&amp;quot;, Avenir, &amp;quot;Helvetica Neue&amp;quot;, sans-serif; font-size:16px;'&gt;.&lt;/span&gt;&lt;br /&gt;&lt;/p&gt;&lt;/div&gt;</useLimit>
</Consts>
</resConst>
<aggrInfo>
<aggrDSName>
<resTitle>IL Will 2021 Accuplus Project</resTitle>
<date>
<pubDate>2021-06-08</pubDate>
</date>
<citRespParty>
<rpOrgName>Will</rpOrgName>
<role>
<RoleCd value="006"/>
</role>
</citRespParty>
<citRespParty>
<rpOrgName>IL</rpOrgName>
<role>
<RoleCd value="006"/>
</role>
</citRespParty>
<presForm>
<PresFormCd value="005"/>
</presForm>
<presForm>
<fgdcGeoform>vector digital data</fgdcGeoform>
</presForm>
<citOnlineRes>
<linkage>IL_Will_6in_Ortho_Only _Confirmed Grid.shp</linkage>
</citOnlineRes>
</aggrDSName>
<assocType>
<AscTypeCd value="001"/>
</assocType>
</aggrInfo>
<spatRpType>
<SpatRepTypCd value="001"/>
</spatRpType>
<dataLang>
<languageCode value="eng"/>
<countryCode Sync="TRUE" value="USA"/>
</dataLang>
<envirDesc Sync="TRUE"> Version 6.2 (Build 9200) ; Esri ArcGIS 10.9.1.28388</envirDesc>
<dataExt>
<geoEle>
<GeoBndBox>
<westBL>-88.460744</westBL>
<eastBL>-87.506612</eastBL>
<southBL>41.183394</southBL>
<northBL>41.770391</northBL>
</GeoBndBox>
</geoEle>
</dataExt>
<dataExt>
<exDesc>ground condition</exDesc>
<tempEle>
<TempExtent>
<exTemp>
<TM_Period>
<tmBegin>2021-03-20</tmBegin>
<tmEnd>2021-04-30</tmEnd>
</TM_Period>
</exTemp>
</TempExtent>
</tempEle>
</dataExt>
<dataExt>
<geoEle>
<GeoBndBox esriExtentType="search">
<exTypeCode Sync="TRUE">1</exTypeCode>
<westBL Sync="TRUE">-88.451467</westBL>
<eastBL Sync="TRUE">-87.512856</eastBL>
<northBL Sync="TRUE">41.763508</northBL>
<southBL Sync="TRUE">41.188252</southBL>
</GeoBndBox>
</geoEle>
</dataExt>
<idCredit>Pictometry International and Will County GIS</idCredit>
</dataIdInfo>
<dqInfo>
<dqScope>
<scpLvl>
<ScopeCd value="005"/>
</scpLvl>
</dqScope>
<report type="DQConcConsis">
<measDesc>Dataset is orthoimagery. Logical consistency is not applicable.</measDesc>
</report>
<report type="DQCompOm">
<measDesc>The 2021 IL Will Orthogonal data associated with this metadata file completely covers the project-specified boundary.</measDesc>
</report>
<dataLineage>
<prcStep>
<stepDesc>Mosaicking: Mosaicking was performed using Inpho's OrthoVista software and SeamEditor was employed for manual corrections.</stepDesc>
<stepDateTm date="unknown"/>
<stepProc>
<rpIndName>Thom S. Salter</rpIndName>
<rpOrgName>Pictometry International Corp.</rpOrgName>
<rpPosName>Director, Photogrammetric Production</rpPosName>
<rpCntInfo>
<cntPhone>
<voiceNum>585-486-0093</voiceNum>
<faxNum>585-486-0098</faxNum>
</cntPhone>
<cntAddress addressType="both">
<delPoint>25 Methodist Hill Drive</delPoint>
<city>Rochester</city>
<adminArea>New York</adminArea>
<postCode>14623</postCode>
<country>US</country>
</cntAddress>
<cntHours>0900-1700 EST</cntHours>
</rpCntInfo>
<role>
<RoleCd value="009"/>
</role>
</stepProc>
</prcStep>
<prcStep>
<stepDesc>AeroTriangulation: Imagery was aerotriangulated using Inpho's Match-AT software.</stepDesc>
<stepDateTm date="unknown"/>
<stepProc>
<rpIndName>Thom S. Salter</rpIndName>
<rpOrgName>Pictometry International Corp.</rpOrgName>
<rpPosName>Director, Photogrammetric Production</rpPosName>
<rpCntInfo>
<cntPhone>
<voiceNum>585-486-0093</voiceNum>
<faxNum>585-486-0098</faxNum>
</cntPhone>
<cntAddress addressType="both">
<delPoint>25 Methodist Hill Drive</delPoint>
<city>Rochester</city>
<adminArea>New York</adminArea>
<postCode>14623</postCode>
<country>US</country>
</cntAddress>
<cntHours>0900-1700 EST</cntHours>
</rpCntInfo>
<role>
<RoleCd value="009"/>
</role>
</stepProc>
</prcStep>
<prcStep>
<stepDesc>GPS/INS processing: Data was post-processed using NGS CORS base station data.</stepDesc>
<stepDateTm date="unknown"/>
<stepProc>
<rpIndName>Thom S. Salter</rpIndName>
<rpOrgName>Pictometry International Corp.</rpOrgName>
<rpPosName>Director, Photogrammetric Production</rpPosName>
<rpCntInfo>
<cntPhone>
<voiceNum>585-486-0093</voiceNum>
<faxNum>585-486-0098</faxNum>
</cntPhone>
<cntAddress addressType="both">
<delPoint>25 Methodist Hill Drive</delPoint>
<city>Rochester</city>
<adminArea>New York</adminArea>
<postCode>14623</postCode>
<country>US</country>
</cntAddress>
<cntHours>0900-1700 EST</cntHours>
</rpCntInfo>
<role>
<RoleCd value="009"/>
</role>
</stepProc>
</prcStep>
<prcStep>
<stepDesc>Rectification: Ortho-rectification was performed using Inpho's OrthoMaster software. A LiDAR based DEM was used as the rectification surface.</stepDesc>
<stepDateTm date="unknown"/>
<stepProc>
<rpIndName>Thom S. Salter</rpIndName>
<rpOrgName>Pictometry International Corp.</rpOrgName>
<rpPosName>Director, Photogrammetric Production</rpPosName>
<rpCntInfo>
<cntPhone>
<voiceNum>585-486-0093</voiceNum>
<faxNum>585-486-0098</faxNum>
</cntPhone>
<cntAddress addressType="both">
<delPoint>25 Methodist Hill Drive</delPoint>
<city>Rochester</city>
<adminArea>New York</adminArea>
<postCode>14623</postCode>
<country>US</country>
</cntAddress>
<cntHours>0900-1700 EST</cntHours>
</rpCntInfo>
<role>
<RoleCd value="009"/>
</role>
</stepProc>
</prcStep>
<dataSource>
<srcDesc>N/A</srcDesc>
<srcMedName>
<MedNameCd value="031"/>
</srcMedName>
<srcCitatn>
<resTitle>IL Will 2021 Accuplus Project</resTitle>
<resAltTitle>disc</resAltTitle>
<date>
<pubDate>2021-06-08</pubDate>
</date>
<citRespParty>
<rpOrgName>Will</rpOrgName>
<role>
<RoleCd value="006"/>
</role>
</citRespParty>
<citRespParty>
<rpOrgName>IL</rpOrgName>
<role>
<RoleCd value="006"/>
</role>
</citRespParty>
<presForm>
<PresFormCd value="005"/>
</presForm>
<presForm>
<fgdcGeoform>vector digital data</fgdcGeoform>
</presForm>
<citOnlineRes>
<linkage>IL_Will_6in_Ortho_Only _Confirmed Grid.shp</linkage>
</citOnlineRes>
</srcCitatn>
<srcExt>
<exDesc>ground condition</exDesc>
<tempEle>
<TempExtent>
<exTemp>
<TM_Period>
<tmBegin>2021-03-20</tmBegin>
<tmEnd>2021-04-30</tmEnd>
</TM_Period>
</exTemp>
</TempExtent>
</tempEle>
</srcExt>
</dataSource>
</dataLineage>
</dqInfo>
<spatRepInfo>
<VectSpatRep>
<geometObjs>
<geoObjTyp>
<GeoObjTypCd value="001"/>
</geoObjTyp>
<geoObjCnt>4541</geoObjCnt>
</geometObjs>
</VectSpatRep>
<Georect>
<cellGeo>
<CellGeoCd Sync="TRUE" value="002"/>
</cellGeo>
<numDims Sync="TRUE">2</numDims>
<tranParaAv Sync="TRUE">1</tranParaAv>
<chkPtAv Sync="TRUE">0</chkPtAv>
<cornerPts>
<pos Sync="TRUE">952021.000000 1647853.000000</pos>
</cornerPts>
<cornerPts>
<pos Sync="TRUE">952021.000000 1856413.000000</pos>
</cornerPts>
<cornerPts>
<pos Sync="TRUE">1208101.000000 1856413.000000</pos>
</cornerPts>
<cornerPts>
<pos Sync="TRUE">1208101.000000 1647853.000000</pos>
</cornerPts>
<centerPt>
<pos Sync="TRUE">1080061.000000 1752133.000000</pos>
</centerPt>
<axisDimension type="002">
<dimSize Sync="TRUE">512160</dimSize>
<dimResol>
<value Sync="TRUE" uom="ftUS">0.500000</value>
</dimResol>
</axisDimension>
<axisDimension type="001">
<dimSize Sync="TRUE">417120</dimSize>
<dimResol>
<value Sync="TRUE" uom="ftUS">0.500000</value>
</dimResol>
</axisDimension>
<ptInPixel>
<PixOrientCd Sync="TRUE" value="001"/>
</ptInPixel>
</Georect>
</spatRepInfo>
<eainfo>
<detailed>
<enttyp>
<enttypl>IL_Will_6in_Ortho_Only _Confirmed Grid</enttypl>
<enttypd>IL Will Accuplus Flight Tiling Scheme</enttypd>
<enttypds>Pictometry International Corp.</enttypds>
</enttyp>
<attr>
<attrlabl>Shape</attrlabl>
<attrdef>Feature geometry.</attrdef>
<attrdefs>ESRI</attrdefs>
<attrdomv>
<udom>Coordinates defining the features.</udom>
</attrdomv>
</attr>
<attr>
<attrlabl>FID</attrlabl>
<attrdef>Internal feature number.</attrdef>
<attrdefs>ESRI</attrdefs>
<attrdomv>
<udom>Sequential unique whole numbers that are automatically generated.</udom>
</attrdomv>
</attr>
<attr>
<attrlabl>TILELABEL</attrlabl>
<attrdef>Tile Label</attrdef>
<attrdefs>Pictometry International Corp.</attrdefs>
<attrdomv>
<udom>Coordinates defining the features.</udom>
</attrdomv>
</attr>
</detailed>
</eainfo>
<refSysInfo>
<RefSystem>
<refSysID>
<identCode Sync="TRUE" code="3435"/>
<idCodeSpace Sync="TRUE">EPSG</idCodeSpace>
<idVersion Sync="TRUE">8.9.3(9.3.0.0)</idVersion>
</refSysID>
</RefSystem>
</refSysInfo>
<contInfo>
<ImgDesc>
<contentTyp>
<ContentTypCd Sync="TRUE" value="001"/>
</contentTyp>
<covDim>
<Band>
<dimDescrp Sync="TRUE">Red</dimDescrp>
<maxVal Sync="TRUE">255.000000</maxVal>
<minVal Sync="TRUE">0.000000</minVal>
<bitsPerVal Sync="TRUE">8</bitsPerVal>
<valUnit>
<UOM type="length"/>
</valUnit>
</Band>
<Band>
<dimDescrp Sync="TRUE">Green</dimDescrp>
<maxVal Sync="TRUE">255.000000</maxVal>
<minVal Sync="TRUE">5.000000</minVal>
<bitsPerVal Sync="TRUE">8</bitsPerVal>
<valUnit>
<UOM type="length"/>
</valUnit>
</Band>
<Band>
<dimDescrp Sync="TRUE">Blue</dimDescrp>
<maxVal Sync="TRUE">255.000000</maxVal>
<minVal Sync="TRUE">0.000000</minVal>
<bitsPerVal Sync="TRUE">8</bitsPerVal>
<valUnit>
<UOM type="length"/>
</valUnit>
</Band>
</covDim>
</ImgDesc>
</contInfo>
</metadata>
