<?xml version="1.0" encoding="UTF-8" standalone="no"?>
<metadata xml:lang="en">
<Esri>
<CreaDate>20200615</CreaDate>
<CreaTime>12545700</CreaTime>
<ArcGISFormat>1.0</ArcGISFormat>
<SyncOnce>FALSE</SyncOnce>
<DataProperties>
<lineage>
<Process Date="20180301" Name="" Time="110325" ToolSource="c:\program files (x86)\arcgis\desktop10.5\ArcToolbox\Toolboxes\Data Management Tools.tbx\CreateMosaicDataset" export="">CreateMosaicDataset "Database Connections\dbo to cogis.gissql.sde" OrthoIR2013_6IN "PROJCS['NAD_1983_NSRS2007_StatePlane_Illinois_East_FIPS_1201_Ft_US',GEOGCS['GCS_NAD_1983_NSRS2007',DATUM['D_NAD_1983_NSRS2007',SPHEROID['GRS_1980',6378137.0,298.257222101]],PRIMEM['Greenwich',0.0],UNIT['Degree',0.0174532925199433]],PROJECTION['Transverse_Mercator'],PARAMETER['False_Easting',984250.0],PARAMETER['False_Northing',0.0],PARAMETER['Central_Meridian',-88.33333333333333],PARAMETER['Scale_Factor',0.999975],PARAMETER['Latitude_Of_Origin',36.66666666666666],UNIT['Foot_US',0.3048006096012192]],VERTCS['NAVD_1988',VDATUM['North_American_Vertical_Datum_1988'],PARAMETER['Vertical_Shift',0.0],PARAMETER['Direction',1.0],UNIT['Foot_US',0.3048006096012192]];-17463800 -46132600 137244822.078466;-100000 10000;-100000 10000;3.28083333333333E-03;0.001;0.001;IsHighPrecision" 4 8_BIT_UNSIGNED NONE #</Process>
<Process Date="20180306" Name="" Time="085346" ToolSource="c:\program files (x86)\arcgis\desktop10.5\ArcToolbox\Toolboxes\Data Management Tools.tbx\ChangePrivileges" export="">ChangePrivileges 'Database Connections\dbo to cogis.gissql.sde\DBO.OrthoIR2009_6IN';'Database Connections\dbo to cogis.gissql.sde\DBO.OrthoIR2010_6IN';'Database Connections\dbo to cogis.gissql.sde\DBO.OrthoIR2011_6IN';'Database Connections\dbo to cogis.gissql.sde\DBO.OrthoIR2012_6IN';'Database Connections\dbo to cogis.gissql.sde\DBO.OrthoIR2013_6IN';'Database Connections\dbo to cogis.gissql.sde\DBO.OrthoIR2014_6IN';'Database Connections\dbo to cogis.gissql.sde\DBO.OrthoIR2015_6IN' ims GRANT #</Process>
<Process Date="20180309" Name="" Time="204056" ToolSource="c:\program files (x86)\arcgis\desktop10.5\ArcToolbox\Toolboxes\Data Management Tools.tbx\BuildPyramidsandStatistics" export="">BuildPyramidsandStatistics "Database Connections\dbo to cogis.gissql.sde\DBO.OrthoIR2013_6IN" INCLUDE_SUBDIRECTORIES BUILD_PYRAMIDS CALCULATE_STATISTICS NONE # NONE 1 1 # -1 NONE NEAREST DEFAULT 75 SKIP_EXISTING #</Process>
<Process Date="20180316" Name="" Time="093206" ToolSource="c:\program files (x86)\arcgis\desktop10.5\ArcToolbox\Toolboxes\Data Management Tools.tbx\ChangePrivileges" export="">ChangePrivileges 'Database Connections\dbo to cogis.gissql.sde\DBO.Ortho2006P_6IN';'Database Connections\dbo to cogis.gissql.sde\DBO.Ortho2008_6IN';'Database Connections\dbo to cogis.gissql.sde\DBO.Ortho2009_1FT';'Database Connections\dbo to cogis.gissql.sde\DBO.Ortho2009P_6IN';'Database Connections\dbo to cogis.gissql.sde\DBO.Ortho2011P_1FT';'Database Connections\dbo to cogis.gissql.sde\DBO.Ortho2011P_6IN';'Database Connections\dbo to cogis.gissql.sde\DBO.Ortho2013_9IN';'Database Connections\dbo to cogis.gissql.sde\DBO.Ortho2013P_4IN';'Database Connections\dbo to cogis.gissql.sde\DBO.Ortho2015_9IN';'Database Connections\dbo to cogis.gissql.sde\DBO.Ortho2015P_4IN';'Database Connections\dbo to cogis.gissql.sde\DBO.Ortho2017_9IN';'Database Connections\dbo to cogis.gissql.sde\DBO.Ortho2017P_4IN';'Database Connections\dbo to cogis.gissql.sde\DBO.OrthoIR2009_6IN';'Database Connections\dbo to cogis.gissql.sde\DBO.OrthoIR2010_6IN';'Database Connections\dbo to cogis.gissql.sde\DBO.OrthoIR2011_6IN';'Database Connections\dbo to cogis.gissql.sde\DBO.OrthoIR2012_6IN';'Database Connections\dbo to cogis.gissql.sde\DBO.OrthoIR2013_6IN';'Database Connections\dbo to cogis.gissql.sde\DBO.OrthoIR2014_6IN';'Database Connections\dbo to cogis.gissql.sde\DBO.OrthoIR2015_6IN' ims GRANT #</Process>
<Process Date="20200616" Name="" Time="140246" ToolSource="c:\program files (x86)\arcgis\desktop10.5\ArcToolbox\Toolboxes\Data Management Tools.tbx\ChangePrivileges" export="">ChangePrivileges 'Database Connections\gisadminSQL to cogis.gissql01.sde\DBO.Ortho2004_6IN';'Database Connections\gisadminSQL to cogis.gissql01.sde\DBO.Ortho2005_1FT';'Database Connections\gisadminSQL to cogis.gissql01.sde\DBO.Ortho2006P_6IN';'Database Connections\gisadminSQL to cogis.gissql01.sde\DBO.Ortho2008_6IN';'Database Connections\gisadminSQL to cogis.gissql01.sde\DBO.Ortho2009_1FT';'Database Connections\gisadminSQL to cogis.gissql01.sde\DBO.Ortho2009IR_6IN';'Database Connections\gisadminSQL to cogis.gissql01.sde\DBO.Ortho2009P_6IN';'Database Connections\gisadminSQL to cogis.gissql01.sde\DBO.Ortho2010IR_6IN';'Database Connections\gisadminSQL to cogis.gissql01.sde\DBO.Ortho2011IR_6IN';'Database Connections\gisadminSQL to cogis.gissql01.sde\DBO.Ortho2011P_1FT';'Database Connections\gisadminSQL to cogis.gissql01.sde\DBO.Ortho2011P_6IN';'Database Connections\gisadminSQL to cogis.gissql01.sde\DBO.Ortho2012IR_6IN';'Database Connections\gisadminSQL to cogis.gissql01.sde\DBO.Ortho2013_9IN';'Database Connections\gisadminSQL to cogis.gissql01.sde\DBO.Ortho2013IR_6IN';'Database Connections\gisadminSQL to cogis.gissql01.sde\DBO.Ortho2013P_4IN';'Database Connections\gisadminSQL to cogis.gissql01.sde\DBO.Ortho2014IR_6IN';'Database Connections\gisadminSQL to cogis.gissql01.sde\DBO.Ortho2015_9IN';'Database Connections\gisadminSQL to cogis.gissql01.sde\DBO.Ortho2015IR_6IN';'Database Connections\gisadminSQL to cogis.gissql01.sde\DBO.Ortho2015P_4IN';'Database Connections\gisadminSQL to cogis.gissql01.sde\DBO.Ortho2017_9IN';'Database Connections\gisadminSQL to cogis.gissql01.sde\DBO.Ortho2017P_4IN';'Database Connections\gisadminSQL to cogis.gissql01.sde\DBO.Ortho2018_6IN';'Database Connections\gisadminSQL to cogis.gissql01.sde\DBO.Ortho2018P_4IN';'Database Connections\gisadminSQL to cogis.gissql01.sde\DBO.Ortho2019_6IN' ims GRANT AS_IS</Process>
<Process Date="20200616" Name="" Time="140335" ToolSource="c:\program files (x86)\arcgis\desktop10.5\ArcToolbox\Toolboxes\Data Management Tools.tbx\ChangePrivileges" export="">ChangePrivileges 'Database Connections\gisadminSQL to cogis.gissql01.sde\DBO.Ortho2004_6IN';'Database Connections\gisadminSQL to cogis.gissql01.sde\DBO.Ortho2005_1FT';'Database Connections\gisadminSQL to cogis.gissql01.sde\DBO.Ortho2006P_6IN';'Database Connections\gisadminSQL to cogis.gissql01.sde\DBO.Ortho2008_6IN';'Database Connections\gisadminSQL to cogis.gissql01.sde\DBO.Ortho2009_1FT';'Database Connections\gisadminSQL to cogis.gissql01.sde\DBO.Ortho2009IR_6IN';'Database Connections\gisadminSQL to cogis.gissql01.sde\DBO.Ortho2009P_6IN';'Database Connections\gisadminSQL to cogis.gissql01.sde\DBO.Ortho2010IR_6IN';'Database Connections\gisadminSQL to cogis.gissql01.sde\DBO.Ortho2011IR_6IN';'Database Connections\gisadminSQL to cogis.gissql01.sde\DBO.Ortho2011P_1FT';'Database Connections\gisadminSQL to cogis.gissql01.sde\DBO.Ortho2011P_6IN';'Database Connections\gisadminSQL to cogis.gissql01.sde\DBO.Ortho2012IR_6IN';'Database Connections\gisadminSQL to cogis.gissql01.sde\DBO.Ortho2013_9IN';'Database Connections\gisadminSQL to cogis.gissql01.sde\DBO.Ortho2013IR_6IN';'Database Connections\gisadminSQL to cogis.gissql01.sde\DBO.Ortho2013P_4IN';'Database Connections\gisadminSQL to cogis.gissql01.sde\DBO.Ortho2014IR_6IN';'Database Connections\gisadminSQL to cogis.gissql01.sde\DBO.Ortho2015_9IN';'Database Connections\gisadminSQL to cogis.gissql01.sde\DBO.Ortho2015IR_6IN';'Database Connections\gisadminSQL to cogis.gissql01.sde\DBO.Ortho2015P_4IN';'Database Connections\gisadminSQL to cogis.gissql01.sde\DBO.Ortho2017_9IN';'Database Connections\gisadminSQL to cogis.gissql01.sde\DBO.Ortho2017P_4IN';'Database Connections\gisadminSQL to cogis.gissql01.sde\DBO.Ortho2018_6IN';'Database Connections\gisadminSQL to cogis.gissql01.sde\DBO.Ortho2018P_4IN';'Database Connections\gisadminSQL to cogis.gissql01.sde\DBO.Ortho2019_6IN' pubeditor GRANT GRANT</Process>
<Process Date="20240104" Time="080842" ToolSource="c:\program files (x86)\arcgis\desktop10.8\ArcToolbox\Toolboxes\Data Management Tools.tbx\RepairMosaicDatasetPaths">RepairMosaicDatasetPaths "Database Connections\gisadminSQL to cogis.gissql01.sde\DBO.Ortho2013IR_6IN" "# \\gisfile\Imagery\2013\NEIL13_RGBNIR \\gisbds\Imagery\2013\NEIL13_RGBNIR" #</Process>
<Process Date="20240826" Time="131348" ToolSource="c:\program files\arcgis\pro\Resources\ArcToolbox\toolboxes\Data Management Tools.tbx\ChangePrivileges">ChangePrivileges \\gisfile\gisstaff\SQLServer-gissql-cogis.sde\DBO.Ortho2020_6IN;\\gisfile\gisstaff\SQLServer-gissql-cogis.sde\DBO.Ortho2010IR_6IN;\\gisfile\gisstaff\SQLServer-gissql-cogis.sde\DBO.Ortho2011IR_6IN;\\gisfile\gisstaff\SQLServer-gissql-cogis.sde\DBO.Ortho2011P_1FT;\\gisfile\gisstaff\SQLServer-gissql-cogis.sde\DBO.Ortho2011P_6IN;\\gisfile\gisstaff\SQLServer-gissql-cogis.sde\DBO.Ortho2012IR_6IN;\\gisfile\gisstaff\SQLServer-gissql-cogis.sde\DBO.Ortho2013_9IN;\\gisfile\gisstaff\SQLServer-gissql-cogis.sde\DBO.Ortho2013IR_6IN;\\gisfile\gisstaff\SQLServer-gissql-cogis.sde\DBO.Ortho2013P_4IN;\\gisfile\gisstaff\SQLServer-gissql-cogis.sde\DBO.Ortho2014IR_6IN;\\gisfile\gisstaff\SQLServer-gissql-cogis.sde\DBO.Ortho2015_9IN;\\gisfile\gisstaff\SQLServer-gissql-cogis.sde\DBO.Ortho2015IR_6IN;\\gisfile\gisstaff\SQLServer-gissql-cogis.sde\DBO.Ortho2015P_4IN;\\gisfile\gisstaff\SQLServer-gissql-cogis.sde\DBO.Ortho2017_9IN;\\gisfile\gisstaff\SQLServer-gissql-cogis.sde\DBO.Ortho2017P_4IN;\\gisfile\gisstaff\SQLServer-gissql-cogis.sde\DBO.Ortho2018_6IN;\\gisfile\gisstaff\SQLServer-gissql-cogis.sde\DBO.Ortho2018P_4IN;\\gisfile\gisstaff\SQLServer-gissql-cogis.sde\DBO.Ortho2019_6IN ims "Grant view privileges" "Do not change edit privileges"</Process>
</lineage>
<itemProps>
<itemName Sync="TRUE">DBO.Ortho2013IR_6IN</itemName>
<itemLocation>
<linkage Sync="TRUE">Server=gissql01; Service=sde:sqlserver:gissql01; Database=cogis; User=gisadmin; Version=dbo.DEFAULT</linkage>
<protocol Sync="TRUE">ArcSDE Connection</protocol>
</itemLocation>
<nativeExtBox>
<westBL Sync="TRUE">1002500.000000</westBL>
<eastBL Sync="TRUE">1207500.000000</eastBL>
<southBL Sync="TRUE">1650000.000000</southBL>
<northBL Sync="TRUE">1847500.000000</northBL>
<exTypeCode Sync="TRUE">1</exTypeCode>
</nativeExtBox>
</itemProps>
<coordRef>
<type Sync="TRUE">Projected</type>
<geogcsn Sync="TRUE">GCS_NAD_1983_NSRS2007</geogcsn>
<csUnits Sync="TRUE">Linear Unit: Foot_US (0.304801)</csUnits>
<projcsn Sync="TRUE">NAD_1983_NSRS2007_StatePlane_Illinois_East_FIPS_1201_Ft_US</projcsn>
<peXml Sync="TRUE">&lt;ProjectedCoordinateSystem xsi:type='typens:ProjectedCoordinateSystem' xmlns:xsi='http://www.w3.org/2001/XMLSchema-instance' xmlns:xs='http://www.w3.org/2001/XMLSchema' xmlns:typens='http://www.esri.com/schemas/ArcGIS/10.8'&gt;&lt;WKT&gt;PROJCS[&amp;quot;NAD_1983_NSRS2007_StatePlane_Illinois_East_FIPS_1201_Ft_US&amp;quot;,GEOGCS[&amp;quot;GCS_NAD_1983_NSRS2007&amp;quot;,DATUM[&amp;quot;D_NAD_1983_NSRS2007&amp;quot;,SPHEROID[&amp;quot;GRS_1980&amp;quot;,6378137.0,298.257222101]],PRIMEM[&amp;quot;Greenwich&amp;quot;,0.0],UNIT[&amp;quot;Degree&amp;quot;,0.0174532925199433]],PROJECTION[&amp;quot;Transverse_Mercator&amp;quot;],PARAMETER[&amp;quot;False_Easting&amp;quot;,984250.0],PARAMETER[&amp;quot;False_Northing&amp;quot;,0.0],PARAMETER[&amp;quot;Central_Meridian&amp;quot;,-88.33333333333333],PARAMETER[&amp;quot;Scale_Factor&amp;quot;,0.999975],PARAMETER[&amp;quot;Latitude_Of_Origin&amp;quot;,36.66666666666666],UNIT[&amp;quot;Foot_US&amp;quot;,0.3048006096012192],AUTHORITY[&amp;quot;EPSG&amp;quot;,3529]],VERTCS[&amp;quot;NAVD_1988&amp;quot;,VDATUM[&amp;quot;North_American_Vertical_Datum_1988&amp;quot;],PARAMETER[&amp;quot;Vertical_Shift&amp;quot;,0.0],PARAMETER[&amp;quot;Direction&amp;quot;,1.0],UNIT[&amp;quot;Foot_US&amp;quot;,0.3048006096012192]]&lt;/WKT&gt;&lt;XOrigin&gt;-17463800&lt;/XOrigin&gt;&lt;YOrigin&gt;-46132600&lt;/YOrigin&gt;&lt;XYScale&gt;137244822.07846552&lt;/XYScale&gt;&lt;ZOrigin&gt;-100000&lt;/ZOrigin&gt;&lt;ZScale&gt;10000&lt;/ZScale&gt;&lt;MOrigin&gt;-100000&lt;/MOrigin&gt;&lt;MScale&gt;10000&lt;/MScale&gt;&lt;XYTolerance&gt;0.0032808333333333331&lt;/XYTolerance&gt;&lt;ZTolerance&gt;0.001&lt;/ZTolerance&gt;&lt;MTolerance&gt;0.001&lt;/MTolerance&gt;&lt;HighPrecision&gt;true&lt;/HighPrecision&gt;&lt;WKID&gt;3529&lt;/WKID&gt;&lt;LatestWKID&gt;3529&lt;/LatestWKID&gt;&lt;/ProjectedCoordinateSystem&gt;</peXml>
</coordRef>
<RasterProperties>
<General>
<PixelDepth Sync="TRUE">8</PixelDepth>
<HasColormap Sync="TRUE">FALSE</HasColormap>
<CompressionType Sync="TRUE">None</CompressionType>
<NumBands Sync="TRUE">4</NumBands>
<Format Sync="TRUE">AMD</Format>
<HasPyramids Sync="TRUE">TRUE</HasPyramids>
<SourceType Sync="TRUE">continuous</SourceType>
<PixelType Sync="TRUE">unsigned integer</PixelType>
<NoDataValue Sync="TRUE"/>
</General>
<Properties>
<MaxImageHeight Sync="TRUE">4100</MaxImageHeight>
<MaxImageWidth Sync="TRUE">15000</MaxImageWidth>
<MaxRecordCount Sync="TRUE">1000</MaxRecordCount>
<MaxDownloadImageCount Sync="TRUE">20</MaxDownloadImageCount>
<MaxDownloadSizeLimit Sync="TRUE">2048</MaxDownloadSizeLimit>
<MaxMosaicImageCount Sync="TRUE">20</MaxMosaicImageCount>
<DefaultCompressionQuality Sync="TRUE">75</DefaultCompressionQuality>
<DefaultCompressionTolerance Sync="TRUE">0.01</DefaultCompressionTolerance>
<BlendWidth Sync="TRUE">10</BlendWidth>
<ViewpointSpacingX Sync="TRUE">600</ViewpointSpacingX>
<ViewpointSpacingY Sync="TRUE">300</ViewpointSpacingY>
<AllowedItemMetadata Sync="TRUE">Basic</AllowedItemMetadata>
<DefaultResamplingMethod Sync="TRUE">1</DefaultResamplingMethod>
<AllowedMosaicMethods Sync="TRUE">NorthWest,Center,LockRaster,ByAttribute,Nadir,Viewpoint,Seamline,None</AllowedMosaicMethods>
<AllowedCompressions Sync="TRUE">None,JPEG,LZ77,LERC</AllowedCompressions>
<AllowedMensurationCapabilities Sync="TRUE">Basic</AllowedMensurationCapabilities>
<AvailableMensurationCapabilities Sync="TRUE">None,Basic,Base-Top Height,Top-Top Shadow Height,Base-Top Shadow Height,3D</AvailableMensurationCapabilities>
<ClipToBoundary Sync="TRUE">-1</ClipToBoundary>
<FootprintMayContainNoData Sync="TRUE">-1</FootprintMayContainNoData>
<CellSizeTolerance Sync="TRUE">0.8</CellSizeTolerance>
<MinimumPixelContribution Sync="TRUE">1</MinimumPixelContribution>
<AvailableMosaicMethods Sync="TRUE">NorthWest,Center,LockRaster,ByAttribute,Nadir,Viewpoint,Seamline,None</AvailableMosaicMethods>
<AvailableCompressionMethods Sync="TRUE">None,JPEG,LZ77,LERC</AvailableCompressionMethods>
<AvailableItemMetadataLevels Sync="TRUE">None,Basic,Full</AvailableItemMetadataLevels>
<BandDefinitionKeyword Sync="TRUE">NONE</BandDefinitionKeyword>
<AllowedFields Sync="TRUE">Name,MinPS,MaxPS,LowPS,HighPS,Tag,GroupName,ProductName,CenterX,CenterY,ZOrder,Shape.STArea(),Shape.STLength()</AllowedFields>
<MaxCellSize Sync="TRUE">54675</MaxCellSize>
<LowCellSize Sync="TRUE">0.5</LowCellSize>
<HighCellSize Sync="TRUE">1093.5</HighCellSize>
</Properties>
<Functions Sync="TRUE">
<Function Description="Performs on-the-fly mosaic on a raster catalog." Name="Mosaic Function"/>
</Functions>
</RasterProperties>
</DataProperties>
<ModDate>20220801</ModDate>
<ModTime>10383500</ModTime>
<SyncDate>20220801</SyncDate>
<SyncTime>10381400</SyncTime>
<scaleRange>
<minScale>625000</minScale>
<maxScale>5000</maxScale>
</scaleRange>
<ArcGISProfile>ItemDescription</ArcGISProfile>
</Esri>
<mdDateSt Sync="TRUE">20220801</mdDateSt>
<dataIdInfo>
<envirDesc Sync="TRUE"> Version 6.2 (Build 9200) ; Esri ArcGIS 10.9.1.28388</envirDesc>
<dataLang>
<languageCode Sync="TRUE" value="eng"/>
<countryCode Sync="TRUE" value="USA"/>
</dataLang>
<idCitation>
<resTitle Sync="FALSE">Orthos_2013IR_6IN</resTitle>
<presForm>
<PresFormCd Sync="TRUE" value="005"/>
</presForm>
</idCitation>
<spatRpType>
<SpatRepTypCd Sync="TRUE" value="002"/>
</spatRpType>
<dataExt>
<geoEle>
<GeoBndBox esriExtentType="search">
<exTypeCode Sync="TRUE">1</exTypeCode>
<westBL Sync="TRUE">-88.267019</westBL>
<eastBL Sync="TRUE">-87.515370</eastBL>
<northBL Sync="TRUE">41.739028</northBL>
<southBL Sync="TRUE">41.194159</southBL>
</GeoBndBox>
</geoEle>
</dataExt>
<idPurp>This data set was created to serve as part of a standard database for virtually all geospatial applications in Cook County, and is intended to support general location, planning, and cartography projects, as well as general inventory and asset management, Census analysis and mapping, and geocoding by address. The orthophotos were created as a control and foundation for planimetric and cadastral data sets and to provide a visual baseline for Cook County.</idPurp>
<idAbs>&lt;div style='text-align:Left;'&gt;&lt;div&gt;&lt;div&gt;&lt;p&gt;&lt;span&gt;This digital geospatial file consists of a series of raster digital orthophoto images covering all of Cook, DuPage, Grundy, Kane, Kendall, Lake, McHenry, and Will County, Illinois.&lt;/span&gt;&lt;/p&gt;&lt;p&gt;&lt;span&gt;The images have a pixel resolution of 0.5 feet which generated an orthophotographic database with a mapping scale of 1" = 100'. The imagery for the "Countywide Flight" was collected between April 2, 2013 and May 7, 2013.&lt;/span&gt;&lt;/p&gt;&lt;p&gt;&lt;span&gt;The imagery for the "Special Consideration Area" was collected between April 3, 2013 and June 14, 2013. (Refer to the relevant Process Step for a description of the principal differences between these two flights.)&lt;/span&gt;&lt;/p&gt;&lt;p&gt;&lt;span&gt;A digital orthoimage is a raster image of remotely sensed data that has had displacement in the image introduced by sensor orientation and terrain relief removed. Digital orthoimages combine the image characteristics of photography with the geometric qualities of maps. The normal orientation of this data is by lines (rows) and samples (columns). Each sample in this data set contains a series of pixels ordered from west to east with the order of the lines from north to south.&lt;/span&gt;&lt;/p&gt;&lt;p&gt;&lt;span&gt;The data set is tiled for dissemination into 18,905 separate tiles, each of which is 2500 feet on a side.&lt;/span&gt;&lt;/p&gt;&lt;p&gt;&lt;span&gt;This digital geospatial file has been orthorectified using survey control points obtained through both Airborne Global Positioning Systems and Ground Control Survey. This dataset is projected using the Transverse Mercator map projection. The grid coordinate system used is the Illinois State Plane Coordinate System, East Zone (Zone Number Zone 3776, FIPS 1201), NAD 83 (NSRS2007) (horizontal datum), with ground coordinates expressed in U.S. Survey Feet.&lt;/span&gt;&lt;/p&gt;&lt;p&gt;&lt;span&gt;Each tile consists of two files, a TIFF (Tagged Image File Format) (.tif), and an ASCII geo-referencing header file (.tfw). Each tile is approximately 100MB in size resulting in a total of 1.9TB for the region.&lt;/span&gt;&lt;/p&gt;&lt;/div&gt;&lt;/div&gt;&lt;/div&gt;</idAbs>
<idCredit>Cook County Board of Commissioners, Merrick &amp; Company</idCredit>
<searchKeys>
<keyword>digital ortho-photograph</keyword>
<keyword>digital ortho</keyword>
<keyword>orthorectified image</keyword>
<keyword>digital image</keyword>
<keyword>digital ortho-photo</keyword>
<keyword>rectified photograph</keyword>
<keyword>rectified image</keyword>
<keyword>orthophoto</keyword>
<keyword>digital ortho-imagery</keyword>
<keyword>ortho-image</keyword>
<keyword>Color orthoimagery</keyword>
<keyword>Color orthophotographs</keyword>
<keyword>4-band</keyword>
<keyword>four-band</keyword>
<keyword>Imagery</keyword>
<keyword>base maps</keyword>
<keyword>and land cover</keyword>
<keyword>Illinois</keyword>
<keyword>northeastern Illinois</keyword>
<keyword>Chicago</keyword>
<keyword>Cook County</keyword>
<keyword>DuPage County</keyword>
<keyword>Kane County</keyword>
<keyword>Kendall County</keyword>
<keyword>Lake County</keyword>
<keyword>McHenry County</keyword>
<keyword>Will County</keyword>
<keyword>Grundy County</keyword>
<keyword>mosaic dataset</keyword>
</searchKeys>
<resConst>
<Consts>
<useLimit>&lt;div style='text-align:Left;'&gt;&lt;div&gt;&lt;div&gt;&lt;p&gt;&lt;span&gt;Access to this feature dataset is available to county and municipal agencies. Editing privileges are restricted to authorized GIS staff members or its designees.&lt;/span&gt;&lt;/p&gt;&lt;/div&gt;&lt;/div&gt;&lt;/div&gt;</useLimit>
</Consts>
</resConst>
</dataIdInfo>
<mdLang>
<languageCode Sync="TRUE" value="eng"/>
<countryCode Sync="TRUE" value="USA"/>
</mdLang>
<refSysInfo>
<RefSystem>
<refSysID>
<identCode Sync="TRUE" code="3529"/>
<idCodeSpace Sync="TRUE">EPSG</idCodeSpace>
<idVersion Sync="TRUE">8.9.3(10.0.0)</idVersion>
</refSysID>
</RefSystem>
</refSysInfo>
<spatRepInfo>
<Georect>
<cellGeo>
<CellGeoCd Sync="TRUE" value="002"/>
</cellGeo>
<numDims Sync="TRUE">2</numDims>
<tranParaAv Sync="TRUE">1</tranParaAv>
<chkPtAv Sync="TRUE">0</chkPtAv>
<cornerPts>
<pos Sync="TRUE">1002500.000000 1650000.000000</pos>
</cornerPts>
<cornerPts>
<pos Sync="TRUE">1002500.000000 1847500.000000</pos>
</cornerPts>
<cornerPts>
<pos Sync="TRUE">1207500.000000 1847500.000000</pos>
</cornerPts>
<cornerPts>
<pos Sync="TRUE">1207500.000000 1650000.000000</pos>
</cornerPts>
<centerPt>
<pos Sync="TRUE">1105000.000000 1748750.000000</pos>
</centerPt>
<axisDimension type="002">
<dimSize Sync="TRUE">410000</dimSize>
<dimResol>
<value Sync="TRUE" uom="ftUS">0.500000</value>
</dimResol>
</axisDimension>
<axisDimension type="001">
<dimSize Sync="TRUE">395000</dimSize>
<dimResol>
<value Sync="TRUE" uom="ftUS">0.500000</value>
</dimResol>
</axisDimension>
<ptInPixel>
<PixOrientCd Sync="TRUE" value="001"/>
</ptInPixel>
</Georect>
</spatRepInfo>
<contInfo>
<ImgDesc>
<contentTyp>
<ContentTypCd Sync="TRUE" value="001"/>
</contentTyp>
<covDim>
<Band>
<dimDescrp Sync="TRUE">Band_1</dimDescrp>
<maxVal Sync="TRUE">233.000000</maxVal>
<minVal Sync="TRUE">1.000000</minVal>
<bitsPerVal Sync="TRUE">8</bitsPerVal>
<valUnit>
<UOM type="length"/>
</valUnit>
</Band>
<Band>
<dimDescrp Sync="TRUE">Band_2</dimDescrp>
<maxVal Sync="TRUE">235.000000</maxVal>
<minVal Sync="TRUE">2.000000</minVal>
<bitsPerVal Sync="TRUE">8</bitsPerVal>
<valUnit>
<UOM type="length"/>
</valUnit>
</Band>
<Band>
<dimDescrp Sync="TRUE">Band_3</dimDescrp>
<maxVal Sync="TRUE">234.000000</maxVal>
<minVal Sync="TRUE">3.000000</minVal>
<bitsPerVal Sync="TRUE">8</bitsPerVal>
<valUnit>
<UOM type="length"/>
</valUnit>
</Band>
<Band>
<dimDescrp Sync="TRUE">Band_4</dimDescrp>
<maxVal Sync="TRUE">225.000000</maxVal>
<minVal Sync="TRUE">0.000000</minVal>
<bitsPerVal Sync="TRUE">8</bitsPerVal>
<valUnit>
<UOM type="length"/>
</valUnit>
</Band>
</covDim>
</ImgDesc>
</contInfo>
<mdHrLv>
<ScopeCd value="005"/>
</mdHrLv>
</metadata>
