<?xml version="1.0" encoding="UTF-8" standalone="no"?>
<metadata xml:lang="en">
<Esri>
<CreaDate>20220728</CreaDate>
<CreaTime>12323000</CreaTime>
<ArcGISFormat>1.0</ArcGISFormat>
<SyncOnce>FALSE</SyncOnce>
<DataProperties>
<lineage>
<Process Date="20220728" Name="" Time="123230" ToolSource="c:\program files\arcgis\pro\Resources\ArcToolbox\toolboxes\Data Management Tools.tbx\CreateMosaicDataset" export="">CreateMosaicDataset \\gisfile\GISstaff\ga2cogis2gissql01.sde Ortho2005_1FT_BDS PROJCS["NAD_1983_StatePlane_Illinois_East_FIPS_1201",GEOGCS["GCS_North_American_1983",DATUM["D_North_American_1983",SPHEROID["GRS_1980",6378137.0,298.257222101]],PRIMEM["Greenwich",0.0],UNIT["Degree",0.0174532925199433]],PROJECTION["Transverse_Mercator"],PARAMETER["false_easting",984250.0],PARAMETER["false_northing",0.0],PARAMETER["central_meridian",-88.33333333333333],PARAMETER["scale_factor",0.999975],PARAMETER["latitude_of_origin",36.66666666666666],UNIT["Foot_US",0.3048006096012192]] 3 "8-bit unsigned" None #</Process>
<Process Date="20240103" Time="133447" ToolSource="c:\program files (x86)\arcgis\desktop10.8\ArcToolbox\Toolboxes\Data Management Tools.tbx\RepairMosaicDatasetPaths">RepairMosaicDatasetPaths "Database Connections\gisadminSQL to cogis.gissql01.sde\DBO.Ortho2005_1FT" "# \\gisbds\Imagery\2005\USGS_GEOTIFF \\gisaerials\Imagery\2005\USGS_GEOTIFF" #</Process>
<Process Date="20240826" Time="132009" ToolSource="c:\program files\arcgis\pro\Resources\ArcToolbox\toolboxes\Data Management Tools.tbx\ChangePrivileges">ChangePrivileges \\gisfile\gisstaff\SQLServer-gissql-cogis.sde\DBO.Ortho2009P_6IN;\\gisfile\gisstaff\SQLServer-gissql-cogis.sde\DBO.Lidar2021_DEM;\\gisfile\gisstaff\SQLServer-gissql-cogis.sde\DBO.Lidar2021_HEDEM;\\gisfile\gisstaff\SQLServer-gissql-cogis.sde\DBO.Lidar2021_Intensity;\\gisfile\gisstaff\SQLServer-gissql-cogis.sde\DBO.Ortho2004_6IN;\\gisfile\gisstaff\SQLServer-gissql-cogis.sde\DBO.Ortho2005_1FT;\\gisfile\gisstaff\SQLServer-gissql-cogis.sde\DBO.Ortho2006P_6IN;\\gisfile\gisstaff\SQLServer-gissql-cogis.sde\DBO.Ortho2008_6IN;\\gisfile\gisstaff\SQLServer-gissql-cogis.sde\DBO.Ortho2009_1FT;\\gisfile\gisstaff\SQLServer-gissql-cogis.sde\DBO.Ortho2009IR_6IN ims "Grant view privileges" "Do not change edit privileges"</Process>
</lineage>
<itemProps>
<itemName Sync="TRUE">DBO.Ortho2005_1FT</itemName>
<itemLocation>
<linkage Sync="TRUE">Server=gissql01; Service=sde:sqlserver:gissql01; Database=cogis; User=gisadmin; Version=dbo.DEFAULT</linkage>
<protocol Sync="TRUE">ArcSDE Connection</protocol>
</itemLocation>
<nativeExtBox>
<westBL Sync="TRUE">1000000.000000</westBL>
<eastBL Sync="TRUE">1210000.000000</eastBL>
<southBL Sync="TRUE">1650000.000000</southBL>
<northBL Sync="TRUE">1850000.000000</northBL>
<exTypeCode Sync="TRUE">1</exTypeCode>
</nativeExtBox>
</itemProps>
<coordRef>
<type Sync="TRUE">Projected</type>
<geogcsn Sync="TRUE">GCS_North_American_1983</geogcsn>
<csUnits Sync="TRUE">Linear Unit: Foot_US (0.304801)</csUnits>
<projcsn Sync="TRUE">NAD_1983_StatePlane_Illinois_East_FIPS_1201</projcsn>
<peXml Sync="TRUE">&lt;ProjectedCoordinateSystem xsi:type='typens:ProjectedCoordinateSystem' xmlns:xsi='http://www.w3.org/2001/XMLSchema-instance' xmlns:xs='http://www.w3.org/2001/XMLSchema' xmlns:typens='http://www.esri.com/schemas/ArcGIS/10.8'&gt;&lt;WKT&gt;PROJCS[&amp;quot;NAD_1983_StatePlane_Illinois_East_FIPS_1201&amp;quot;,GEOGCS[&amp;quot;GCS_North_American_1983&amp;quot;,DATUM[&amp;quot;D_North_American_1983&amp;quot;,SPHEROID[&amp;quot;GRS_1980&amp;quot;,6378137.0,298.257222101]],PRIMEM[&amp;quot;Greenwich&amp;quot;,0.0],UNIT[&amp;quot;Degree&amp;quot;,0.0174532925199433]],PROJECTION[&amp;quot;Transverse_Mercator&amp;quot;],PARAMETER[&amp;quot;false_easting&amp;quot;,984250.0],PARAMETER[&amp;quot;false_northing&amp;quot;,0.0],PARAMETER[&amp;quot;central_meridian&amp;quot;,-88.33333333333333],PARAMETER[&amp;quot;scale_factor&amp;quot;,0.999975],PARAMETER[&amp;quot;latitude_of_origin&amp;quot;,36.66666666666666],UNIT[&amp;quot;Foot_US&amp;quot;,0.3048006096012192]]&lt;/WKT&gt;&lt;XOrigin&gt;-17463800&lt;/XOrigin&gt;&lt;YOrigin&gt;-46132600&lt;/YOrigin&gt;&lt;XYScale&gt;137244822.07846552&lt;/XYScale&gt;&lt;ZOrigin&gt;-100000&lt;/ZOrigin&gt;&lt;ZScale&gt;10000&lt;/ZScale&gt;&lt;MOrigin&gt;-100000&lt;/MOrigin&gt;&lt;MScale&gt;10000&lt;/MScale&gt;&lt;XYTolerance&gt;0.0032808333333333331&lt;/XYTolerance&gt;&lt;ZTolerance&gt;0.001&lt;/ZTolerance&gt;&lt;MTolerance&gt;0.001&lt;/MTolerance&gt;&lt;HighPrecision&gt;true&lt;/HighPrecision&gt;&lt;/ProjectedCoordinateSystem&gt;</peXml>
</coordRef>
<RasterProperties>
<General>
<PixelDepth Sync="TRUE">8</PixelDepth>
<HasColormap Sync="TRUE">FALSE</HasColormap>
<CompressionType Sync="TRUE">None</CompressionType>
<NumBands Sync="TRUE">3</NumBands>
<Format Sync="TRUE">AMD</Format>
<HasPyramids Sync="TRUE">TRUE</HasPyramids>
<SourceType Sync="TRUE">continuous</SourceType>
<PixelType Sync="TRUE">unsigned integer</PixelType>
<NoDataValue Sync="TRUE"/>
</General>
<Properties>
<MaxImageHeight Sync="TRUE">4100</MaxImageHeight>
<MaxImageWidth Sync="TRUE">15000</MaxImageWidth>
<MaxRecordCount Sync="TRUE">1000</MaxRecordCount>
<MaxDownloadImageCount Sync="TRUE">20</MaxDownloadImageCount>
<MaxDownloadSizeLimit Sync="TRUE">2048</MaxDownloadSizeLimit>
<MaxMosaicImageCount Sync="TRUE">20</MaxMosaicImageCount>
<DefaultCompressionQuality Sync="TRUE">75</DefaultCompressionQuality>
<DefaultCompressionTolerance Sync="TRUE">0.01</DefaultCompressionTolerance>
<BlendWidth Sync="TRUE">10</BlendWidth>
<ViewpointSpacingX Sync="TRUE">600</ViewpointSpacingX>
<ViewpointSpacingY Sync="TRUE">300</ViewpointSpacingY>
<AllowedItemMetadata Sync="TRUE">Basic</AllowedItemMetadata>
<DefaultResamplingMethod Sync="TRUE">1</DefaultResamplingMethod>
<AllowedMosaicMethods Sync="TRUE">NorthWest,Center,LockRaster,ByAttribute,Nadir,Viewpoint,Seamline,None</AllowedMosaicMethods>
<AllowedCompressions Sync="TRUE">None,JPEG,LZ77,LERC</AllowedCompressions>
<AllowedMensurationCapabilities Sync="TRUE">None</AllowedMensurationCapabilities>
<AvailableMensurationCapabilities Sync="TRUE">None,Basic,Base-Top Height,Top-Top Shadow Height,Base-Top Shadow Height,3D</AvailableMensurationCapabilities>
<ClipToBoundary Sync="TRUE">-1</ClipToBoundary>
<FootprintMayContainNoData Sync="TRUE">-1</FootprintMayContainNoData>
<CellSizeTolerance Sync="TRUE">0.8</CellSizeTolerance>
<MinimumPixelContribution Sync="TRUE">1</MinimumPixelContribution>
<AvailableMosaicMethods Sync="TRUE">NorthWest,Center,LockRaster,ByAttribute,Nadir,Viewpoint,Seamline,None</AvailableMosaicMethods>
<AvailableCompressionMethods Sync="TRUE">None,JPEG,LZ77,LERC</AvailableCompressionMethods>
<AvailableItemMetadataLevels Sync="TRUE">None,Basic,Full</AvailableItemMetadataLevels>
<BandDefinitionKeyword Sync="TRUE">NONE</BandDefinitionKeyword>
<_docversion_ Sync="TRUE">10</_docversion_>
<AllowedFields Sync="TRUE">Name,MinPS,MaxPS,LowPS,HighPS,Tag,GroupName,ProductName,CenterX,CenterY,ZOrder,Shape.STArea(),Shape.STLength()</AllowedFields>
<LowCellSize Sync="TRUE">1</LowCellSize>
<HighCellSize Sync="TRUE">1458</HighCellSize>
<MaxCellSize Sync="TRUE">72900</MaxCellSize>
<PixelCacheLocation Sync="TRUE">C:\Users\gjohnson\AppData\Local\ESRI\rasterproxies\DBO.Ortho2005_1FT_BDS</PixelCacheLocation>
</Properties>
<Functions Sync="TRUE">
<Function Description="Performs on-the-fly mosaic on a raster catalog." Name="Mosaic Function"/>
</Functions>
</RasterProperties>
</DataProperties>
<SyncDate>20220801</SyncDate>
<SyncTime>11134200</SyncTime>
<ModDate>20220801</ModDate>
<ModTime>11134200</ModTime>
<ArcGISProfile>ItemDescription</ArcGISProfile>
<scaleRange>
<minScale>625000</minScale>
<maxScale>5000</maxScale>
</scaleRange>
</Esri>
<mdHrLv>
<ScopeCd value="005"/>
</mdHrLv>
<dataIdInfo>
<idCitation>
<resTitle Sync="FALSE">Orthos_2005_1FT</resTitle>
<presForm>
<PresFormCd Sync="TRUE" value="005"/>
</presForm>
</idCitation>
<idPurp>These data have been created as a result of the need for having geospatial data immediately available and easily accessible in order to provide geographic reference for Federal, State, and local emergency responders, as well as for homeland security efforts. Orthoimages also serve a variety of purposes, from interim maps to field references for earth science investigations and analysis. The digital orthoimage is useful as a layer of a geographic information system. These data can be used to provide reference information for Web browsers and for map applications at a scale of 1:100,000 or smaller. Larger scale orthoimagery such as digital orthophoto quadrangles will be more accurate, but often at the expense of timely updates.</idPurp>
<idAbs>&lt;div style='text-align:Left;'&gt;&lt;div&gt;&lt;div&gt;&lt;p&gt;&lt;span&gt;An orthoimage is remotely sensed image data in which displacement of features in the image caused by terrain relief and sensor orientation have been mathematically removed. Orthoimagery combines the image characteristics of a photograph with the geometric qualities of a map. The projected coordinate system is UTM with a NAD83 datum. There is no image overlap between adjacent files. &lt;/span&gt;&lt;/p&gt;&lt;/div&gt;&lt;/div&gt;&lt;/div&gt;</idAbs>
<idCredit>U.S. Geological Survey</idCredit>
<searchKeys>
<keyword>digital spatial data</keyword>
<keyword>0.3 meter orthoimage</keyword>
<keyword>rectified image</keyword>
<keyword>orthophoto</keyword>
<keyword>natural color orthophoto</keyword>
<keyword>orthoimage</keyword>
<keyword>image map</keyword>
<keyword>United States</keyword>
<keyword>U.S.</keyword>
<keyword>US</keyword>
<keyword>IL</keyword>
<keyword>Chicago</keyword>
<keyword>mosaic dataset</keyword>
</searchKeys>
<resConst>
<Consts>
<useLimit>&lt;div style='text-align:Left;'&gt;&lt;div&gt;&lt;div&gt;&lt;p&gt;&lt;span&gt;There is no guarantee of warranty concerning the accuracy of the data. Users should be aware that temporal changes may have occurred since this data set was collected and that some parts of this data may no longer represent actual surface conditions. Users should not use this data for critical applications without a full awareness of it's limitations. Acknowledgement of the originating agencies would be appreciated in products derived from these data. Any user who modifies the data is obligated to describe the types of modifications they perform. User specifically agrees not to misrepresent the data, nor to imply that changes made were approved or endorsed by the U.S. Geological Survey. Please refer to &amp;lt;http://www.usgs.gov/privacy.html&amp;gt; for the USGS disclaimer.&lt;/span&gt;&lt;/p&gt;&lt;/div&gt;&lt;/div&gt;&lt;/div&gt;</useLimit>
</Consts>
</resConst>
<envirDesc Sync="TRUE"> Version 6.2 (Build 9200) ; Esri ArcGIS 10.9.1.28388</envirDesc>
<dataLang>
<languageCode Sync="TRUE" value="eng"/>
<countryCode Sync="TRUE" value="USA"/>
</dataLang>
<spatRpType>
<SpatRepTypCd Sync="TRUE" value="002"/>
</spatRpType>
<dataExt>
<geoEle>
<GeoBndBox esriExtentType="search">
<exTypeCode Sync="TRUE">1</exTypeCode>
<westBL Sync="TRUE">-88.276103</westBL>
<eastBL Sync="TRUE">-87.506123</eastBL>
<northBL Sync="TRUE">41.745894</northBL>
<southBL Sync="TRUE">41.194095</southBL>
</GeoBndBox>
</geoEle>
</dataExt>
</dataIdInfo>
<spatRepInfo>
<Georect>
<axisDimension type="002">
<dimSize Sync="TRUE">210000</dimSize>
<dimResol>
<value Sync="TRUE" uom="ftUS">1.000000</value>
</dimResol>
</axisDimension>
<axisDimension type="001">
<dimSize Sync="TRUE">200000</dimSize>
<dimResol>
<value Sync="TRUE" uom="ftUS">1.000000</value>
</dimResol>
</axisDimension>
<cellGeo>
<CellGeoCd Sync="TRUE" value="002"/>
</cellGeo>
<numDims Sync="TRUE">2</numDims>
<tranParaAv Sync="TRUE">1</tranParaAv>
<chkPtAv Sync="TRUE">0</chkPtAv>
<cornerPts>
<pos Sync="TRUE">1000000.000000 1650000.000000</pos>
</cornerPts>
<cornerPts>
<pos Sync="TRUE">1000000.000000 1850000.000000</pos>
</cornerPts>
<cornerPts>
<pos Sync="TRUE">1210000.000000 1850000.000000</pos>
</cornerPts>
<cornerPts>
<pos Sync="TRUE">1210000.000000 1650000.000000</pos>
</cornerPts>
<centerPt>
<pos Sync="TRUE">1105000.000000 1750000.000000</pos>
</centerPt>
<ptInPixel>
<PixOrientCd Sync="TRUE" value="001"/>
</ptInPixel>
</Georect>
</spatRepInfo>
<contInfo>
<ImgDesc>
<covDim>
<Band>
<valUnit>
<UOM type="length"/>
</valUnit>
<dimDescrp Sync="TRUE">Band_1</dimDescrp>
<maxVal Sync="TRUE">254.000000</maxVal>
<minVal Sync="TRUE">7.000000</minVal>
<bitsPerVal Sync="TRUE">8</bitsPerVal>
</Band>
<Band>
<valUnit>
<UOM type="length"/>
</valUnit>
<dimDescrp Sync="TRUE">Band_2</dimDescrp>
<maxVal Sync="TRUE">255.000000</maxVal>
<minVal Sync="TRUE">6.000000</minVal>
<bitsPerVal Sync="TRUE">8</bitsPerVal>
</Band>
<Band>
<valUnit>
<UOM type="length"/>
</valUnit>
<dimDescrp Sync="TRUE">Band_3</dimDescrp>
<maxVal Sync="TRUE">255.000000</maxVal>
<minVal Sync="TRUE">7.000000</minVal>
<bitsPerVal Sync="TRUE">8</bitsPerVal>
</Band>
</covDim>
<contentTyp>
<ContentTypCd Sync="TRUE" value="001"/>
</contentTyp>
</ImgDesc>
</contInfo>
<mdLang>
<languageCode Sync="TRUE" value="eng"/>
<countryCode Sync="TRUE" value="USA"/>
</mdLang>
<refSysInfo>
<RefSystem>
<refSysID>
<identCode Sync="TRUE" code="0"/>
</refSysID>
</RefSystem>
</refSysInfo>
<mdDateSt Sync="TRUE">20220801</mdDateSt>
</metadata>
