{ "currentVersion": 11.3, "serviceDescription": "
This data set contains imagery from the National Agriculture Imagery Program (NAIP). NAIP acquires digital ortho imagery during the agricultural growing seasons in the continental U.S.. A primary goal of the NAIP program is to enable availability of ortho imagery within one year of acquisition. NAIP provides two main products: 1 meter ground sample distance (GSD) ortho imagery rectified to a horizontal accuracy of within +/- 3 meters of reference digital ortho quarter quads (DOQQ's) from the National Digital Ortho Program (NDOP); and, 2 meter GSD ortho imagery rectified to within +/- 10 meters of reference DOQQs. The tiling format of NAIP imagery is based on a 3.75' x 3.75' quarter quadrangle with a 300 meter buffer on all four sides. NAIP quarter quads are formatted to the UTM coordinate system using NAD83. NAIP imagery may contain as much as 10% cloud cover per tile. This file was generated by compressing NAIP quarter quadrangle tiles that cover a county. MrSID (MG3) compression, with mosaic option, was used. Target values for the compression ratio are (15:1) and compression levels(9) are used.<\/span><\/p><\/div><\/div><\/div>",
"name": "Orthoimagery/Ortho2006_1M",
"description": " This data set contains imagery from the National Agriculture Imagery Program (NAIP). NAIP acquires digital ortho imagery during the agricultural growing seasons in the continental U.S.. A primary goal of the NAIP program is to enable availability of ortho imagery within one year of acquisition. NAIP provides two main products: 1 meter ground sample distance (GSD) ortho imagery rectified to a horizontal accuracy of within +/- 3 meters of reference digital ortho quarter quads (DOQQ's) from the National Digital Ortho Program (NDOP); and, 2 meter GSD ortho imagery rectified to within +/- 10 meters of reference DOQQs. The tiling format of NAIP imagery is based on a 3.75' x 3.75' quarter quadrangle with a 300 meter buffer on all four sides. NAIP quarter quads are formatted to the UTM coordinate system using NAD83. NAIP imagery may contain as much as 10% cloud cover per tile. This file was generated by compressing NAIP quarter quadrangle tiles that cover a county. MrSID (MG3) compression, with mosaic option, was used. Target values for the compression ratio are (15:1) and compression levels(9) are used.<\/span><\/p><\/div><\/div><\/div>",
"extent": {
"xmin": 389624,
"ymin": 4559754,
"xmax": 458568,
"ymax": 4623154,
"spatialReference": {
"wkid": 26916,
"latestWkid": 26916
}
},
"initialExtent": {
"xmin": 389624,
"ymin": 4559754,
"xmax": 458568,
"ymax": 4623154,
"spatialReference": {
"wkid": 26916,
"latestWkid": 26916
}
},
"fullExtent": {
"xmin": 389624,
"ymin": 4559754,
"xmax": 458568,
"ymax": 4623154,
"spatialReference": {
"wkid": 26916,
"latestWkid": 26916
}
},
"sortableFields": "",
"bandCount": 3,
"pixelType": "U8",
"minValues": [],
"maxValues": [],
"meanValues": [],
"stdvValues": [],
"hasMultidimensions": false,
"pixelSizeX": 2,
"pixelSizeY": 2,
"meanPixelSize": 2,
"datasetFormat": "SDR",
"uncompressedSize": 3278287200,
"blockWidth": 128,
"blockHeight": 128,
"compressionType": "JPEG",
"bandNames": [
"Band_1",
"Band_2",
"Band_3"
],
"allowCopy": true,
"allowAnalysis": true,
"itemAccess": false,
"inspectionCapabilities": "",
"minPixelSize": 0,
"maxPixelSize": 0,
"copyrightText": "USDA-FSA Aerial Photography Field Office",
"serviceDataType": "esriImageServiceDataTypeRGB",
"serviceSourceType": "esriImageServiceSourceTypeDataset",
"objectIdField": "",
"fields": [],
"capabilities": "Mensuration,Image,Metadata",
"defaultMosaicMethod": "Center",
"allowedMosaicMethods": "",
"sortField": "",
"sortValue": null,
"sortAscending": true,
"mosaicOperator": "First",
"defaultCompressionQuality": 75,
"defaultResamplingMethod": "Bilinear",
"maxImageHeight": 4100,
"maxImageWidth": 15000,
"allowRasterFunction": true,
"rasterFunctionInfos": [
{
"name": "None",
"description": "",
"help": ""
}
],
"rasterTypeInfos": [
{
"name": "Raster Dataset",
"description": "Supports all ArcGIS Raster Datasets",
"help": ""
}
],
"mensurationCapabilities": "Basic",
"hasHistograms": false,
"hasColormap": false,
"hasRasterAttributeTable": false,
"minScale": 0,
"maxScale": 0,
"exportTilesAllowed": false,
"supportsStatistics": false,
"supportsAdvancedQueries": false,
"editFieldsInfo": null,
"ownershipBasedAccessControlForRasters": null,
"allowComputeTiePoints": false,
"useStandardizedQueries": true,
"advancedQueryCapabilities": {
"useStandardizedQueries": true,
"supportsStatistics": false,
"supportsOrderBy": false,
"supportsDistinct": false,
"supportsPagination": false
},
"spatialReference": {
"wkid": 26916,
"latestWkid": 26916
},
"resampling": false
}