<?xml version="1.0" encoding="UTF-8" standalone="no"?>
<metadata xml:lang="en">
<Esri>
<CreaDate>20141208</CreaDate>
<CreaTime>08352600</CreaTime>
<ArcGISFormat>1.0</ArcGISFormat>
<ArcGISstyle>FGDC CSDGM Metadata</ArcGISstyle>
<SyncOnce>FALSE</SyncOnce>
<DataProperties>
<lineage>
<Process Date="20141208" Name="" Time="083526" ToolSource="c:\program files (x86)\arcgis\desktop10.1\ArcToolbox\Toolboxes\Data Management Tools.tbx\ChangePrivileges" export="">ChangePrivileges 'Database Connections\dbo2cogis.plainfield.sde\cogis.DBO.IMAGERY2002_1M';'Database Connections\dbo2cogis.plainfield.sde\cogis.DBO.ORTHOS1939_1M';'Database Connections\dbo2cogis.plainfield.sde\cogis.DBO.ORTHOS1997_1FT';'Database Connections\dbo2cogis.plainfield.sde\cogis.DBO.ORTHOS2004_6IN';'Database Connections\dbo2cogis.plainfield.sde\cogis.DBO.ORTHOS2005_1FT';'Database Connections\dbo2cogis.plainfield.sde\cogis.DBO.ORTHOS2006_1M';'Database Connections\dbo2cogis.plainfield.sde\cogis.DBO.ORTHOS2006P_6IN';'Database Connections\dbo2cogis.plainfield.sde\cogis.DBO.ORTHOS2007_1M';'Database Connections\dbo2cogis.plainfield.sde\cogis.DBO.ORTHOS2008_6IN';'Database Connections\dbo2cogis.plainfield.sde\cogis.DBO.ORTHOS2009_1FT';'Database Connections\dbo2cogis.plainfield.sde\cogis.DBO.ORTHOS2009_6IN';'Database Connections\dbo2cogis.plainfield.sde\cogis.DBO.ORTHOS2009P_6IN';'Database Connections\dbo2cogis.plainfield.sde\cogis.DBO.ORTHOS2011P_1FT';'Database Connections\dbo2cogis.plainfield.sde\cogis.DBO.ORTHOS2011P_6IN' ims GRANT #</Process>
<Process Date="20180306" Time="085231" ToolSource="c:\program files (x86)\arcgis\desktop10.5\ArcToolbox\Toolboxes\Data Management Tools.tbx\ChangePrivileges">ChangePrivileges 'Database Connections\dbo to cogis.gissql.sde\cogis.DBO.Ortho2006_1M';'Database Connections\dbo to cogis.gissql.sde\cogis.DBO.OrthoBW1970_1FT' ims GRANT #</Process>
<Process Date="20180316" Time="093229" ToolSource="c:\program files (x86)\arcgis\desktop10.5\ArcToolbox\Toolboxes\Data Management Tools.tbx\ChangePrivileges">ChangePrivileges 'Database Connections\dbo to cogis.gissql.sde\cogis.DBO.AerialBW1954_1M';'Database Connections\dbo to cogis.gissql.sde\cogis.DBO.AerialBW1970_1FT';'Database Connections\dbo to cogis.gissql.sde\cogis.DBO.Ortho2002_1M';'Database Connections\dbo to cogis.gissql.sde\cogis.DBO.Ortho2006_1M' ims GRANT #</Process>
<Process Date="20200616" Time="140406" ToolSource="c:\program files (x86)\arcgis\desktop10.5\ArcToolbox\Toolboxes\Data Management Tools.tbx\ChangePrivileges">ChangePrivileges 'Database Connections\gisadminSQL to cogis.gissql01.sde\cogis.DBO.AerialBW1954_1M';'Database Connections\gisadminSQL to cogis.gissql01.sde\cogis.DBO.AERIALBW1970_FT';'Database Connections\gisadminSQL to cogis.gissql01.sde\cogis.DBO.Ortho2002_1M';'Database Connections\gisadminSQL to cogis.gissql01.sde\cogis.DBO.Ortho2006_1M' pubeditor GRANT GRANT</Process>
<Process Date="20200616" Time="140429" ToolSource="c:\program files (x86)\arcgis\desktop10.5\ArcToolbox\Toolboxes\Data Management Tools.tbx\ChangePrivileges">ChangePrivileges 'Database Connections\gisadminSQL to cogis.gissql01.sde\cogis.DBO.AerialBW1954_1M';'Database Connections\gisadminSQL to cogis.gissql01.sde\cogis.DBO.AERIALBW1970_FT';'Database Connections\gisadminSQL to cogis.gissql01.sde\cogis.DBO.Ortho2002_1M';'Database Connections\gisadminSQL to cogis.gissql01.sde\cogis.DBO.Ortho2006_1M' ims GRANT AS_IS</Process>
</lineage>
<itemProps>
<itemName Sync="TRUE">cogis.DBO.Ortho2006_1M</itemName>
<imsContentType Sync="TRUE" export="False">002</imsContentType>
<nativeExtBox>
<westBL Sync="TRUE">389624.000000</westBL>
<eastBL Sync="TRUE">458568.000000</eastBL>
<southBL Sync="TRUE">4559754.000000</southBL>
<northBL Sync="TRUE">4623154.000000</northBL>
<exTypeCode Sync="TRUE">1</exTypeCode>
</nativeExtBox>
<itemLocation>
<linkage Sync="TRUE">Server=gissql01; Service=sde:sqlserver:gissql01; Database=cogis; User=gisadmin; Version=dbo.DEFAULT</linkage>
<protocol Sync="TRUE">ArcSDE Connection</protocol>
</itemLocation>
</itemProps>
<coordRef>
<type Sync="TRUE">Projected</type>
<geogcsn Sync="TRUE">GCS_North_American_1983</geogcsn>
<csUnits Sync="TRUE">Linear Unit: Meter (1.000000)</csUnits>
<projcsn Sync="TRUE">NAD_1983_UTM_Zone_16N</projcsn>
<peXml Sync="TRUE">&lt;ProjectedCoordinateSystem xsi:type='typens:ProjectedCoordinateSystem' xmlns:xsi='http://www.w3.org/2001/XMLSchema-instance' xmlns:xs='http://www.w3.org/2001/XMLSchema' xmlns:typens='http://www.esri.com/schemas/ArcGIS/10.8'&gt;&lt;WKT&gt;PROJCS[&amp;quot;NAD_1983_UTM_Zone_16N&amp;quot;,GEOGCS[&amp;quot;GCS_North_American_1983&amp;quot;,DATUM[&amp;quot;D_North_American_1983&amp;quot;,SPHEROID[&amp;quot;GRS_1980&amp;quot;,6378137.0,298.257222101]],PRIMEM[&amp;quot;Greenwich&amp;quot;,0.0],UNIT[&amp;quot;Degree&amp;quot;,0.0174532925199433]],PROJECTION[&amp;quot;Transverse_Mercator&amp;quot;],PARAMETER[&amp;quot;False_Easting&amp;quot;,500000.0],PARAMETER[&amp;quot;False_Northing&amp;quot;,0.0],PARAMETER[&amp;quot;Central_Meridian&amp;quot;,-87.0],PARAMETER[&amp;quot;Scale_Factor&amp;quot;,0.9996],PARAMETER[&amp;quot;Latitude_Of_Origin&amp;quot;,0.0],UNIT[&amp;quot;Meter&amp;quot;,1.0],AUTHORITY[&amp;quot;EPSG&amp;quot;,26916]]&lt;/WKT&gt;&lt;XOrigin&gt;-5120900&lt;/XOrigin&gt;&lt;YOrigin&gt;-9998100&lt;/YOrigin&gt;&lt;XYScale&gt;450445547.3910538&lt;/XYScale&gt;&lt;ZOrigin&gt;0&lt;/ZOrigin&gt;&lt;ZScale&gt;1&lt;/ZScale&gt;&lt;MOrigin&gt;0&lt;/MOrigin&gt;&lt;MScale&gt;1&lt;/MScale&gt;&lt;XYTolerance&gt;0.001&lt;/XYTolerance&gt;&lt;ZTolerance&gt;2&lt;/ZTolerance&gt;&lt;MTolerance&gt;2&lt;/MTolerance&gt;&lt;HighPrecision&gt;true&lt;/HighPrecision&gt;&lt;WKID&gt;26916&lt;/WKID&gt;&lt;LatestWKID&gt;26916&lt;/LatestWKID&gt;&lt;/ProjectedCoordinateSystem&gt;</peXml>
</coordRef>
</DataProperties>
<ModDate>20220801</ModDate>
<ModTime>10301800</ModTime>
<SyncDate>20220801</SyncDate>
<SyncTime>10301800</SyncTime>
<scaleRange>
<minScale>625000</minScale>
<maxScale>5000</maxScale>
</scaleRange>
<ArcGISProfile>NAP</ArcGISProfile>
</Esri>
<mdDateSt Sync="TRUE">20220801</mdDateSt>
<dataIdInfo>
<envirDesc Sync="TRUE"> Version 6.2 (Build 9200) ; Esri ArcGIS 10.9.1.28388</envirDesc>
<dataLang>
<languageCode Sync="TRUE" value="eng"/>
<countryCode Sync="TRUE" value="USA"/>
</dataLang>
<idCitation>
<resTitle Sync="FALSE">Ortho2006_1M</resTitle>
<presForm>
<PresFormCd Sync="TRUE" value="011"/>
</presForm>
<date>
<pubDate>2006-08-01T00:00:00</pubDate>
</date>
<citRespParty>
<rpOrgName>USDA-FSA Aerial Photography Field Office</rpOrgName>
<role>
<RoleCd value="007"/>
</role>
<rpCntInfo>
<cntAddress addressType="both">
<delPoint>2222 West 2300 South</delPoint>
<city>Salt Lake City</city>
<adminArea>Utah</adminArea>
<postCode>84119-2020</postCode>
<country>US</country>
</cntAddress>
<cntPhone>
<voiceNum tddtty="">801-975-3500</voiceNum>
<faxNum>801-975-3529</faxNum>
</cntPhone>
</rpCntInfo>
</citRespParty>
<resEd>2006</resEd>
<resEdDate>20060801</resEdDate>
</idCitation>
<spatRpType>
<SpatRepTypCd Sync="TRUE" value="002"/>
</spatRpType>
<dataExt>
<geoEle>
<GeoBndBox esriExtentType="search">
<exTypeCode Sync="TRUE">1</exTypeCode>
<westBL Sync="TRUE">-88.327615</westBL>
<eastBL Sync="TRUE">-87.494049</eastBL>
<northBL Sync="TRUE">41.759136</northBL>
<southBL Sync="TRUE">41.181623</southBL>
</GeoBndBox>
</geoEle>
</dataExt>
<idPurp>NAIP imagery may be distributed on an interim basis to meet USDA program requirements. The interim product is a compressed county mosaic. Users should be aware that the interim compressed county mosaic may contain defects and have horizontal accuracy less than the specified tolerances. Defective imagery may be replaced within one year of image acquisition date.</idPurp>
<idAbs>&lt;DIV STYLE="text-align:Left;"&gt;&lt;DIV&gt;&lt;DIV&gt;&lt;P&gt;&lt;SPAN STYLE="font-size:10pt"&gt;This data set contains imagery from the National Agriculture Imagery Program (NAIP). NAIP acquires digital ortho imagery during the agricultural growing seasons in the continental U.S.. A primary goal of the NAIP program is to enable availability of ortho imagery within one year of acquisition. NAIP provides two main products: 1 meter ground sample distance (GSD) ortho imagery rectified to a horizontal accuracy of within +/- 3 meters of reference digital ortho quarter quads (DOQQ's) from the National Digital Ortho Program (NDOP); and, 2 meter GSD ortho imagery rectified to within +/- 10 meters of reference DOQQs. The tiling format of NAIP imagery is based on a 3.75' x 3.75' quarter quadrangle with a 300 meter buffer on all four sides. NAIP quarter quads are formatted to the UTM coordinate system using NAD83. NAIP imagery may contain as much as 10% cloud cover per tile. This file was generated by compressing NAIP quarter quadrangle tiles that cover a county. MrSID (MG3) compression, with mosaic option, was used. Target values for the compression ratio are (15:1) and compression levels(9) are used.&lt;/SPAN&gt;&lt;/P&gt;&lt;/DIV&gt;&lt;/DIV&gt;&lt;/DIV&gt;</idAbs>
<idCredit>USDA-FSA Aerial Photography Field Office</idCredit>
<dataChar>
<CharSetCd value="004"/>
</dataChar>
<idStatus>
<ProgCd value="001"/>
</idStatus>
<themeKeys>
<keyword>Digital Georectified Image, Mosaic, Georeferenced Image, Quarter Quadrangle Centered, Georectification, compression, MrSID, NAIP, Compliance, Aerial Compliance, Farming</keyword>
</themeKeys>
<searchKeys>
<keyword>Digital Georectified Image</keyword>
<keyword>Mosaic</keyword>
<keyword>Georeferenced Image</keyword>
<keyword>Quarter Quadrangle Centered</keyword>
<keyword>Georectification</keyword>
<keyword>MrSID</keyword>
<keyword>NAIP</keyword>
<keyword>Illinois</keyword>
<keyword>county</keyword>
<keyword>Will</keyword>
<keyword>meter</keyword>
</searchKeys>
<tempKeys>
<thesaLang>
<languageCode value="eng"/>
<countryCode value="US"/>
</thesaLang>
<keyword>2006</keyword>
</tempKeys>
<placeKeys>
<thesaLang>
<languageCode value="eng"/>
<countryCode value="US"/>
</thesaLang>
<keyword>Illinois, Will, county</keyword>
</placeKeys>
<resConst>
<Consts>
<useLimit>&lt;DIV STYLE="text-align:Left;"&gt;&lt;DIV&gt;&lt;DIV&gt;&lt;P&gt;&lt;SPAN&gt;Users should be aware that this is an interim release. The interim compressed county mosaic may contain defects and have horizontal accuracy less than the specified tolerances. Defective imagery may be replaced within one year of image acquisition date.&lt;/SPAN&gt;&lt;/P&gt;&lt;/DIV&gt;&lt;/DIV&gt;&lt;/DIV&gt;</useLimit>
</Consts>
</resConst>
<idPoC>
<rpOrgName>USDA-FSA Aerial Photography Field Office</rpOrgName>
<role>
<RoleCd value="007"/>
</role>
<rpCntInfo>
<cntAddress addressType="both">
<delPoint>2222 West 2300 South</delPoint>
<city>Salt Lake City</city>
<adminArea>Utah</adminArea>
<postCode>84119-2020</postCode>
<country>US</country>
</cntAddress>
<cntPhone>
<voiceNum tddtty="">801-975-3500</voiceNum>
<faxNum>801-975-3529</faxNum>
</cntPhone>
</rpCntInfo>
<displayName>USDA-FSA Aerial Photography Field Office</displayName>
</idPoC>
<resMaint>
<maintFreq>
<MaintFreqCd value="012"/>
</maintFreq>
<maintCont>
<rpOrgName>USDA-FSA Aerial Photography Field Office</rpOrgName>
<role>
<RoleCd value="007"/>
</role>
<rpCntInfo>
<cntAddress addressType="both">
<delPoint>2222 West 2300 South</delPoint>
<city>Salt Lake City</city>
<adminArea>Utah</adminArea>
<postCode>84119-2020</postCode>
<country>US</country>
</cntAddress>
<cntPhone>
<voiceNum tddtty="">801-975-3500</voiceNum>
<faxNum>801-975-3529</faxNum>
</cntPhone>
</rpCntInfo>
<displayName>USDA-FSA Aerial Photography Field Office</displayName>
</maintCont>
</resMaint>
<tpCat>
<TopicCatCd value="010"/>
</tpCat>
</dataIdInfo>
<mdLang>
<languageCode Sync="TRUE" value="eng"/>
<countryCode Sync="TRUE" value="USA"/>
</mdLang>
<distInfo>
<distFormat>
<formatName Sync="TRUE">SDE Raster Dataset</formatName>
<formatVer>ArcGIS 10.3</formatVer>
</distFormat>
<distributor>
<distorCont>
<rpOrgName>USDA-FSA Aerial Photography Field Office</rpOrgName>
<role>
<RoleCd value="007"/>
</role>
<rpCntInfo>
<cntAddress addressType="both">
<delPoint>2222 West 2300 South</delPoint>
<city>Salt Lake City</city>
<adminArea>Utah</adminArea>
<postCode>84119-2020</postCode>
<country>US</country>
</cntAddress>
<cntPhone>
<voiceNum tddtty="">801-975-3500</voiceNum>
<faxNum>801-975-3529</faxNum>
</cntPhone>
</rpCntInfo>
<displayName>USDA-FSA Aerial Photography Field Office</displayName>
</distorCont>
</distributor>
</distInfo>
<mdHrLv>
<ScopeCd Sync="TRUE" value="005"/>
</mdHrLv>
<mdHrLvName Sync="TRUE">dataset</mdHrLvName>
<refSysInfo>
<RefSystem dimension="horizontal">
<refSysID>
<identCode Sync="TRUE" code="26916"/>
<idCodeSpace Sync="TRUE">EPSG</idCodeSpace>
<idVersion Sync="TRUE">6.11(3.0.1)</idVersion>
</refSysID>
</RefSystem>
</refSysInfo>
<spdoinfo>
<rastinfo>
<rasttype Sync="TRUE">Pixel</rasttype>
<rowcount Sync="TRUE">31700</rowcount>
<colcount Sync="TRUE">34472</colcount>
<rastxsz Sync="TRUE">2.000000</rastxsz>
<rastysz Sync="TRUE">2.000000</rastysz>
<rastbpp Sync="TRUE">8</rastbpp>
<vrtcount Sync="TRUE">1</vrtcount>
<rastorig Sync="TRUE">Upper Left</rastorig>
<rastcmap Sync="TRUE">FALSE</rastcmap>
<rastcomp Sync="TRUE">JPEG</rastcomp>
<rastband Sync="TRUE">3</rastband>
<rastdtyp Sync="TRUE">pixel codes</rastdtyp>
<rastifor Sync="TRUE">SDR</rastifor>
<rastplyr Sync="TRUE">TRUE</rastplyr>
</rastinfo>
</spdoinfo>
<spref>
<horizsys>
<planar>
<planci>
<plance Sync="TRUE">row and column</plance>
<coordrep>
<absres Sync="TRUE">2.000000</absres>
<ordres Sync="TRUE">2.000000</ordres>
</coordrep>
</planci>
</planar>
</horizsys>
</spref>
<mdFileID>B59BFFCA-C700-4F1D-92DB-9B1968D1FD65</mdFileID>
<mdChar>
<CharSetCd value="004"/>
</mdChar>
<mdContact>
<rpOrgName>USDA-FSA Aerial Photography Field Office</rpOrgName>
<role>
<RoleCd value="007"/>
</role>
<rpCntInfo>
<cntAddress addressType="both">
<delPoint>2222 West 2300 South</delPoint>
<city>Salt Lake City</city>
<adminArea>Utah</adminArea>
<postCode>84119-2020</postCode>
<country>US</country>
</cntAddress>
<cntPhone>
<voiceNum tddtty="">801-975-3500</voiceNum>
<faxNum>801-975-3529</faxNum>
</cntPhone>
</rpCntInfo>
<displayName>USDA-FSA Aerial Photography Field Office</displayName>
</mdContact>
<mdMaint>
<maintFreq>
<MaintFreqCd value="012"/>
</maintFreq>
<maintCont>
<rpOrgName>USDA-FSA Aerial Photography Field Office</rpOrgName>
<role>
<RoleCd value="007"/>
</role>
<rpCntInfo>
<cntAddress addressType="both">
<delPoint>2222 West 2300 South</delPoint>
<city>Salt Lake City</city>
<adminArea>Utah</adminArea>
<postCode>84119-2020</postCode>
<country>US</country>
</cntAddress>
<cntPhone>
<voiceNum tddtty="">801-975-3500</voiceNum>
<faxNum>801-975-3529</faxNum>
</cntPhone>
</rpCntInfo>
<displayName>USDA-FSA Aerial Photography Field Office</displayName>
</maintCont>
</mdMaint>
<dqInfo>
<dataLineage>
<prcStep>
<stepDesc>The process step describes, in general, the process used in the production of USGS DOQ data sets. The rectification process requires, as input, a user parameter file to the rectification process, a digital elevation model girdded to specified bounds, projection, zone, datum and X-Y units, a scanned image file covering the same area as the DEM, exposure station control values and their conjugate photo coordinates in the camera coordinate system, ground control check point control values, and measurements of the fiducials in the digitized image. Aerial photography was completed with two Zeiss RMK-TOP and two Zeiss Jena LMK camera systems. The cameras utilize 6" focal length lens cones and are in current calibration and equipped with FMC (Forward Motion Compensation), filters and eight fiducials. The Zeiss cameras are equipped with gyro-stabilized mounts. The photography was captured at the standard USGS NAPP scale of 1:40,000. The imagery was collected with Kodak Aerochrome III MS 2427 color positive film. Survey control for the imagery was collected through the use of airborne GPS. A dual-frequency geodetic grade GPS receiver was utilized in each aircraft during the photography acquisition. The data from these receivers were processed relative to national NGS CORS stations. Processing was completed using L3-floatsolutions from two CORS stations. This processing yielded an RMS accuracy of 0.3 meters for each exposure station. Scanning alternate exposures of the natural color aerial photograph film negatives created the raster image files. Scanning was completed for all even numbered NAPP exposures stations. Scanning was completed with a Z/I Imaging PhotoScan 2000TD precision aerial film scanning device. The scanning was completed using an aperture of 21 microns, which produced an 84 cm ground resolution for use in the aerotriangulation. The scanned images, ABGPS data, ground check point data, and camera calibration data were used as inputs to the Zeiss/Intergraph ImageStation Automatic Triangulation (ISAT) softcopy program. ISAT correlated image points and aerotriangulated the block of images to create the exposure station exterior orientations used to rectify the orthophotos. Ground check points were extracted from the client provided county mosaics files. The ground check points were manually measured on the imagery. These ground check points were included in the aerotriangulation adjustment as unconstrained points for absolute ground location verification. The external orientation parameters derived from the aerotriangulation solution were used to provide the horizontal control for each image. Vertical control for the orthorectification process was obtained from existing USGS Digital Elevation Models (DEM). The orthophoto rectification was completed using Z/I ImageStation Orthopro software. The orthophoto differential rectification was performed in an automatic process using the exterior orientations, the new scanned imagery, and the DEM as input. During the rectification process for each DOQ pixels were re-sampled to a 2-meter ground resolution. DOQ image files were exported that reflect the radiometric changes made in the previous process. Each DOQ image covers a quarter-quad area plus 300 meters beyond the outermost datum registration. The images are referenced to the project datum of NAD 83 and projected to the proper UTM zone. The overall DOQ process produced images that fell well within 10-meters of the same location on the government furnished baseline orthophoto control imagery accuracy requirement. County mosaics were prepared using MrSID MG3 software. The government provided the required quarter quadrangle tiles for each individual county. Through the MrSID software, the quarter quadrangles were processed into the individual county mosaic. The compression ratio for the 2-meter color imagery was 15:1. Project ESRI shape files, auxiliary files, and metadata files were produced for each compressed county mosaic file.</stepDesc>
<stepDateTm>2008-08-01T00:00:00</stepDateTm>
<stepProc>
<rpOrgName>USDA-FSA Aerial Photography Field Office</rpOrgName>
<role>
<RoleCd value="007"/>
</role>
<rpCntInfo>
<cntAddress addressType="both">
<delPoint>2222 West 2300 South</delPoint>
<city>Salt Lake City</city>
<adminArea>Utah</adminArea>
<postCode>84119-2020</postCode>
<country>US</country>
</cntAddress>
<cntPhone>
<voiceNum tddtty="">801-975-3500</voiceNum>
<faxNum>801-975-3529</faxNum>
</cntPhone>
</rpCntInfo>
<displayName>USDA-FSA Aerial Photography Field Office</displayName>
</stepProc>
</prcStep>
</dataLineage>
<dqScope>
<scpLvl>
<ScopeCd value="005"/>
</scpLvl>
</dqScope>
</dqInfo>
</metadata>
