<?xml version="1.0" encoding="UTF-8" standalone="no"?>
<metadata>
<idinfo>
<citation>
<citeinfo>
<origin>Will County GIS</origin>
<pubdate>20060222</pubdate>
<title>cogis.DBO.ORTHOS2002_1M</title>
<edition>Version 1.0</edition>
<geoform>
vector digital data
raster digital data
tabular digital data (format, native program)
</geoform>
<pubinfo>
<pubplace>Joliet, Illinois</pubplace>
<publish>Will County GIS</publish>
</pubinfo>
<onlink>
(local machine address and directory)
(Server=gisdata; Service=5151; Database=gis_data; User=gis; Version=sde.DEFAULT)
</onlink>
</citeinfo>
</citation>
<descript>
<abstract>COGIS Publish Database for Will County GIS</abstract>
<purpose>Viewing purposes only</purpose>
</descript>
<timeperd>
<timeinfo>
<rngdates>
<begdate>2003</begdate>
<enddate>Ongoing</enddate>
</rngdates>
</timeinfo>
<current>publication date</current>
</timeperd>
<status>
<progress>In work</progress>
<update>As needed</update>
</status>
<keywords>
<place>
<placekt>"Geographic Identification Code Scheme (PHC80-R5)" 1980 Census of Population and Housing, Bureau of the Census, U.S. Department of Commerce, April 1983.</placekt>
<placekey>Will County</placekey>
</place>
<place>
<placekt>"Geographic Identification Code Scheme (PHC80-R5)" 1980 Census of Population and Housing, Bureau of the Census, U.S. Department of Commerce, April 1983.</placekt>
<placekey>Illinois</placekey>
</place>
<place>
<placekt>"Geographic Identification Code Scheme (PHC80-R5)" 1980 Census of Population and Housing, Bureau of the Census, U.S. Department of Commerce, April 1983.</placekt>
<placekey>Wheatland Township (T37N R09E)</placekey>
<placekey>Du Page Township (T37N R10E)</placekey>
<placekey>Plainfield Township (T36N R09E)</placekey>
<placekey>Lockport Township (T36N R10E)</placekey>
<placekey>Homer Township (T36N R11E)</placekey>
<placekey>Troy Township (T35N R09E)</placekey>
<placekey>Joliet Township (T35 N R10E)</placekey>
<placekey>New Lenox Township (T35N R11E)</placekey>
<placekey>Frankfort Township (T35N R12E)</placekey>
<placekey>Channahon Township (T34N R09E)</placekey>
<placekey>Jackson Township (T34N R10E)</placekey>
<placekey>Manhattan Township (T34N R11E)</placekey>
<placekey>Green Garden Township (T34N R12E)</placekey>
<placekey>Monee Township (T34N R13E)</placekey>
<placekey>Crete Township (T34N R14E &amp; T34N R15E)</placekey>
<placekey>Wilmington Township (T33N R09E)</placekey>
<placekey>Florence Township (T33N R10E)</placekey>
<placekey>Wilton Township (T33N R11E)</placekey>
<placekey>Peotone Township (T33N R12E)</placekey>
<placekey>Will Township (T33N R13E)</placekey>
<placekey>Washington Township (T33N R14E, T33N R15E)</placekey>
<placekey>Reed Township (T32 R09E)</placekey>
<placekey>Wesley Township (T32N, R10E)</placekey>
</place>
</keywords>
<accconst>
(Data only accessible via intranet ArcIMS server (gisweb))
(Data only accessible via connection to ArcSDE server (gisdata))
(Data only accessible via connection to local machine)
</accconst>
<useconst>Under no circumstances may the data be redistributed or made available over a network without explicit permission from the Will County GIS Department. It is required that the Will County GIS Department be cited in any products generated from the data. The following source citation must be included: "Source: (Full Title)"
For custom requests a client must submit a written request stating the intended applications for the data to the Will County GIS Department. When the request is granted, data may be used only for the purposes explicitly stated in the written request.</useconst>
<ptcontac>
<cntinfo>
<cntaddr>
<addrtype>mailing and physical address</addrtype>
<address>302 N Chicago Street</address>
<city>Joliet</city>
<state>Illinois</state>
<postal>60432</postal>
<country>USA</country>
</cntaddr>
<cntvoice>815-774-6343</cntvoice>
<cntfax>815-774-6373</cntfax>
<cntemail>gis@willcountyillinois.com</cntemail>
<hours>Monday - Friday except holidays, 0830 - 1630, Central Time</hours>
<cntinst>Email preferred.</cntinst>
<cntorgp>
<cntorg>Will County GIS</cntorg>
</cntorgp>
</cntinfo>
</ptcontac>
<native>Microsoft Windows 2000 Version 5.0 (Build 2195) Service Pack 2; ESRI ArcCatalog 9.1.0.722</native>
</idinfo>
<dataqual>
<lineage>
<procstep>
<procdesc Sync="TRUE">Metadata imported.</procdesc>
<srcused Sync="TRUE">\\Gisdata\County_GIS\Metadata\metadata_template.xml</srcused>
<date Sync="TRUE">20060222</date>
<time Sync="TRUE">08045200</time>
</procstep>
<procstep>
<procdesc Sync="TRUE">Metadata imported.</procdesc>
<srcused Sync="TRUE">\\Gisdata\county_gis\Metadata\COGIS.xml</srcused>
<date Sync="TRUE">20060222</date>
<time Sync="TRUE">11031700</time>
</procstep>
</lineage>
</dataqual>
<spdoinfo>
<rastinfo>
<rasttype Sync="TRUE">Pixel</rasttype>
<rowcount Sync="TRUE">96765</rowcount>
<colcount Sync="TRUE">103707</colcount>
<rastxsz Sync="TRUE">2.000000</rastxsz>
<rastysz Sync="TRUE">2.000000</rastysz>
<rastbpp Sync="TRUE">8</rastbpp>
<vrtcount Sync="TRUE">1</vrtcount>
<rastorig Sync="TRUE">Upper Left</rastorig>
<rastcmap Sync="TRUE">FALSE</rastcmap>
<rastcomp Sync="TRUE">JPEG</rastcomp>
<rastband Sync="TRUE">3</rastband>
<rastdtyp Sync="TRUE">pixel codes</rastdtyp>
<rastifor Sync="TRUE">SDR</rastifor>
<rastplyr Sync="TRUE">TRUE</rastplyr>
</rastinfo>
</spdoinfo>
<spref>
<horizsys>
<planar>
<planci>
<plance>coordinate pair</plance>
<coordrep>
<absres>0.001000</absres>
<ordres>0.001000</ordres>
</coordrep>
<plandu>survey feet</plandu>
</planci>
</planar>
<geodetic>
<horizdn>North American Datum of 1983</horizdn>
<ellips>Geodetic Reference System 80</ellips>
<semiaxis>6378137.000000</semiaxis>
<denflat>298.257222</denflat>
</geodetic>
</horizsys>
<vertdef>
<altsys>
<altres>1.000000</altres>
<altenc>Explicit elevation coordinate included with horizontal coordinates</altenc>
</altsys>
</vertdef>
</spref>
<distinfo>
<distrib>
<cntinfo>
<cntorgp>
<cntorg>Will County GIS</cntorg>
</cntorgp>
<cntvoice>815-774-6343</cntvoice>
<cntfax>815-774-6373</cntfax>
<cntemail>gis@willcountyillinois.com</cntemail>
<hours>Monday - Friday except holidays, 0830 - 1630, Central Time</hours>
</cntinfo>
</distrib>
<resdesc>(Downloadable Data)
(Available on digital media-CD, DVD)
(Not available)</resdesc>
<distliab>
Disclaimer of Warranties and Accuracy of Data
Although the data developed by Will County for its maps, websites, and Geographic Information System has been produced and processed from sources believed to be reliable, no warranty, expressed or implied, is made regarding accuracy, adequacy, completeness, legality, reliability or usefulness of any information. This disclaimer applies to both isolated and aggregate uses of the information. The County and elected officials provide this information on an "as is" basis. All warranties of any kind, express or implied, including but not limited to the implied warranties of merchantability, fitness for a particular purpose, freedom from contamination by computer viruses or hackers and non-infringement of proprietary rights are disclaimed. Changes may be periodically made to the information herein; these changes may or may not be incorporated in any new version of the publication. If you have obtained information from any of the County web pages from a source other than the County pages, be aware that electronic data can be altered subsequent to original distribution. Data can also quickly become out of date. It is recommended that careful attention be paid to the contents of any data, and that the originator of the data or information be contacted with any questions regarding appropriate use. Please direct any questions or issues via email to gis@willcountyillinois.com. Approved by Will County States Attorney Office on 1/7/03
</distliab>
<techpreq>ArcView 9 at a minimum.</techpreq>
<stdorder>
<fees>See policy</fees>
<ordering>Please review data distribution policy (http://www.willcogis.org/WebFiles/Final%20Data%20Dist%20Policy.pdf)</ordering>
<turnarnd>tbd</turnarnd>
</stdorder>
<availabl>
<timeinfo>
<sngdate>
<caldate>20060222</caldate>
</sngdate>
</timeinfo>
</availabl>
</distinfo>
<metainfo>
<metd>20060222</metd>
<metc>
<cntinfo>
<cntperp>
<cntper>Greg Johnson</cntper>
<cntorg>Will County GIS</cntorg>
</cntperp>
<cntpos>GIS Support Specialist</cntpos>
<cntaddr>
<addrtype>mailing and physical address</addrtype>
<address>302 N Chicago Street</address>
<city>Joliet</city>
<state>Illinois</state>
<postal>60432</postal>
<country>USA</country>
</cntaddr>
<cntvoice>815-773-6343</cntvoice>
<cntfax>815-774-6373</cntfax>
<cntemail>gjohnson@willcountyillinois.com</cntemail>
<hours>Monday - Friday except holidays, 0830 - 1630, Central Time</hours>
<cntinst>Email preferred.</cntinst>
</cntinfo>
</metc>
<metstdn>FGDC Content Standards for Digital Geospatial Metadata</metstdn>
<metstdv>FGDC-STD-001-1998</metstdv>
<mettc>local time</mettc>
<metac>none</metac>
<metuc>This metadata file is intended to accompany the geospatial data set identified and received from Will County. It is not to be altered or summarized. Will County does not support secondary distribution. If this geospatial data set was received from anyone besides Will County, this metadata file and the geospatial data set it describes may lack integrity. Please send questions or comments to Contact in Metadata Reference.</metuc>
<metextns>
<onlink>http://www.esri.com/metadata/esriprof80.html</onlink>
<metprof>ESRI Metadata Profile</metprof>
</metextns>
</metainfo>
<Esri>
<ModDate>20220801</ModDate>
<ModTime>10283300</ModTime>
<CreaDate>20060222</CreaDate>
<CreaTime>11031700</CreaTime>
<SyncOnce>FALSE</SyncOnce>
<MetaID>{7278241C-653E-46C3-BFC0-87BDC5000325}</MetaID>
<DataProperties>
<lineage>
<Process Date="20090922" Name="" Time="173418" ToolSource="D:\Program Files\ArcGIS\ArcToolbox\Toolboxes\Data Management Tools.tbx\CopyRaster" export="">CopyRaster "Database Connections\gis2cogis.sde\COGIS.GIS.IMAGEAPU_1002" "Database Connections\gis2cogis.gisdata.sde\cogis.GIS.IMAGEAPU_1002" # # # NONE NONE #</Process>
<Process Date="20141208" Name="" Time="083520" ToolSource="c:\program files (x86)\arcgis\desktop10.1\ArcToolbox\Toolboxes\Data Management Tools.tbx\ChangePrivileges" export="">ChangePrivileges 'Database Connections\dbo2cogis.plainfield.sde\cogis.DBO.IMAGERY2002_1M';'Database Connections\dbo2cogis.plainfield.sde\cogis.DBO.ORTHOS1939_1M';'Database Connections\dbo2cogis.plainfield.sde\cogis.DBO.ORTHOS1997_1FT';'Database Connections\dbo2cogis.plainfield.sde\cogis.DBO.ORTHOS2004_6IN';'Database Connections\dbo2cogis.plainfield.sde\cogis.DBO.ORTHOS2005_1FT';'Database Connections\dbo2cogis.plainfield.sde\cogis.DBO.ORTHOS2006_1M';'Database Connections\dbo2cogis.plainfield.sde\cogis.DBO.ORTHOS2006P_6IN';'Database Connections\dbo2cogis.plainfield.sde\cogis.DBO.ORTHOS2007_1M';'Database Connections\dbo2cogis.plainfield.sde\cogis.DBO.ORTHOS2008_6IN';'Database Connections\dbo2cogis.plainfield.sde\cogis.DBO.ORTHOS2009_1FT';'Database Connections\dbo2cogis.plainfield.sde\cogis.DBO.ORTHOS2009_6IN';'Database Connections\dbo2cogis.plainfield.sde\cogis.DBO.ORTHOS2009P_6IN';'Database Connections\dbo2cogis.plainfield.sde\cogis.DBO.ORTHOS2011P_1FT';'Database Connections\dbo2cogis.plainfield.sde\cogis.DBO.ORTHOS2011P_6IN' ims GRANT #</Process>
<Process Date="20180315" Time="115830" ToolSource="c:\program files (x86)\arcgis\desktop10.5\ArcToolbox\Toolboxes\Data Management Tools.tbx\BuildPyramids">BuildPyramids "Database Connections\dbo to cogis.plainfield.sde\cogis.DBO.ORTHOS2002_1M" -1 NONE NEAREST DEFAULT 75 OVERWRITE</Process>
<Process Date="20180315" Time="121516" ToolSource="c:\program files (x86)\arcgis\desktop10.5\ArcToolbox\Toolboxes\Data Management Tools.tbx\CalculateStatistics">CalculateStatistics "Database Connections\dbo to cogis.plainfield.sde\cogis.DBO.ORTHOS2002_1M" 1 1 # OVERWRITE "Feature Set"</Process>
<Process Date="20180316" Time="093229" ToolSource="c:\program files (x86)\arcgis\desktop10.5\ArcToolbox\Toolboxes\Data Management Tools.tbx\ChangePrivileges">ChangePrivileges 'Database Connections\dbo to cogis.gissql.sde\cogis.DBO.AerialBW1954_1M';'Database Connections\dbo to cogis.gissql.sde\cogis.DBO.AerialBW1970_1FT';'Database Connections\dbo to cogis.gissql.sde\cogis.DBO.Ortho2002_1M';'Database Connections\dbo to cogis.gissql.sde\cogis.DBO.Ortho2006_1M' ims GRANT #</Process>
<Process Date="20200616" Time="140405" ToolSource="c:\program files (x86)\arcgis\desktop10.5\ArcToolbox\Toolboxes\Data Management Tools.tbx\ChangePrivileges">ChangePrivileges 'Database Connections\gisadminSQL to cogis.gissql01.sde\cogis.DBO.AerialBW1954_1M';'Database Connections\gisadminSQL to cogis.gissql01.sde\cogis.DBO.AERIALBW1970_FT';'Database Connections\gisadminSQL to cogis.gissql01.sde\cogis.DBO.Ortho2002_1M';'Database Connections\gisadminSQL to cogis.gissql01.sde\cogis.DBO.Ortho2006_1M' pubeditor GRANT GRANT</Process>
<Process Date="20200616" Time="140428" ToolSource="c:\program files (x86)\arcgis\desktop10.5\ArcToolbox\Toolboxes\Data Management Tools.tbx\ChangePrivileges">ChangePrivileges 'Database Connections\gisadminSQL to cogis.gissql01.sde\cogis.DBO.AerialBW1954_1M';'Database Connections\gisadminSQL to cogis.gissql01.sde\cogis.DBO.AERIALBW1970_FT';'Database Connections\gisadminSQL to cogis.gissql01.sde\cogis.DBO.Ortho2002_1M';'Database Connections\gisadminSQL to cogis.gissql01.sde\cogis.DBO.Ortho2006_1M' ims GRANT AS_IS</Process>
</lineage>
<itemProps>
<itemName Sync="TRUE">cogis.DBO.Ortho2002_1M</itemName>
<imsContentType Sync="TRUE" export="False">002</imsContentType>
<nativeExtBox>
<westBL Sync="TRUE">1003634.999960</westBL>
<eastBL Sync="TRUE">1211048.999960</eastBL>
<southBL Sync="TRUE">1651096.999960</southBL>
<northBL Sync="TRUE">1844626.999960</northBL>
<exTypeCode Sync="TRUE">1</exTypeCode>
</nativeExtBox>
<itemLocation>
<linkage Sync="TRUE">Server=gissql01; Service=sde:sqlserver:gissql01; Database=cogis; User=gisadmin; Version=dbo.DEFAULT</linkage>
<protocol Sync="TRUE">ArcSDE Connection</protocol>
</itemLocation>
</itemProps>
<coordRef>
<type Sync="TRUE">Projected</type>
<geogcsn Sync="TRUE">GCS_North_American_1983</geogcsn>
<csUnits Sync="TRUE">Linear Unit: Foot_US (0.304801)</csUnits>
<projcsn Sync="TRUE">NAD_1983_StatePlane_Illinois_East_FIPS_1201_Feet</projcsn>
<peXml Sync="TRUE">&lt;ProjectedCoordinateSystem xsi:type='typens:ProjectedCoordinateSystem' xmlns:xsi='http://www.w3.org/2001/XMLSchema-instance' xmlns:xs='http://www.w3.org/2001/XMLSchema' xmlns:typens='http://www.esri.com/schemas/ArcGIS/10.8'&gt;&lt;WKT&gt;PROJCS[&amp;quot;NAD_1983_StatePlane_Illinois_East_FIPS_1201_Feet&amp;quot;,GEOGCS[&amp;quot;GCS_North_American_1983&amp;quot;,DATUM[&amp;quot;D_North_American_1983&amp;quot;,SPHEROID[&amp;quot;GRS_1980&amp;quot;,6378137.0,298.257222101]],PRIMEM[&amp;quot;Greenwich&amp;quot;,0.0],UNIT[&amp;quot;Degree&amp;quot;,0.0174532925199433]],PROJECTION[&amp;quot;Transverse_Mercator&amp;quot;],PARAMETER[&amp;quot;False_Easting&amp;quot;,984250.0],PARAMETER[&amp;quot;False_Northing&amp;quot;,0.0],PARAMETER[&amp;quot;Central_Meridian&amp;quot;,-88.33333333333333],PARAMETER[&amp;quot;Scale_Factor&amp;quot;,0.999975],PARAMETER[&amp;quot;Latitude_Of_Origin&amp;quot;,36.66666666666666],UNIT[&amp;quot;Foot_US&amp;quot;,0.3048006096012192],AUTHORITY[&amp;quot;EPSG&amp;quot;,3435]]&lt;/WKT&gt;&lt;XOrigin&gt;-17463800&lt;/XOrigin&gt;&lt;YOrigin&gt;-46132600&lt;/YOrigin&gt;&lt;XYScale&gt;137244822.07846552&lt;/XYScale&gt;&lt;ZOrigin&gt;0&lt;/ZOrigin&gt;&lt;ZScale&gt;1&lt;/ZScale&gt;&lt;MOrigin&gt;0&lt;/MOrigin&gt;&lt;MScale&gt;1&lt;/MScale&gt;&lt;XYTolerance&gt;0.0032808333333333331&lt;/XYTolerance&gt;&lt;ZTolerance&gt;2&lt;/ZTolerance&gt;&lt;MTolerance&gt;2&lt;/MTolerance&gt;&lt;HighPrecision&gt;true&lt;/HighPrecision&gt;&lt;WKID&gt;102671&lt;/WKID&gt;&lt;LatestWKID&gt;3435&lt;/LatestWKID&gt;&lt;/ProjectedCoordinateSystem&gt;</peXml>
</coordRef>
</DataProperties>
<SyncDate>20220801</SyncDate>
<SyncTime>10283300</SyncTime>
<scaleRange>
<minScale>625000</minScale>
<maxScale>5000</maxScale>
</scaleRange>
<ArcGISProfile>NAP</ArcGISProfile>
<ArcGISFormat>1.0</ArcGISFormat>
</Esri>
<mdDateSt Sync="TRUE">20220801</mdDateSt>
<dataIdInfo>
<envirDesc Sync="TRUE"> Version 6.2 (Build 9200) ; Esri ArcGIS 10.9.1.28388</envirDesc>
<dataLang>
<languageCode Sync="TRUE" value="eng"/>
<countryCode Sync="TRUE" value="USA"/>
</dataLang>
<idCitation>
<resTitle Sync="FALSE">Ortho2002_1M</resTitle>
<presForm>
<PresFormCd Sync="TRUE" value="011"/>
<fgdcGeoform>raster digital data</fgdcGeoform>
</presForm>
<date>
<createDate>2002-04-25T00:00:00</createDate>
<pubDate>2002-04-25T00:00:00</pubDate>
</date>
<resEd>2002</resEd>
<citRespParty>
<rpOrgName>Spatial Insights, Inc.</rpOrgName>
<rpPosName>Technical Support</rpPosName>
<role>
<RoleCd value="007"/>
</role>
<rpCntInfo>
<cntAddress addressType="both">
<delPoint>4938 Hampden Lane, PMB 338</delPoint>
<city>Bethesda</city>
<adminArea>MD</adminArea>
<postCode>20814</postCode>
<country>US</country>
</cntAddress>
<cntPhone>
<voiceNum tddtty="">800.347.5291</voiceNum>
</cntPhone>
</rpCntInfo>
</citRespParty>
</idCitation>
<spatRpType>
<SpatRepTypCd Sync="TRUE" value="002"/>
</spatRpType>
<dataExt>
<geoEle>
<GeoBndBox esriExtentType="search">
<exTypeCode Sync="TRUE">1</exTypeCode>
<westBL Sync="TRUE">-88.262891</westBL>
<eastBL Sync="TRUE">-87.502469</eastBL>
<northBL Sync="TRUE">41.731141</northBL>
<southBL Sync="TRUE">41.197078</southBL>
</GeoBndBox>
</geoEle>
</dataExt>
<idPurp>To provide Will County planners and decision makers with more current data to distribute and view. The most recent data available to Will County was aerial imagery in the form of digital orthophotography that was flown in 1997.</idPurp>
<idCredit>Spatial Insights, Inc.</idCredit>
<searchKeys>
<keyword>aerial</keyword>
<keyword>photographs</keyword>
<keyword>AirPhoto USA</keyword>
<keyword>Illinois</keyword>
<keyword>county</keyword>
<keyword>Will</keyword>
</searchKeys>
<themeKeys>
<thesaLang>
<languageCode value="eng"/>
<countryCode value="US"/>
</thesaLang>
<keyword>EROS</keyword>
</themeKeys>
<placeKeys>
<thesaLang>
<languageCode value="eng"/>
<countryCode value="US"/>
</thesaLang>
<keyword>United States, Illinois, Will County</keyword>
</placeKeys>
<resConst>
<LegConsts>
<useLimit>Any downloading and use of these data signifies a user's agreement to comprehension and compliance of the USGS Standard Disclaimer. Insure all portions of metadata are read and clearly understood before using these data in order to protect both user and USGS interests.</useLimit>
</LegConsts>
</resConst>
<resMaint>
<maintFreq>
<MaintFreqCd value="012"/>
</maintFreq>
<maintCont>
<rpOrgName>Spatial Insights, Inc.</rpOrgName>
<rpPosName>Technical Support</rpPosName>
<role>
<RoleCd value="007"/>
</role>
<rpCntInfo>
<cntAddress addressType="both">
<delPoint>4938 Hampden Lane, PMB 338</delPoint>
<city>Bethesda</city>
<adminArea>MD</adminArea>
<postCode>20814</postCode>
<country>US</country>
</cntAddress>
<cntPhone>
<voiceNum tddtty="">800.347.5291</voiceNum>
</cntPhone>
</rpCntInfo>
<displayName>Spatial Insights, Inc.</displayName>
</maintCont>
</resMaint>
<dataChar>
<CharSetCd value="004"/>
</dataChar>
<idPoC>
<rpOrgName>Spatial Insights, Inc.</rpOrgName>
<rpPosName>Technical Support</rpPosName>
<role>
<RoleCd value="007"/>
</role>
<rpCntInfo>
<cntAddress addressType="both">
<delPoint>4938 Hampden Lane, PMB 338</delPoint>
<city>Bethesda</city>
<adminArea>MD</adminArea>
<postCode>20814</postCode>
<country>US</country>
</cntAddress>
<cntPhone>
<voiceNum tddtty="">800.347.5291</voiceNum>
</cntPhone>
</rpCntInfo>
<displayName>Spatial Insights, Inc.</displayName>
</idPoC>
<idAbs>&lt;DIV STYLE="text-align:Left;"&gt;&lt;DIV&gt;&lt;DIV&gt;&lt;P STYLE="margin:0 0 0 0;"&gt;&lt;SPAN STYLE="font-size:9pt"&gt;This dataset was produced from digital color orthophotography that was flown by AirPhotoUSA in October, 2002 for the entire county. The original raster data was stored in MAP format accessible only within AirPhotoUSA's PhotoMapper application.&lt;/SPAN&gt;&lt;/P&gt;&lt;P STYLE="margin:0 0 0 0;"&gt;&lt;SPAN STYLE="font-size:9pt"&gt;195 Separate image TIF files were extracted from the original 2 images supplied by AirPhotoUSA. These TIF files were imported into an ArcSDE raster layer.&lt;/SPAN&gt;&lt;/P&gt;&lt;P STYLE="margin:0 0 0 0;"&gt;&lt;SPAN STYLE="font-size:9pt"&gt;Each TIF file is approximately 105 Megabytes and covers a ground area of roughly 150,000 square feet. The ArcSDE raster layer is comprised of 195 TIF files that are joined seamlessly. The TIF files are organized by row, there is a total of 22 rows with a maximum of 13 TIF files on any single row.&lt;/SPAN&gt;&lt;/P&gt;&lt;/DIV&gt;&lt;/DIV&gt;&lt;/DIV&gt;</idAbs>
<resConst>
<Consts>
<useLimit>&lt;DIV STYLE="text-align:Left;"&gt;&lt;DIV&gt;&lt;DIV&gt;&lt;P&gt;&lt;SPAN STYLE="font-size:10pt"&gt;Under no circumstances may the data be redistributed or made available over a network without explicit permission from the Will County GIS Department. It is required that the Will County GIS Department be cited in any products generated from the data. The following source citation must be included: "&lt;/SPAN&gt;&lt;SPAN STYLE="font-size:8pt"&gt;Will County's 1":200' October 2002 Color Aerial Photography of Will County, Raster Digital Data (TIFF Files)&lt;/SPAN&gt;&lt;SPAN STYLE="font-size:9pt"&gt;". &lt;/SPAN&gt;&lt;SPAN STYLE="font-size:10pt"&gt;For custom requests a client must submit a written request stating the intended applications for the data to the Will County GIS Department. When the request is granted, data may be used only for the purposes explicitly stated in the written request.&lt;/SPAN&gt;&lt;/P&gt;&lt;P&gt;&lt;SPAN STYLE="font-size:10pt"&gt;See Disclaimer of Warranties and Accuracy of Data statement&lt;/SPAN&gt;&lt;/P&gt;&lt;P&gt;&lt;SPAN /&gt;&lt;/P&gt;&lt;/DIV&gt;&lt;/DIV&gt;&lt;/DIV&gt;</useLimit>
</Consts>
</resConst>
<idStatus>
<ProgCd value="001"/>
</idStatus>
<tpCat>
<TopicCatCd value="010"/>
</tpCat>
</dataIdInfo>
<mdLang>
<languageCode Sync="TRUE" value="eng"/>
<countryCode Sync="TRUE" value="USA"/>
</mdLang>
<distInfo>
<distFormat>
<formatName Sync="TRUE">SDE Raster Dataset</formatName>
<formatVer>ArcGIS 10.3</formatVer>
</distFormat>
</distInfo>
<mdHrLv>
<ScopeCd Sync="TRUE" value="005"/>
</mdHrLv>
<mdHrLvName Sync="TRUE">dataset</mdHrLvName>
<refSysInfo>
<RefSystem dimension="vertical">
<refSysID>
<identCode Sync="TRUE" code="3435"/>
<idCodeSpace Sync="TRUE">EPSG</idCodeSpace>
<idVersion Sync="TRUE">8.9.3(9.3.0.0)</idVersion>
</refSysID>
</RefSystem>
</refSysInfo>
<mdFileID>8E6FF457-8D86-48B9-AE8E-9A1D7D7BF651</mdFileID>
<mdChar>
<CharSetCd value="004"/>
</mdChar>
<mdMaint>
<maintFreq>
<MaintFreqCd value="012"/>
</maintFreq>
<maintCont>
<rpOrgName>Spatial Insights, Inc.</rpOrgName>
<rpPosName>Technical Support</rpPosName>
<role>
<RoleCd value="007"/>
</role>
<rpCntInfo>
<cntAddress addressType="both">
<delPoint>4938 Hampden Lane, PMB 338</delPoint>
<city>Bethesda</city>
<adminArea>MD</adminArea>
<postCode>20814</postCode>
<country>US</country>
</cntAddress>
<cntPhone>
<voiceNum tddtty="">800.347.5291</voiceNum>
</cntPhone>
</rpCntInfo>
<displayName>Spatial Insights, Inc.</displayName>
</maintCont>
</mdMaint>
<mdContact>
<rpOrgName>Spatial Insights, Inc.</rpOrgName>
<rpPosName>Technical Support</rpPosName>
<role>
<RoleCd value="007"/>
</role>
<rpCntInfo>
<cntAddress addressType="both">
<delPoint>4938 Hampden Lane, PMB 338</delPoint>
<city>Bethesda</city>
<adminArea>MD</adminArea>
<postCode>20814</postCode>
