<?xml version="1.0" encoding="UTF-8" standalone="no"?>
<metadata xml:lang="en">
<Esri>
<CreaDate>20170103</CreaDate>
<CreaTime>09081200</CreaTime>
<ArcGISFormat>1.0</ArcGISFormat>
<SyncOnce>FALSE</SyncOnce>
<DataProperties>
<itemProps>
<itemName Sync="TRUE">cogis.DBO.AerialBW1954_1M</itemName>
<imsContentType Sync="TRUE">002</imsContentType>
<nativeExtBox>
<westBL Sync="TRUE">1001229.559851</westBL>
<eastBL Sync="TRUE">1208531.412527</eastBL>
<southBL Sync="TRUE">1650674.604241</southBL>
<northBL Sync="TRUE">1846594.569222</northBL>
<exTypeCode Sync="TRUE">1</exTypeCode>
</nativeExtBox>
<itemLocation>
<linkage Sync="TRUE">Server=gissql01; Service=sde:sqlserver:gissql01; Database=cogis; User=gisadmin; Version=dbo.DEFAULT</linkage>
<protocol Sync="TRUE">ArcSDE Connection</protocol>
</itemLocation>
</itemProps>
<coordRef>
<type Sync="TRUE">Projected</type>
<geogcsn Sync="TRUE">GCS_North_American_1983</geogcsn>
<csUnits Sync="TRUE">Linear Unit: Foot_US (0.304801)</csUnits>
<projcsn Sync="TRUE">TNTmips_Georeference</projcsn>
<peXml Sync="TRUE">&lt;ProjectedCoordinateSystem xsi:type='typens:ProjectedCoordinateSystem' xmlns:xsi='http://www.w3.org/2001/XMLSchema-instance' xmlns:xs='http://www.w3.org/2001/XMLSchema' xmlns:typens='http://www.esri.com/schemas/ArcGIS/10.8'&gt;&lt;WKT&gt;PROJCS[&amp;quot;TNTmips_Georeference&amp;quot;,GEOGCS[&amp;quot;GCS_North_American_1983&amp;quot;,DATUM[&amp;quot;D_North_American_1983&amp;quot;,SPHEROID[&amp;quot;GRS_1980&amp;quot;,6378137.0,298.257222101]],PRIMEM[&amp;quot;Greenwich&amp;quot;,0.0],UNIT[&amp;quot;Degree&amp;quot;,0.0174532925199433]],PROJECTION[&amp;quot;Transverse_Mercator&amp;quot;],PARAMETER[&amp;quot;false_easting&amp;quot;,984250.0],PARAMETER[&amp;quot;false_northing&amp;quot;,0.0],PARAMETER[&amp;quot;central_meridian&amp;quot;,-88.33333333333333],PARAMETER[&amp;quot;scale_factor&amp;quot;,0.999975],PARAMETER[&amp;quot;latitude_of_origin&amp;quot;,36.66666666666666],UNIT[&amp;quot;Foot_US&amp;quot;,0.3048006096012192]]&lt;/WKT&gt;&lt;XOrigin&gt;-17463800&lt;/XOrigin&gt;&lt;YOrigin&gt;-46132600&lt;/YOrigin&gt;&lt;XYScale&gt;137244822.07846552&lt;/XYScale&gt;&lt;ZOrigin&gt;-100000&lt;/ZOrigin&gt;&lt;ZScale&gt;10000&lt;/ZScale&gt;&lt;MOrigin&gt;-100000&lt;/MOrigin&gt;&lt;MScale&gt;10000&lt;/MScale&gt;&lt;XYTolerance&gt;0.0032808333333333331&lt;/XYTolerance&gt;&lt;ZTolerance&gt;0.00020000000000000001&lt;/ZTolerance&gt;&lt;MTolerance&gt;0.00020000000000000001&lt;/MTolerance&gt;&lt;HighPrecision&gt;true&lt;/HighPrecision&gt;&lt;/ProjectedCoordinateSystem&gt;</peXml>
</coordRef>
<lineage>
<Process Date="20170103" Name="" Time="090812" ToolSource="c:\program files (x86)\arcgis\desktop10.4\ArcToolbox\Toolboxes\Data Management Tools.tbx\CopyRaster" export="">CopyRaster C:\SHARE\1954_Will.jp2 C:\SHARE\1954_Will.gdb\T1954_Will_1 # # 65536 NONE NONE # NONE NONE "Esri Grid" NONE</Process>
<Process Date="20180316" Name="" Time="093229" ToolSource="c:\program files (x86)\arcgis\desktop10.5\ArcToolbox\Toolboxes\Data Management Tools.tbx\ChangePrivileges" export="">ChangePrivileges 'Database Connections\dbo to cogis.gissql.sde\cogis.DBO.AerialBW1954_1M';'Database Connections\dbo to cogis.gissql.sde\cogis.DBO.AerialBW1970_1FT';'Database Connections\dbo to cogis.gissql.sde\cogis.DBO.Ortho2002_1M';'Database Connections\dbo to cogis.gissql.sde\cogis.DBO.Ortho2006_1M' ims GRANT #</Process>
<Process Date="20200616" Name="" Time="140405" ToolSource="c:\program files (x86)\arcgis\desktop10.5\ArcToolbox\Toolboxes\Data Management Tools.tbx\ChangePrivileges" export="">ChangePrivileges 'Database Connections\gisadminSQL to cogis.gissql01.sde\cogis.DBO.AerialBW1954_1M';'Database Connections\gisadminSQL to cogis.gissql01.sde\cogis.DBO.AERIALBW1970_FT';'Database Connections\gisadminSQL to cogis.gissql01.sde\cogis.DBO.Ortho2002_1M';'Database Connections\gisadminSQL to cogis.gissql01.sde\cogis.DBO.Ortho2006_1M' pubeditor GRANT GRANT</Process>
<Process Date="20200616" Name="" Time="140428" ToolSource="c:\program files (x86)\arcgis\desktop10.5\ArcToolbox\Toolboxes\Data Management Tools.tbx\ChangePrivileges" export="">ChangePrivileges 'Database Connections\gisadminSQL to cogis.gissql01.sde\cogis.DBO.AerialBW1954_1M';'Database Connections\gisadminSQL to cogis.gissql01.sde\cogis.DBO.AERIALBW1970_FT';'Database Connections\gisadminSQL to cogis.gissql01.sde\cogis.DBO.Ortho2002_1M';'Database Connections\gisadminSQL to cogis.gissql01.sde\cogis.DBO.Ortho2006_1M' ims GRANT AS_IS</Process>
</lineage>
</DataProperties>
<SyncDate>20220801</SyncDate>
<SyncTime>10260700</SyncTime>
<ModDate>20220801</ModDate>
<ModTime>10260700</ModTime>
<scaleRange>
<minScale>625000</minScale>
<maxScale>5000</maxScale>
</scaleRange>
<ArcGISProfile>ItemDescription</ArcGISProfile>
</Esri>
<dataIdInfo>
<envirDesc Sync="TRUE"> Version 6.2 (Build 9200) ; Esri ArcGIS 10.9.1.28388</envirDesc>
<dataLang>
<languageCode Sync="TRUE" value="eng"/>
<countryCode Sync="TRUE" value="USA"/>
</dataLang>
<idCitation>
<resTitle Sync="FALSE">AerialBW1954_1M</resTitle>
<presForm>
<PresFormCd Sync="TRUE" value="011"/>
</presForm>
</idCitation>
<spatRpType>
<SpatRepTypCd Sync="TRUE" value="002"/>
</spatRpType>
<dataExt>
<geoEle>
<GeoBndBox esriExtentType="search">
<exTypeCode Sync="TRUE">1</exTypeCode>
<westBL Sync="TRUE">-88.271633</westBL>
<eastBL Sync="TRUE">-87.511623</eastBL>
<northBL Sync="TRUE">41.736546</northBL>
<southBL Sync="TRUE">41.195984</southBL>
</GeoBndBox>
</geoEle>
</dataExt>
<idPurp>These data have not been geometrically corrected. The primary data set consists of historical black and white aerial photographs for Will County, Illinois acquired in 1954. The original paper prints have been scanned and stored as TIFF format images</idPurp>
<idAbs>&lt;DIV STYLE="text-align:Left;"&gt;&lt;DIV&gt;&lt;DIV&gt;&lt;P&gt;&lt;SPAN&gt;United States. Commodity Stabilization Service.; Hycon Aerial Surveys, Inc.; Contact prints with stereoscopic coverage (60% overlap).; Complete in ca. 493 images.; Title from photomosaic index.; "Flying completed 7-12-54"--Index.; Flight dates: 5-29-54; 5-30-54; 6-11-54; 6-13-54; 6-15-54; 6-22-54; 6-24-54; 6-26-54; 6-28-54; 7-12-54.; Photos numbered BXK-1N-2 through BXK-10N-170. Numbers on west edge of photos.; Photomosaic index oriented with north to the right.; "Index copied 7-23-54."; Photomosaic index includes key to sheets.; "Invitation no. PMA-42-54-DC. Item no. 2."&lt;/SPAN&gt;&lt;/P&gt;&lt;P&gt;&lt;SPAN&gt;Available at Richard J Daley Library Daley Library - Maps/3rd floor (non-circ) (G4103.W6A4 1954 .U5)&lt;/SPAN&gt;&lt;/P&gt;&lt;/DIV&gt;&lt;/DIV&gt;&lt;/DIV&gt;</idAbs>
<idCredit>University of Illinois Chicago Library</idCredit>
<searchKeys>
<keyword>aerial</keyword>
<keyword>photography</keyword>
<keyword>historical</keyword>
<keyword>imagery</keyword>
<keyword>black and white</keyword>
<keyword>scanned</keyword>
<keyword>dpi</keyword>
<keyword>grayscale</keyword>
<keyword>TIFF</keyword>
<keyword>Illinois</keyword>
<keyword>Will</keyword>
<keyword>county</keyword>
</searchKeys>
<resConst>
<Consts>
<useLimit>&lt;DIV STYLE="text-align:Left;"&gt;&lt;DIV&gt;&lt;DIV&gt;&lt;P&gt;&lt;SPAN STYLE="font-size:12pt"&gt;Under no circumstances may the data be redistributed or made available over a network without explicit permission from the Will County GIS Department. It is required that the Will County GIS Department be cited in any products generated from the data. The following source citation must be included: "Source: Will County Color Digital Orthophotographs: 2004" For custom requests a client must submit a written request stating the intended applications for the data to the Will County GIS Department. When the request is granted, data may be used only for the purposes explicitly stated in the written request.&lt;/SPAN&gt;&lt;/P&gt;&lt;P&gt;&lt;SPAN STYLE="font-size:12pt"&gt;See Disclaimer of Warranties and Accuracy of Data statement&lt;/SPAN&gt;&lt;/P&gt;&lt;P&gt;&lt;SPAN /&gt;&lt;/P&gt;&lt;/DIV&gt;&lt;/DIV&gt;&lt;/DIV&gt;</useLimit>
</Consts>
</resConst>
</dataIdInfo>
<mdLang>
<languageCode Sync="TRUE" value="eng"/>
<countryCode Sync="TRUE" value="USA"/>
</mdLang>
<distInfo>
<distFormat>
<formatName Sync="TRUE">SDE Raster Dataset</formatName>
</distFormat>
</distInfo>
<mdHrLv>
<ScopeCd Sync="TRUE" value="005"/>
</mdHrLv>
<mdHrLvName Sync="TRUE">dataset</mdHrLvName>
<refSysInfo>
<RefSystem>
<refSysID>
<identCode Sync="TRUE" code="0"/>
</refSysID>
</RefSystem>
</refSysInfo>
<spdoinfo>
<rastinfo>
<rasttype Sync="TRUE">Pixel</rasttype>
<rowcount Sync="TRUE">115587</rowcount>
<colcount Sync="TRUE">122302</colcount>
<rastxsz Sync="TRUE">1.695000</rastxsz>
<rastysz Sync="TRUE">1.695000</rastysz>
<rastbpp Sync="TRUE">16</rastbpp>
<vrtcount Sync="TRUE">1</vrtcount>
<rastorig Sync="TRUE">Upper Left</rastorig>
<rastcmap Sync="TRUE">FALSE</rastcmap>
<rastcomp Sync="TRUE">LZ77</rastcomp>
<rastband Sync="TRUE">1</rastband>
<rastdtyp Sync="TRUE">pixel codes</rastdtyp>
<rastifor Sync="TRUE">SDR</rastifor>
<rastplyr Sync="TRUE">TRUE</rastplyr>
</rastinfo>
</spdoinfo>
<spref>
<horizsys>
<planar>
<planci>
<plance Sync="TRUE">row and column</plance>
<coordrep>
<absres Sync="TRUE">1.695000</absres>
<ordres Sync="TRUE">1.695000</ordres>
</coordrep>
</planci>
</planar>
</horizsys>
</spref>
<mdDateSt Sync="TRUE">20220801</mdDateSt>
</metadata>
