<?xml version="1.0" encoding="UTF-8" standalone="no"?>
<metadata xml:lang="en">
<Esri>
<CreaDate>20250328</CreaDate>
<CreaTime>11151500</CreaTime>
<ArcGISFormat>1.0</ArcGISFormat>
<SyncOnce>FALSE</SyncOnce>
<DataProperties>
<itemProps>
<itemName Sync="TRUE">WillCounty1862</itemName>
<imsContentType Sync="TRUE">002</imsContentType>
<nativeExtBox>
<westBL Sync="TRUE">0.000000</westBL>
<eastBL Sync="TRUE">62.966667</eastBL>
<southBL Sync="TRUE">0.000000</southBL>
<northBL Sync="TRUE">51.020000</northBL>
<exTypeCode Sync="TRUE">1</exTypeCode>
</nativeExtBox>
<itemLocation>
<linkage Sync="TRUE">file://\\gisfile\GISstaff\Howard\Orthos_1862.gdb</linkage>
<protocol Sync="TRUE">Local Area Network</protocol>
</itemLocation>
</itemProps>
<lineage>
<Process Date="20250328" Time="111548" ToolSource="c:\program files\arcgis\pro\Resources\ArcToolbox\toolboxes\Data Management Tools.tbx\CopyRaster">CopyRaster \\gisfile\GISstaff\Jared\Projects\1862WillCounty\WillCounty1862.tif \\gisfile\GISstaff\Howard\Orthos_1862.gdb\WillCounty1862 # # # NONE NONE # NONE NONE "Esri Grid format" NONE CURRENT_SLICE NO_TRANSPOSE</Process>
<Process Date="20250328" Time="111641" ToolSource="c:\program files\arcgis\pro\Resources\ArcToolbox\toolboxes\Data Management Tools.tbx\Rename">Rename \\gisfile\GISstaff\Howard\Orthos_1862.gdb\WillCounty1862 \\gisfile\GISstaff\Howard\Orthos_1862.gdb\Orthos1862 RasterDataset</Process>
<Process Date="20250328" Time="112302" ToolSource="c:\program files\arcgis\pro\Resources\ArcToolbox\toolboxes\Data Management Tools.tbx\CopyMultiple">CopyMultiple "\\gisfile\GISstaff\Howard\Orthos_1862.gdb\Orthos1862 RasterDataset" C:\Users\hkim\Documents\ArcGIS\Projects\Sign_Inventory_2025\SQLServer-gissql,1700-cogis(gisadmin).sde Orthos1862 "Orthos1862 RasterDataset DBO.Orthos1862 #"</Process>
<Process Date="20250328" Time="112357" ToolSource="c:\program files\arcgis\pro\Resources\ArcToolbox\toolboxes\Data Management Tools.tbx\Rename">Rename C:\Users\hkim\Documents\ArcGIS\Projects\Sign_Inventory_2025\SQLServer-gissql,1700-cogis(gisadmin).sde\DBO.Orthos1862 C:\Users\hkim\Documents\ArcGIS\Projects\Sign_Inventory_2025\SQLServer-gissql,1700-cogis(gisadmin).sde\DBO.AerialBW1862 RasterDataset</Process>
</lineage>
</DataProperties>
<SyncDate>20250328</SyncDate>
<SyncTime>11151500</SyncTime>
<ModDate>20250328</ModDate>
<ModTime>11151500</ModTime>
</Esri>
<dataIdInfo>
<envirDesc Sync="TRUE">Microsoft Windows 10 Version 10.0 (Build 22621) ; Esri ArcGIS 13.3.0.52636</envirDesc>
<dataLang>
<languageCode Sync="TRUE" value="eng"/>
<countryCode Sync="TRUE" value="USA"/>
</dataLang>
<idCitation>
<resTitle Sync="TRUE">AerialBW1862</resTitle>
<presForm>
<PresFormCd Sync="TRUE" value="011"/>
</presForm>
</idCitation>
<spatRpType>
<SpatRepTypCd Sync="TRUE" value="002"/>
</spatRpType>
<idAbs/>
<searchKeys>
<keyword>Aerial</keyword>
</searchKeys>
<idPurp>1862 Map of Will County, Illinois. Map shows townships and property owners.
Credits: S.H. Burhans and J. Van Vechten
Source: Library of Congress Maps &amp; Charts</idPurp>
<idCredit/>
<resConst>
<Consts>
<useLimit/>
</Consts>
</resConst>
</dataIdInfo>
<mdLang>
<languageCode Sync="TRUE" value="eng"/>
<countryCode Sync="TRUE" value="USA"/>
</mdLang>
<distInfo>
<distFormat>
<formatName Sync="TRUE">File Geodatabase Raster Dataset</formatName>
</distFormat>
</distInfo>
<mdHrLv>
<ScopeCd Sync="TRUE" value="005"/>
</mdHrLv>
<mdHrLvName Sync="TRUE">dataset</mdHrLvName>
<spdoinfo>
<rastinfo>
<rasttype Sync="TRUE">Pixel</rasttype>
<rowcount Sync="TRUE">15306</rowcount>
<colcount Sync="TRUE">18890</colcount>
<rastxsz Sync="TRUE">0.003333</rastxsz>
<rastysz Sync="TRUE">0.003333</rastysz>
<rastbpp Sync="TRUE">8</rastbpp>
<vrtcount Sync="TRUE">1</vrtcount>
<rastorig Sync="TRUE">Upper Left</rastorig>
<rastcmap Sync="TRUE">FALSE</rastcmap>
<rastcomp Sync="TRUE">LZ77</rastcomp>
<rastband Sync="TRUE">3</rastband>
<rastdtyp Sync="TRUE">pixel codes</rastdtyp>
<rastifor Sync="TRUE">FGDBR</rastifor>
<rastplyr Sync="TRUE">TRUE</rastplyr>
</rastinfo>
</spdoinfo>
<spref>
<horizsys>
<planar>
<planci>
<plance Sync="TRUE">row and column</plance>
<coordrep>
<absres Sync="TRUE">0.003333</absres>
<ordres Sync="TRUE">0.003333</ordres>
</coordrep>
</planci>
</planar>
</horizsys>
</spref>
<mdDateSt Sync="TRUE">20250328</mdDateSt>
</metadata>
