<?xml version="1.0" encoding="UTF-8" standalone="no"?>
<metadata xml:lang="en">
<Esri>
<CreaDate>20220726</CreaDate>
<CreaTime>10342700</CreaTime>
<ArcGISFormat>1.0</ArcGISFormat>
<SyncOnce>FALSE</SyncOnce>
<DataProperties>
<lineage>
<Process Date="20220726" Time="103427" ToolSource="c:\program files\arcgis\pro\Resources\ArcToolbox\toolboxes\Data Management Tools.tbx\CreateMosaicDataset">CreateMosaicDataset \\gisfile\GISstaff\Jared\Projects\1873SwipeMap\gisadmin2cogis2gissql01.sde ImageTwpMap1873 PROJCS["NAD_1983_StatePlane_Illinois_East_FIPS_1201_Feet",GEOGCS["GCS_North_American_1983",DATUM["D_North_American_1983",SPHEROID["GRS_1980",6378137.0,298.257222101]],PRIMEM["Greenwich",0.0],UNIT["Degree",0.0174532925199433]],PROJECTION["Transverse_Mercator"],PARAMETER["False_Easting",984250.0],PARAMETER["False_Northing",0.0],PARAMETER["Central_Meridian",-88.33333333333333],PARAMETER["Scale_Factor",0.999975],PARAMETER["Latitude_Of_Origin",36.66666666666666],UNIT["Foot_US",0.3048006096012192]] 4 "8-bit unsigned" None #</Process>
<Process Date="20220726" Time="112441" ToolSource="c:\program files\arcgis\pro\Resources\ArcToolbox\toolboxes\Data Management Tools.tbx\AddRastersToMosaicDataset">AddRastersToMosaicDataset \\gisfile\GISstaff\Jared\Projects\1873SwipeMap\gisadmin2cogis2gissql01.sde\DBO.ImageTwpMap1873 "Raster Dataset" '\\gisbds\Imagery\Townships1873\1873 Wesley Reed Township.png' UPDATE_CELL_SIZES UPDATE_BOUNDARY UPDATE_OVERVIEWS # 0 1500 # # SUBFOLDERS "Allow duplicates" NO_PYRAMIDS NO_STATISTICS NO_THUMBNAILS # NO_FORCE_SPATIAL_REFERENCE NO_STATISTICS # NO_PIXEL_CACHE C:\Users\gjohnson\AppData\Local\ESRI\rasterproxies\DBO.ImageTwpMap1873</Process>
<Process Date="20220726" Time="112623" ToolSource="c:\program files\arcgis\pro\Resources\ArcToolbox\toolboxes\Data Management Tools.tbx\AddRastersToMosaicDataset">AddRastersToMosaicDataset \\gisfile\GISstaff\Jared\Projects\1873SwipeMap\gisadmin2cogis2gissql01.sde\DBO.ImageTwpMap1873 "Raster Dataset" '\\gisbds\Imagery\Townships1873\1873 Reed Township.png' UPDATE_CELL_SIZES UPDATE_BOUNDARY UPDATE_OVERVIEWS # 0 1500 # # SUBFOLDERS "Allow duplicates" NO_PYRAMIDS NO_STATISTICS NO_THUMBNAILS # NO_FORCE_SPATIAL_REFERENCE NO_STATISTICS # NO_PIXEL_CACHE C:\Users\gjohnson\AppData\Local\ESRI\rasterproxies\DBO.ImageTwpMap1873</Process>
<Process Date="20220726" Time="112751" ToolSource="c:\program files\arcgis\pro\Resources\ArcToolbox\toolboxes\Data Management Tools.tbx\AddRastersToMosaicDataset">AddRastersToMosaicDataset \\gisfile\GISstaff\Jared\Projects\1873SwipeMap\gisadmin2cogis2gissql01.sde\DBO.ImageTwpMap1873 "Raster Dataset" '\\gisbds\Imagery\Townships1873\1873 Washington Township.png' UPDATE_CELL_SIZES UPDATE_BOUNDARY UPDATE_OVERVIEWS # 0 1500 # # SUBFOLDERS "Allow duplicates" NO_PYRAMIDS NO_STATISTICS NO_THUMBNAILS # NO_FORCE_SPATIAL_REFERENCE NO_STATISTICS # NO_PIXEL_CACHE C:\Users\gjohnson\AppData\Local\ESRI\rasterproxies\DBO.ImageTwpMap1873</Process>
<Process Date="20220726" Time="112856" ToolSource="c:\program files\arcgis\pro\Resources\ArcToolbox\toolboxes\Data Management Tools.tbx\AddRastersToMosaicDataset">AddRastersToMosaicDataset \\gisfile\GISstaff\Jared\Projects\1873SwipeMap\gisadmin2cogis2gissql01.sde\DBO.ImageTwpMap1873 "Raster Dataset" '\\gisbds\Imagery\Townships1873\1873 Peotone Township.png' UPDATE_CELL_SIZES UPDATE_BOUNDARY UPDATE_OVERVIEWS # 0 1500 # # SUBFOLDERS "Allow duplicates" NO_PYRAMIDS NO_STATISTICS NO_THUMBNAILS # NO_FORCE_SPATIAL_REFERENCE NO_STATISTICS # NO_PIXEL_CACHE C:\Users\gjohnson\AppData\Local\ESRI\rasterproxies\DBO.ImageTwpMap1873</Process>
<Process Date="20220726" Time="113045" ToolSource="c:\program files\arcgis\pro\Resources\ArcToolbox\toolboxes\Data Management Tools.tbx\AddRastersToMosaicDataset">AddRastersToMosaicDataset \\gisfile\GISstaff\Jared\Projects\1873SwipeMap\gisadmin2cogis2gissql01.sde\DBO.ImageTwpMap1873 "Raster Dataset" '\\gisbds\Imagery\Townships1873\1873 Florence Township.png' UPDATE_CELL_SIZES UPDATE_BOUNDARY UPDATE_OVERVIEWS # 0 1500 # # SUBFOLDERS "Allow duplicates" NO_PYRAMIDS NO_STATISTICS NO_THUMBNAILS # NO_FORCE_SPATIAL_REFERENCE NO_STATISTICS # NO_PIXEL_CACHE C:\Users\gjohnson\AppData\Local\ESRI\rasterproxies\DBO.ImageTwpMap1873</Process>
<Process Date="20220726" Time="113201" ToolSource="c:\program files\arcgis\pro\Resources\ArcToolbox\toolboxes\Data Management Tools.tbx\AddRastersToMosaicDataset">AddRastersToMosaicDataset \\gisfile\GISstaff\Jared\Projects\1873SwipeMap\gisadmin2cogis2gissql01.sde\DBO.ImageTwpMap1873 "Raster Dataset" '\\gisbds\Imagery\Townships1873\1873 Wilton Township.png' UPDATE_CELL_SIZES UPDATE_BOUNDARY UPDATE_OVERVIEWS # 0 1500 # # SUBFOLDERS "Allow duplicates" NO_PYRAMIDS NO_STATISTICS NO_THUMBNAILS # NO_FORCE_SPATIAL_REFERENCE NO_STATISTICS # NO_PIXEL_CACHE C:\Users\gjohnson\AppData\Local\ESRI\rasterproxies\DBO.ImageTwpMap1873</Process>
<Process Date="20220726" Time="113344" ToolSource="c:\program files\arcgis\pro\Resources\ArcToolbox\toolboxes\Data Management Tools.tbx\AddRastersToMosaicDataset">AddRastersToMosaicDataset \\gisfile\GISstaff\Jared\Projects\1873SwipeMap\gisadmin2cogis2gissql01.sde\DBO.ImageTwpMap1873 "Raster Dataset" '\\gisbds\Imagery\Townships1873\1873 Crete Township.png' UPDATE_CELL_SIZES UPDATE_BOUNDARY UPDATE_OVERVIEWS # 0 1500 # # SUBFOLDERS "Allow duplicates" NO_PYRAMIDS NO_STATISTICS NO_THUMBNAILS # NO_FORCE_SPATIAL_REFERENCE NO_STATISTICS # NO_PIXEL_CACHE C:\Users\gjohnson\AppData\Local\ESRI\rasterproxies\DBO.ImageTwpMap1873</Process>
<Process Date="20220726" Time="113511" ToolSource="c:\program files\arcgis\pro\Resources\ArcToolbox\toolboxes\Data Management Tools.tbx\AddRastersToMosaicDataset">AddRastersToMosaicDataset \\gisfile\GISstaff\Jared\Projects\1873SwipeMap\gisadmin2cogis2gissql01.sde\DBO.ImageTwpMap1873 "Raster Dataset" '\\gisbds\Imagery\Townships1873\1873 Monee Township.png' UPDATE_CELL_SIZES UPDATE_BOUNDARY UPDATE_OVERVIEWS # 0 1500 # # SUBFOLDERS "Allow duplicates" NO_PYRAMIDS NO_STATISTICS NO_THUMBNAILS # NO_FORCE_SPATIAL_REFERENCE NO_STATISTICS # NO_PIXEL_CACHE C:\Users\gjohnson\AppData\Local\ESRI\rasterproxies\DBO.ImageTwpMap1873</Process>
<Process Date="20220726" Time="113920" ToolSource="c:\program files\arcgis\pro\Resources\ArcToolbox\toolboxes\Data Management Tools.tbx\AddRastersToMosaicDataset">AddRastersToMosaicDataset \\gisfile\GISstaff\Jared\Projects\1873SwipeMap\gisadmin2cogis2gissql01.sde\DBO.ImageTwpMap1873 "Raster Dataset" '\\gisbds\Imagery\Townships1873\1873 Green Garden Township.png' UPDATE_CELL_SIZES UPDATE_BOUNDARY UPDATE_OVERVIEWS # 0 1500 # # SUBFOLDERS "Allow duplicates" NO_PYRAMIDS NO_STATISTICS NO_THUMBNAILS # NO_FORCE_SPATIAL_REFERENCE NO_STATISTICS # NO_PIXEL_CACHE C:\Users\gjohnson\AppData\Local\ESRI\rasterproxies\DBO.ImageTwpMap1873</Process>
<Process Date="20220726" Time="114044" ToolSource="c:\program files\arcgis\pro\Resources\ArcToolbox\toolboxes\Data Management Tools.tbx\AddRastersToMosaicDataset">AddRastersToMosaicDataset \\gisfile\GISstaff\Jared\Projects\1873SwipeMap\gisadmin2cogis2gissql01.sde\DBO.ImageTwpMap1873 "Raster Dataset" '\\gisbds\Imagery\Townships1873\1873 Manhattan Township.png' UPDATE_CELL_SIZES UPDATE_BOUNDARY UPDATE_OVERVIEWS # 0 1500 # # SUBFOLDERS "Allow duplicates" NO_PYRAMIDS NO_STATISTICS NO_THUMBNAILS # NO_FORCE_SPATIAL_REFERENCE NO_STATISTICS # NO_PIXEL_CACHE C:\Users\gjohnson\AppData\Local\ESRI\rasterproxies\DBO.ImageTwpMap1873</Process>
<Process Date="20220726" Time="114257" ToolSource="c:\program files\arcgis\pro\Resources\ArcToolbox\toolboxes\Data Management Tools.tbx\AddRastersToMosaicDataset">AddRastersToMosaicDataset \\gisfile\GISstaff\Jared\Projects\1873SwipeMap\gisadmin2cogis2gissql01.sde\DBO.ImageTwpMap1873 "Raster Dataset" '\\gisbds\Imagery\Townships1873\1873 Jackson Township.png' UPDATE_CELL_SIZES UPDATE_BOUNDARY UPDATE_OVERVIEWS # 0 1500 # # SUBFOLDERS "Allow duplicates" NO_PYRAMIDS NO_STATISTICS NO_THUMBNAILS # NO_FORCE_SPATIAL_REFERENCE NO_STATISTICS # NO_PIXEL_CACHE C:\Users\gjohnson\AppData\Local\ESRI\rasterproxies\DBO.ImageTwpMap1873</Process>
<Process Date="20220726" Time="114422" ToolSource="c:\program files\arcgis\pro\Resources\ArcToolbox\toolboxes\Data Management Tools.tbx\AddRastersToMosaicDataset">AddRastersToMosaicDataset \\gisfile\GISstaff\Jared\Projects\1873SwipeMap\gisadmin2cogis2gissql01.sde\DBO.ImageTwpMap1873 "Raster Dataset" '\\gisbds\Imagery\Townships1873\1873 Channahonn Township.png' UPDATE_CELL_SIZES UPDATE_BOUNDARY UPDATE_OVERVIEWS # 0 1500 # # SUBFOLDERS "Allow duplicates" NO_PYRAMIDS NO_STATISTICS NO_THUMBNAILS # NO_FORCE_SPATIAL_REFERENCE NO_STATISTICS # NO_PIXEL_CACHE C:\Users\gjohnson\AppData\Local\ESRI\rasterproxies\DBO.ImageTwpMap1873</Process>
<Process Date="20220726" Time="114725" ToolSource="c:\program files\arcgis\pro\Resources\ArcToolbox\toolboxes\Data Management Tools.tbx\AddRastersToMosaicDataset">AddRastersToMosaicDataset \\gisfile\GISstaff\Jared\Projects\1873SwipeMap\gisadmin2cogis2gissql01.sde\DBO.ImageTwpMap1873 "Raster Dataset" '\\gisbds\Imagery\Townships1873\1873 Wilmington Township.png' UPDATE_CELL_SIZES UPDATE_BOUNDARY UPDATE_OVERVIEWS # 0 1500 # # SUBFOLDERS "Allow duplicates" NO_PYRAMIDS NO_STATISTICS NO_THUMBNAILS # NO_FORCE_SPATIAL_REFERENCE NO_STATISTICS # NO_PIXEL_CACHE C:\Users\gjohnson\AppData\Local\ESRI\rasterproxies\DBO.ImageTwpMap1873</Process>
<Process Date="20220726" Time="114905" ToolSource="c:\program files\arcgis\pro\Resources\ArcToolbox\toolboxes\Data Management Tools.tbx\AddRastersToMosaicDataset">AddRastersToMosaicDataset \\gisfile\GISstaff\Jared\Projects\1873SwipeMap\gisadmin2cogis2gissql01.sde\DBO.ImageTwpMap1873 "Raster Dataset" '\\gisbds\Imagery\Townships1873\1873 FrankfortTownship.png' UPDATE_CELL_SIZES UPDATE_BOUNDARY UPDATE_OVERVIEWS # 0 1500 # # SUBFOLDERS "Allow duplicates" NO_PYRAMIDS NO_STATISTICS NO_THUMBNAILS # NO_FORCE_SPATIAL_REFERENCE NO_STATISTICS # NO_PIXEL_CACHE C:\Users\gjohnson\AppData\Local\ESRI\rasterproxies\DBO.ImageTwpMap1873</Process>
<Process Date="20220726" Time="115037" ToolSource="c:\program files\arcgis\pro\Resources\ArcToolbox\toolboxes\Data Management Tools.tbx\AddRastersToMosaicDataset">AddRastersToMosaicDataset \\gisfile\GISstaff\Jared\Projects\1873SwipeMap\gisadmin2cogis2gissql01.sde\DBO.ImageTwpMap1873 "Raster Dataset" '\\gisbds\Imagery\Townships1873\1873 New Lenox Township.png' UPDATE_CELL_SIZES UPDATE_BOUNDARY UPDATE_OVERVIEWS # 0 1500 # # SUBFOLDERS "Allow duplicates" NO_PYRAMIDS NO_STATISTICS NO_THUMBNAILS # NO_FORCE_SPATIAL_REFERENCE NO_STATISTICS # NO_PIXEL_CACHE C:\Users\gjohnson\AppData\Local\ESRI\rasterproxies\DBO.ImageTwpMap1873</Process>
<Process Date="20220726" Time="115208" ToolSource="c:\program files\arcgis\pro\Resources\ArcToolbox\toolboxes\Data Management Tools.tbx\AddRastersToMosaicDataset">AddRastersToMosaicDataset \\gisfile\GISstaff\Jared\Projects\1873SwipeMap\gisadmin2cogis2gissql01.sde\DBO.ImageTwpMap1873 "Raster Dataset" '\\gisbds\Imagery\Townships1873\1873 Joliet Township.png' UPDATE_CELL_SIZES UPDATE_BOUNDARY UPDATE_OVERVIEWS # 0 1500 # # SUBFOLDERS "Allow duplicates" NO_PYRAMIDS NO_STATISTICS NO_THUMBNAILS # NO_FORCE_SPATIAL_REFERENCE NO_STATISTICS # NO_PIXEL_CACHE C:\Users\gjohnson\AppData\Local\ESRI\rasterproxies\DBO.ImageTwpMap1873</Process>
<Process Date="20220726" Time="115331" ToolSource="c:\program files\arcgis\pro\Resources\ArcToolbox\toolboxes\Data Management Tools.tbx\AddRastersToMosaicDataset">AddRastersToMosaicDataset \\gisfile\GISstaff\Jared\Projects\1873SwipeMap\gisadmin2cogis2gissql01.sde\DBO.ImageTwpMap1873 "Raster Dataset" '\\gisbds\Imagery\Townships1873\1873 Troy Township.png' UPDATE_CELL_SIZES UPDATE_BOUNDARY UPDATE_OVERVIEWS # 0 1500 # # SUBFOLDERS "Allow duplicates" NO_PYRAMIDS NO_STATISTICS NO_THUMBNAILS # NO_FORCE_SPATIAL_REFERENCE NO_STATISTICS # NO_PIXEL_CACHE C:\Users\gjohnson\AppData\Local\ESRI\rasterproxies\DBO.ImageTwpMap1873</Process>
<Process Date="20220726" Time="115508" ToolSource="c:\program files\arcgis\pro\Resources\ArcToolbox\toolboxes\Data Management Tools.tbx\AddRastersToMosaicDataset">AddRastersToMosaicDataset \\gisfile\GISstaff\Jared\Projects\1873SwipeMap\gisadmin2cogis2gissql01.sde\DBO.ImageTwpMap1873 "Raster Dataset" '\\gisbds\Imagery\Townships1873\1873 Homer Township.png' UPDATE_CELL_SIZES UPDATE_BOUNDARY UPDATE_OVERVIEWS # 0 1500 # # SUBFOLDERS "Allow duplicates" NO_PYRAMIDS NO_STATISTICS NO_THUMBNAILS # NO_FORCE_SPATIAL_REFERENCE NO_STATISTICS # NO_PIXEL_CACHE C:\Users\gjohnson\AppData\Local\ESRI\rasterproxies\DBO.ImageTwpMap1873</Process>
<Process Date="20220726" Time="115648" ToolSource="c:\program files\arcgis\pro\Resources\ArcToolbox\toolboxes\Data Management Tools.tbx\AddRastersToMosaicDataset">AddRastersToMosaicDataset \\gisfile\GISstaff\Jared\Projects\1873SwipeMap\gisadmin2cogis2gissql01.sde\DBO.ImageTwpMap1873 "Raster Dataset" '\\gisbds\Imagery\Townships1873\1873 Lockport Township.png' UPDATE_CELL_SIZES UPDATE_BOUNDARY UPDATE_OVERVIEWS # 0 1500 # # SUBFOLDERS "Allow duplicates" NO_PYRAMIDS NO_STATISTICS NO_THUMBNAILS # NO_FORCE_SPATIAL_REFERENCE NO_STATISTICS # NO_PIXEL_CACHE C:\Users\gjohnson\AppData\Local\ESRI\rasterproxies\DBO.ImageTwpMap1873</Process>
<Process Date="20220726" Time="115828" ToolSource="c:\program files\arcgis\pro\Resources\ArcToolbox\toolboxes\Data Management Tools.tbx\AddRastersToMosaicDataset">AddRastersToMosaicDataset \\gisfile\GISstaff\Jared\Projects\1873SwipeMap\gisadmin2cogis2gissql01.sde\DBO.ImageTwpMap1873 "Raster Dataset" '\\gisbds\Imagery\Townships1873\1873 Plainfield Township.png' UPDATE_CELL_SIZES UPDATE_BOUNDARY UPDATE_OVERVIEWS # 0 1500 # # SUBFOLDERS "Allow duplicates" NO_PYRAMIDS NO_STATISTICS NO_THUMBNAILS # NO_FORCE_SPATIAL_REFERENCE NO_STATISTICS # NO_PIXEL_CACHE C:\Users\gjohnson\AppData\Local\ESRI\rasterproxies\DBO.ImageTwpMap1873</Process>
<Process Date="20220726" Time="120029" ToolSource="c:\program files\arcgis\pro\Resources\ArcToolbox\toolboxes\Data Management Tools.tbx\AddRastersToMosaicDataset">AddRastersToMosaicDataset \\gisfile\GISstaff\Jared\Projects\1873SwipeMap\gisadmin2cogis2gissql01.sde\DBO.ImageTwpMap1873 "Raster Dataset" '\\gisbds\Imagery\Townships1873\1873 DuPage Township.png' UPDATE_CELL_SIZES UPDATE_BOUNDARY UPDATE_OVERVIEWS # 0 1500 # # SUBFOLDERS "Allow duplicates" NO_PYRAMIDS NO_STATISTICS NO_THUMBNAILS # NO_FORCE_SPATIAL_REFERENCE NO_STATISTICS # NO_PIXEL_CACHE C:\Users\gjohnson\AppData\Local\ESRI\rasterproxies\DBO.ImageTwpMap1873</Process>
<Process Date="20220726" Time="121126" ToolSource="c:\program files\arcgis\pro\Resources\ArcToolbox\toolboxes\Data Management Tools.tbx\AddRastersToMosaicDataset">AddRastersToMosaicDataset \\gisfile\GISstaff\Jared\Projects\1873SwipeMap\gisadmin2cogis2gissql01.sde\DBO.ImageTwpMap1873 "Raster Dataset" '\\gisbds\Imagery\Townships1873\1873 Wheatland Township.png' UPDATE_CELL_SIZES UPDATE_BOUNDARY UPDATE_OVERVIEWS # 0 1500 # # SUBFOLDERS "Allow duplicates" NO_PYRAMIDS NO_STATISTICS NO_THUMBNAILS # NO_FORCE_SPATIAL_REFERENCE NO_STATISTICS # NO_PIXEL_CACHE C:\Users\gjohnson\AppData\Local\ESRI\rasterproxies\DBO.ImageTwpMap1873</Process>
<Process Date="20240103" Time="150301" ToolSource="c:\program files (x86)\arcgis\desktop10.8\ArcToolbox\Toolboxes\Data Management Tools.tbx\RepairMosaicDatasetPaths">RepairMosaicDatasetPaths "Database Connections\gisadminSQL to cogis.gissql01.sde\DBO.ImageTwpMap1873" "# \\gisbds\Imagery\Townships1873 \\gisaerials\Imagery\Townships1873" #</Process>
<Process Date="20240826" Time="132316" ToolSource="c:\program files\arcgis\pro\Resources\ArcToolbox\toolboxes\Data Management Tools.tbx\ChangePrivileges">ChangePrivileges \\gisfile\gisstaff\SQLServer-gissql-cogis.sde\DBO.ImageTwpMap1873;\\gisfile\gisstaff\SQLServer-gissql-cogis.sde\DBO.AerialBW1939_200M;\\gisfile\gisstaff\SQLServer-gissql-cogis.sde\DBO.AerialBW1961_1M;\\gisfile\gisstaff\SQLServer-gissql-cogis.sde\DBO.AERIALBW1975_FT;\\gisfile\gisstaff\SQLServer-gissql-cogis.sde\DBO.AERIALBW1980_FT;\\gisfile\gisstaff\SQLServer-gissql-cogis.sde\DBO.AERIALBW1985_FT;\\gisfile\gisstaff\SQLServer-gissql-cogis.sde\DBO.AERIALBW1990_FT;\\gisfile\gisstaff\SQLServer-gissql-cogis.sde\DBO.AERIALBW1995_FT;\\gisfile\gisstaff\SQLServer-gissql-cogis.sde\DBO.AerialBW1997_1FT;\\gisfile\gisstaff\SQLServer-gissql-cogis.sde\DBO.AerialBW1997P_6IN ims "Grant view privileges" "Do not change edit privileges"</Process>
</lineage>
<itemProps>
<itemName Sync="TRUE">DBO.ImageTwpMap1873</itemName>
<itemLocation>
<linkage Sync="TRUE">Server=gissql01; Service=sde:sqlserver:gissql01; Database=cogis; User=gisadmin; Version=dbo.DEFAULT</linkage>
<protocol Sync="TRUE">ArcSDE Connection</protocol>
</itemLocation>
<nativeExtBox>
<westBL Sync="TRUE">1003355.107035</westBL>
<eastBL Sync="TRUE">1206455.469400</eastBL>
<southBL Sync="TRUE">1651570.258143</southBL>
<northBL Sync="TRUE">1844068.364943</northBL>
<exTypeCode Sync="TRUE">1</exTypeCode>
</nativeExtBox>
</itemProps>
<coordRef>
<type Sync="TRUE">Projected</type>
<geogcsn Sync="TRUE">GCS_North_American_1983</geogcsn>
<csUnits Sync="TRUE">Linear Unit: Foot_US (0.304801)</csUnits>
<projcsn Sync="TRUE">NAD_1983_StatePlane_Illinois_East_FIPS_1201_Feet</projcsn>
<peXml Sync="TRUE">&lt;ProjectedCoordinateSystem xsi:type='typens:ProjectedCoordinateSystem' xmlns:xsi='http://www.w3.org/2001/XMLSchema-instance' xmlns:xs='http://www.w3.org/2001/XMLSchema' xmlns:typens='http://www.esri.com/schemas/ArcGIS/10.8'&gt;&lt;WKT&gt;PROJCS[&amp;quot;NAD_1983_StatePlane_Illinois_East_FIPS_1201_Feet&amp;quot;,GEOGCS[&amp;quot;GCS_North_American_1983&amp;quot;,DATUM[&amp;quot;D_North_American_1983&amp;quot;,SPHEROID[&amp;quot;GRS_1980&amp;quot;,6378137.0,298.257222101]],PRIMEM[&amp;quot;Greenwich&amp;quot;,0.0],UNIT[&amp;quot;Degree&amp;quot;,0.0174532925199433]],PROJECTION[&amp;quot;Transverse_Mercator&amp;quot;],PARAMETER[&amp;quot;False_Easting&amp;quot;,984250.0],PARAMETER[&amp;quot;False_Northing&amp;quot;,0.0],PARAMETER[&amp;quot;Central_Meridian&amp;quot;,-88.33333333333333],PARAMETER[&amp;quot;Scale_Factor&amp;quot;,0.999975],PARAMETER[&amp;quot;Latitude_Of_Origin&amp;quot;,36.66666666666666],UNIT[&amp;quot;Foot_US&amp;quot;,0.3048006096012192],AUTHORITY[&amp;quot;EPSG&amp;quot;,3435]]&lt;/WKT&gt;&lt;XOrigin&gt;-17463800&lt;/XOrigin&gt;&lt;YOrigin&gt;-46132600&lt;/YOrigin&gt;&lt;XYScale&gt;137244822.07846552&lt;/XYScale&gt;&lt;ZOrigin&gt;-100000&lt;/ZOrigin&gt;&lt;ZScale&gt;10000&lt;/ZScale&gt;&lt;MOrigin&gt;-100000&lt;/MOrigin&gt;&lt;MScale&gt;10000&lt;/MScale&gt;&lt;XYTolerance&gt;0.0032808333333333331&lt;/XYTolerance&gt;&lt;ZTolerance&gt;0.001&lt;/ZTolerance&gt;&lt;MTolerance&gt;0.001&lt;/MTolerance&gt;&lt;HighPrecision&gt;true&lt;/HighPrecision&gt;&lt;WKID&gt;102671&lt;/WKID&gt;&lt;LatestWKID&gt;3435&lt;/LatestWKID&gt;&lt;/ProjectedCoordinateSystem&gt;</peXml>
</coordRef>
<RasterProperties>
<General>
<PixelDepth Sync="TRUE">8</PixelDepth>
<HasColormap Sync="TRUE">FALSE</HasColormap>
<CompressionType Sync="TRUE">None</CompressionType>
<NumBands Sync="TRUE">4</NumBands>
<Format Sync="TRUE">AMD</Format>
<HasPyramids Sync="TRUE">TRUE</HasPyramids>
<SourceType Sync="TRUE">continuous</SourceType>
<PixelType Sync="TRUE">unsigned integer</PixelType>
<NoDataValue Sync="TRUE"/>
</General>
<Properties>
<MaxImageHeight Sync="TRUE">4100</MaxImageHeight>
<MaxImageWidth Sync="TRUE">15000</MaxImageWidth>
<MaxRecordCount Sync="TRUE">1000</MaxRecordCount>
<MaxDownloadImageCount Sync="TRUE">20</MaxDownloadImageCount>
<MaxDownloadSizeLimit Sync="TRUE">2048</MaxDownloadSizeLimit>
<MaxMosaicImageCount Sync="TRUE">20</MaxMosaicImageCount>
<DefaultCompressionQuality Sync="TRUE">75</DefaultCompressionQuality>
<DefaultCompressionTolerance Sync="TRUE">0.01</DefaultCompressionTolerance>
<BlendWidth Sync="TRUE">10</BlendWidth>
<ViewpointSpacingX Sync="TRUE">600</ViewpointSpacingX>
<ViewpointSpacingY Sync="TRUE">300</ViewpointSpacingY>
<AllowedItemMetadata Sync="TRUE">Basic</AllowedItemMetadata>
<DefaultResamplingMethod Sync="TRUE">1</DefaultResamplingMethod>
<AllowedMosaicMethods Sync="TRUE">NorthWest,Center,LockRaster,ByAttribute,Nadir,Viewpoint,Seamline,None</AllowedMosaicMethods>
<AllowedCompressions Sync="TRUE">None,JPEG,LZ77,LERC</AllowedCompressions>
<AllowedMensurationCapabilities Sync="TRUE">Basic</AllowedMensurationCapabilities>
<AvailableMensurationCapabilities Sync="TRUE">None,Basic,Base-Top Height,Top-Top Shadow Height,Base-Top Shadow Height,3D</AvailableMensurationCapabilities>
<ClipToBoundary Sync="TRUE">-1</ClipToBoundary>
<FootprintMayContainNoData Sync="TRUE">-1</FootprintMayContainNoData>
<CellSizeTolerance Sync="TRUE">0.8</CellSizeTolerance>
<MinimumPixelContribution Sync="TRUE">1</MinimumPixelContribution>
<AvailableMosaicMethods Sync="TRUE">NorthWest,Center,LockRaster,ByAttribute,Nadir,Viewpoint,Seamline,None</AvailableMosaicMethods>
<AvailableCompressionMethods Sync="TRUE">None,JPEG,LZ77,LERC</AvailableCompressionMethods>
<AvailableItemMetadataLevels Sync="TRUE">None,Basic,Full</AvailableItemMetadataLevels>
<BandDefinitionKeyword Sync="TRUE">NONE</BandDefinitionKeyword>
<_docversion_ Sync="TRUE">10</_docversion_>
<AllowedFields Sync="TRUE">Name,MinPS,MaxPS,LowPS,HighPS,Tag,GroupName,ProductName,CenterX,CenterY,ZOrder,Shape.STArea(),Shape.STLength()</AllowedFields>
<LowCellSize Sync="TRUE">4.133432969</LowCellSize>
<HighCellSize Sync="TRUE">1785.643042446</HighCellSize>
<MaxCellSize Sync="TRUE">89282.1521223</MaxCellSize>
<PixelCacheLocation Sync="TRUE">C:\Users\gjohnson\AppData\Local\ESRI\rasterproxies\DBO.ImageTwpMap1873</PixelCacheLocation>
<ApplyColorCorrection Sync="TRUE">0</ApplyColorCorrection>
<TimeStamp.RemoveItems Sync="TRUE">44768.6855958333</TimeStamp.RemoveItems>
<TimeStamp.UpdateExtent Sync="TRUE">44768.6864050579</TimeStamp.UpdateExtent>
</Properties>
<Functions Sync="TRUE">
<Function Description="Performs on-the-fly mosaic on a raster catalog." Name="Mosaic Function"/>
</Functions>
</RasterProperties>
</DataProperties>
<SyncDate>20220801</SyncDate>
<SyncTime>10080500</SyncTime>
<ModDate>20220801</ModDate>
<ModTime>10080500</ModTime>
</Esri>
<dataIdInfo>
<envirDesc Sync="TRUE"> Version 6.2 (Build 9200) ; Esri ArcGIS 10.9.1.28388</envirDesc>
<dataLang>
<languageCode Sync="TRUE" value="eng"/>
<countryCode Sync="TRUE" value="USA"/>
</dataLang>
<idCitation>
<resTitle Sync="TRUE">ImageTwpMap1873</resTitle>
<presForm>
<PresFormCd Sync="TRUE" value="005"/>
</presForm>
</idCitation>
<spatRpType>
<SpatRepTypCd Sync="TRUE" value="002"/>
</spatRpType>
<dataExt>
<geoEle>
<GeoBndBox esriExtentType="search">
<exTypeCode Sync="TRUE">1</exTypeCode>
<westBL Sync="TRUE">-88.263907</westBL>
<eastBL Sync="TRUE">-87.519315</eastBL>
<northBL Sync="TRUE">41.729608</northBL>
<southBL Sync="TRUE">41.198495</southBL>
</GeoBndBox>
</geoEle>
</dataExt>
<idAbs/>
<idPurp>An image layer for Township Map of 1873.</idPurp>
<idCredit/>
<resConst>
<Consts>
<useLimit/>
</Consts>
</resConst>
</dataIdInfo>
<mdLang>
<languageCode Sync="TRUE" value="eng"/>
<countryCode Sync="TRUE" value="USA"/>
</mdLang>
<refSysInfo>
<RefSystem>
<refSysID>
<identCode Sync="TRUE" code="3435"/>
<idCodeSpace Sync="TRUE">EPSG</idCodeSpace>
<idVersion Sync="TRUE">8.9.3(9.3.0.0)</idVersion>
</refSysID>
</RefSystem>
</refSysInfo>
<spatRepInfo>
<Georect>
<cellGeo>
<CellGeoCd Sync="TRUE" value="002"/>
</cellGeo>
<numDims Sync="TRUE">2</numDims>
<tranParaAv Sync="TRUE">1</tranParaAv>
<chkPtAv Sync="TRUE">0</chkPtAv>
<cornerPts>
<pos Sync="TRUE">1003355.107035 1651570.258143</pos>
</cornerPts>
<cornerPts>
<pos Sync="TRUE">1003355.107035 1844068.364943</pos>
</cornerPts>
<cornerPts>
<pos Sync="TRUE">1206455.469400 1844068.364943</pos>
</cornerPts>
<cornerPts>
<pos Sync="TRUE">1206455.469400 1651570.258143</pos>
</cornerPts>
<centerPt>
<pos Sync="TRUE">1104905.288218 1747819.311543</pos>
</centerPt>
<axisDimension type="002">
<dimSize Sync="TRUE">49136</dimSize>
<dimResol>
<value Sync="TRUE" uom="ftUS">4.133433</value>
</dimResol>
