{
 "currentVersion": 11.3,
 "serviceDescription": "This image layer shows the RUSLE equation values for soil erosion potential throughout Will County developed by Kucera.<\/span>",
 "name": "AyersDEM/Soil_Erosion_Potential_RUSLE",
 "description": "This image layer shows the RUSLE equation values for soil erosion potential throughout Will County developed by Kucera.<\/span>",
 "extent": {
  "xmin": 1002583.437994,
  "ymin": 1650350.425327217,
  "xmax": 1207215.4379939996,
  "ymax": 1845266.4253272165,
  "spatialReference": {
   "wkid": 103037,
   "latestWkid": 6455
  }
 },
 "initialExtent": {
  "xmin": 1002583.437994,
  "ymin": 1650350.425327217,
  "xmax": 1207215.4379939996,
  "ymax": 1845266.4253272165,
  "spatialReference": {
   "wkid": 103037,
   "latestWkid": 6455
  }
 },
 "fullExtent": {
  "xmin": 1002583.437994,
  "ymin": 1650350.425327217,
  "xmax": 1207215.4379939996,
  "ymax": 1845266.4253272165,
  "spatialReference": {
   "wkid": 103037,
   "latestWkid": 6455
  }
 },
 "sortableFields": "",
 "bandCount": 1,
 "pixelType": "F32",
 "minValues": [
  0
 ],
 "maxValues": [
  827.15850830078
 ],
 "meanValues": [
  3.1959687257396
 ],
 "stdvValues": [
  8.5178019340734
 ],
 "hasMultidimensions": false,
 "pixelSizeX": 1.9999999999999956,
 "pixelSizeY": 1.9999999999999951,
 "meanPixelSize": 0.609601219202437,
 "datasetFormat": "TIFF",
 "uncompressedSize": 39886050912,
 "blockWidth": 128,
 "blockHeight": 128,
 "compressionType": "LZW",
 "bandNames": [
  "Band_1"
 ],
 "allowCopy": true,
 "allowAnalysis": true,
 "itemAccess": false,
 "inspectionCapabilities": "",
 "noDataValue": -99999,
 "noDataValues": [
  -99999
 ],
 "minPixelSize": 0,
 "maxPixelSize": 0,
 "copyrightText": "Kucera International",
 "serviceDataType": "esriImageServiceDataTypeGeneric",
 "serviceSourceType": "esriImageServiceSourceTypeDataset",
 "objectIdField": "",
 "fields": [],
 "capabilities": "Mensuration,Image,Metadata",
 "defaultMosaicMethod": "Center",
 "allowedMosaicMethods": "",
 "sortField": "",
 "sortValue": null,
 "sortAscending": true,
 "mosaicOperator": "First",
 "defaultCompressionQuality": 75,
 "defaultResamplingMethod": "Bilinear",
 "maxImageHeight": 4100,
 "maxImageWidth": 15000,
 "allowRasterFunction": true,
 "rasterFunctionInfos": [
  {
   "name": "None",
   "description": "",
   "help": ""
  }
 ],
 "rasterTypeInfos": [
  {
   "name": "Raster Dataset",
   "description": "Supports all ArcGIS Raster Datasets",
   "help": ""
  }
 ],
 "mensurationCapabilities": "Basic",
 "hasHistograms": true,
 "hasColormap": false,
 "hasRasterAttributeTable": false,
 "minScale": 0,
 "maxScale": 0,
 "exportTilesAllowed": false,
 "supportsStatistics": false,
 "supportsAdvancedQueries": false,
 "editFieldsInfo": null,
 "ownershipBasedAccessControlForRasters": null,
 "allowComputeTiePoints": false,
 "useStandardizedQueries": true,
 "advancedQueryCapabilities": {
  "useStandardizedQueries": true,
  "supportsStatistics": false,
  "supportsOrderBy": false,
  "supportsDistinct": false,
  "supportsPagination": false
 },
 "spatialReference": {
  "wkid": 103037,
  "latestWkid": 6455
 },
 "resampling": false
}
