{
 "currentVersion": 11.3,
 "serviceDescription": "AyersDEM/Lidar2021_SoilErosionPIndex",
 "name": "AyersDEM/Lidar2021_SoilErosionPIndex",
 "description": "",
 "extent": {
  "xmin": 1002583.437994,
  "ymin": 1650349.425327217,
  "xmax": 1207215.437994,
  "ymax": 1845267.425327217,
  "spatialReference": {
   "wkid": 103037,
   "latestWkid": 6455
  }
 },
 "initialExtent": {
  "xmin": 1002583.437994,
  "ymin": 1650349.425327217,
  "xmax": 1207215.437994,
  "ymax": 1845267.425327217,
  "spatialReference": {
   "wkid": 103037,
   "latestWkid": 6455
  }
 },
 "fullExtent": {
  "xmin": 1002583.437994,
  "ymin": 1650349.425327217,
  "xmax": 1207215.437994,
  "ymax": 1845267.425327217,
  "spatialReference": {
   "wkid": 103037,
   "latestWkid": 6455
  }
 },
 "sortableFields": "",
 "bandCount": 1,
 "pixelType": "U8",
 "minValues": [
  0
 ],
 "maxValues": [
  10
 ],
 "meanValues": [
  0.13417169905076204
 ],
 "stdvValues": [
  0.7069708974515669
 ],
 "hasMultidimensions": false,
 "pixelSizeX": 2,
 "pixelSizeY": 2,
 "meanPixelSize": 0.6096012192024385,
 "datasetFormat": "SDR",
 "uncompressedSize": 9971615044,
 "blockWidth": 128,
 "blockHeight": 128,
 "compressionType": "LZ77",
 "bandNames": [
  "Band_1"
 ],
 "allowCopy": true,
 "allowAnalysis": true,
 "itemAccess": false,
 "inspectionCapabilities": "",
 "minPixelSize": 0,
 "maxPixelSize": 0,
 "copyrightText": "",
 "serviceDataType": "esriImageServiceDataTypeGeneric",
 "serviceSourceType": "esriImageServiceSourceTypeDataset",
 "objectIdField": "",
 "fields": [],
 "capabilities": "Image,Metadata,Mensuration",
 "defaultMosaicMethod": "Center",
 "allowedMosaicMethods": "",
 "sortField": "",
 "sortValue": null,
 "sortAscending": true,
 "mosaicOperator": "First",
 "defaultCompressionQuality": 75,
 "defaultResamplingMethod": "Bilinear",
 "maxImageHeight": 4100,
 "maxImageWidth": 15000,
 "allowRasterFunction": true,
 "rasterFunctionInfos": [
  {
   "name": "None",
   "description": "",
   "help": ""
  }
 ],
 "rasterTypeInfos": [
  {
   "name": "Raster Dataset",
   "description": "Supports all ArcGIS Raster Datasets",
   "help": ""
  }
 ],
 "mensurationCapabilities": "Basic",
 "hasHistograms": true,
 "hasColormap": false,
 "hasRasterAttributeTable": false,
 "minScale": 0,
 "maxScale": 0,
 "exportTilesAllowed": false,
 "supportsStatistics": false,
 "supportsAdvancedQueries": false,
 "editFieldsInfo": null,
 "ownershipBasedAccessControlForRasters": null,
 "allowComputeTiePoints": false,
 "useStandardizedQueries": true,
 "advancedQueryCapabilities": {
  "useStandardizedQueries": true,
  "supportsStatistics": false,
  "supportsOrderBy": false,
  "supportsDistinct": false,
  "supportsPagination": false
 },
 "spatialReference": {
  "wkid": 103037,
  "latestWkid": 6455
 }
}
