{
 "currentVersion": 11.3,
 "serviceDescription": "AyersDEM/Lidar2021_Intensity",
 "name": "AyersDEM/Lidar2021_Intensity",
 "description": "",
 "extent": {
  "xmin": 1002584.44,
  "ymin": 1650350,
  "xmax": 1207214.44,
  "ymax": 1845265,
  "spatialReference": {
   "wkt2": "PROJCRS[\"NAD_1983_2011_Illinois_East_ftUS\",BASEGEOGCRS[\"GCS_NAD_1983_2011\",DATUM[\"D_NAD_1983_2011\",ELLIPSOID[\"GRS_1980\",6378137.0,298.257222101,LENGTHUNIT[\"Meter\",1.0]]],PRIMEM[\"Greenwich\",0.0,ANGLEUNIT[\"Degree\",0.0174532925199433]],CS[ellipsoidal,2],ANGLEUNIT[\"Degree\",0.0174532925199433]],CONVERSION[\"Transverse_Mercator\",METHOD[\"Transverse_Mercator\"],PARAMETER[\"false_easting\",984250.0,LENGTHUNIT[\"Foot_US\",0.3048006096012192]],PARAMETER[\"false_northing\",0.0,LENGTHUNIT[\"Foot_US\",0.3048006096012192]],PARAMETER[\"central_meridian\",-88.33333333333333,ANGLEUNIT[\"Degree\",0.0174532925199433]],PARAMETER[\"scale_factor\",0.999975,SCALEUNIT[\"Unity\",1.0]],PARAMETER[\"latitude_of_origin\",36.66666666666666,ANGLEUNIT[\"Degree\",0.0174532925199433]]],CS[Cartesian,2],AXIS[\"Easting (X)\",east,ORDER[1]],AXIS[\"Northing (Y)\",north,ORDER[2]],LENGTHUNIT[\"Foot_US\",0.3048006096012192]]",
   "wkt": "PROJCS[\"NAD_1983_2011_Illinois_East_ftUS\",GEOGCS[\"GCS_NAD_1983_2011\",DATUM[\"D_NAD_1983_2011\",SPHEROID[\"GRS_1980\",6378137.0,298.257222101]],PRIMEM[\"Greenwich\",0.0],UNIT[\"Degree\",0.0174532925199433]],PROJECTION[\"Transverse_Mercator\"],PARAMETER[\"false_easting\",984250.0],PARAMETER[\"false_northing\",0.0],PARAMETER[\"central_meridian\",-88.33333333333333],PARAMETER[\"scale_factor\",0.999975],PARAMETER[\"latitude_of_origin\",36.66666666666666],UNIT[\"Foot_US\",0.3048006096012192]]"
  }
 },
 "initialExtent": {
  "xmin": 1002584.44,
  "ymin": 1650350,
  "xmax": 1207214.44,
  "ymax": 1845265,
  "spatialReference": {
   "wkt2": "PROJCRS[\"NAD_1983_2011_Illinois_East_ftUS\",BASEGEOGCRS[\"GCS_NAD_1983_2011\",DATUM[\"D_NAD_1983_2011\",ELLIPSOID[\"GRS_1980\",6378137.0,298.257222101,LENGTHUNIT[\"Meter\",1.0]]],PRIMEM[\"Greenwich\",0.0,ANGLEUNIT[\"Degree\",0.0174532925199433]],CS[ellipsoidal,2],ANGLEUNIT[\"Degree\",0.0174532925199433]],CONVERSION[\"Transverse_Mercator\",METHOD[\"Transverse_Mercator\"],PARAMETER[\"false_easting\",984250.0,LENGTHUNIT[\"Foot_US\",0.3048006096012192]],PARAMETER[\"false_northing\",0.0,LENGTHUNIT[\"Foot_US\",0.3048006096012192]],PARAMETER[\"central_meridian\",-88.33333333333333,ANGLEUNIT[\"Degree\",0.0174532925199433]],PARAMETER[\"scale_factor\",0.999975,SCALEUNIT[\"Unity\",1.0]],PARAMETER[\"latitude_of_origin\",36.66666666666666,ANGLEUNIT[\"Degree\",0.0174532925199433]]],CS[Cartesian,2],AXIS[\"Easting (X)\",east,ORDER[1]],AXIS[\"Northing (Y)\",north,ORDER[2]],LENGTHUNIT[\"Foot_US\",0.3048006096012192]]",
   "wkt": "PROJCS[\"NAD_1983_2011_Illinois_East_ftUS\",GEOGCS[\"GCS_NAD_1983_2011\",DATUM[\"D_NAD_1983_2011\",SPHEROID[\"GRS_1980\",6378137.0,298.257222101]],PRIMEM[\"Greenwich\",0.0],UNIT[\"Degree\",0.0174532925199433]],PROJECTION[\"Transverse_Mercator\"],PARAMETER[\"false_easting\",984250.0],PARAMETER[\"false_northing\",0.0],PARAMETER[\"central_meridian\",-88.33333333333333],PARAMETER[\"scale_factor\",0.999975],PARAMETER[\"latitude_of_origin\",36.66666666666666],UNIT[\"Foot_US\",0.3048006096012192]]"
  }
 },
 "fullExtent": {
  "xmin": 1002584.44,
  "ymin": 1650350,
  "xmax": 1207214.44,
  "ymax": 1845265,
  "spatialReference": {
   "wkt2": "PROJCRS[\"NAD_1983_2011_Illinois_East_ftUS\",BASEGEOGCRS[\"GCS_NAD_1983_2011\",DATUM[\"D_NAD_1983_2011\",ELLIPSOID[\"GRS_1980\",6378137.0,298.257222101,LENGTHUNIT[\"Meter\",1.0]]],PRIMEM[\"Greenwich\",0.0,ANGLEUNIT[\"Degree\",0.0174532925199433]],CS[ellipsoidal,2],ANGLEUNIT[\"Degree\",0.0174532925199433]],CONVERSION[\"Transverse_Mercator\",METHOD[\"Transverse_Mercator\"],PARAMETER[\"false_easting\",984250.0,LENGTHUNIT[\"Foot_US\",0.3048006096012192]],PARAMETER[\"false_northing\",0.0,LENGTHUNIT[\"Foot_US\",0.3048006096012192]],PARAMETER[\"central_meridian\",-88.33333333333333,ANGLEUNIT[\"Degree\",0.0174532925199433]],PARAMETER[\"scale_factor\",0.999975,SCALEUNIT[\"Unity\",1.0]],PARAMETER[\"latitude_of_origin\",36.66666666666666,ANGLEUNIT[\"Degree\",0.0174532925199433]]],CS[Cartesian,2],AXIS[\"Easting (X)\",east,ORDER[1]],AXIS[\"Northing (Y)\",north,ORDER[2]],LENGTHUNIT[\"Foot_US\",0.3048006096012192]]",
   "wkt": "PROJCS[\"NAD_1983_2011_Illinois_East_ftUS\",GEOGCS[\"GCS_NAD_1983_2011\",DATUM[\"D_NAD_1983_2011\",SPHEROID[\"GRS_1980\",6378137.0,298.257222101]],PRIMEM[\"Greenwich\",0.0],UNIT[\"Degree\",0.0174532925199433]],PROJECTION[\"Transverse_Mercator\"],PARAMETER[\"false_easting\",984250.0],PARAMETER[\"false_northing\",0.0],PARAMETER[\"central_meridian\",-88.33333333333333],PARAMETER[\"scale_factor\",0.999975],PARAMETER[\"latitude_of_origin\",36.66666666666666],UNIT[\"Foot_US\",0.3048006096012192]]"
  }
 },
 "sortableFields": "MinPS,MaxPS,LowPS,HighPS,CenterX,CenterY,ZOrder,Shape.STArea(),Shape.STLength()",
 "bandCount": 3,
 "pixelType": "U8",
 "minValues": [
  0,
  0,
  0
 ],
 "maxValues": [
  255,
  255,
  255
 ],
 "meanValues": [
  123.77373090025155,
  123.77373090025155,
  123.77373090025155
 ],
 "stdvValues": [
  41.94477970024543,
  41.94477970024543,
  41.94477970024543
 ],
 "hasMultidimensions": false,
 "pixelSizeX": 1,
 "pixelSizeY": 1,
 "meanPixelSize": 0.30480060960121924,
 "datasetFormat": "AMD",
 "uncompressedSize": 119656369350,
 "blockWidth": 2048,
 "blockHeight": 256,
 "compressionType": "None",
 "bandNames": [
  "Band_1",
  "Band_2",
  "Band_3"
 ],
 "allowCopy": true,
 "allowAnalysis": true,
 "itemAccess": false,
 "inspectionCapabilities": "",
 "minPixelSize": 0,
 "maxPixelSize": 0,
 "copyrightText": "",
 "serviceDataType": "esriImageServiceDataTypeRGB",
 "serviceSourceType": "esriImageServiceSourceTypeMosaicDataset",
 "objectIdField": "OBJECTID",
 "fields": [
  {
   "name": "OBJECTID",
   "type": "esriFieldTypeOID",
   "alias": "OBJECTID",
   "domain": null
  },
  {
   "name": "Name",
   "type": "esriFieldTypeString",
   "alias": "Name",
   "domain": null,
   "length": 200
  },
  {
   "name": "MinPS",
   "type": "esriFieldTypeDouble",
   "alias": "MinPS",
   "domain": null
  },
  {
   "name": "MaxPS",
   "type": "esriFieldTypeDouble",
   "alias": "MaxPS",
   "domain": null
  },
  {
   "name": "LowPS",
   "type": "esriFieldTypeDouble",
   "alias": "LowPS",
   "domain": null
  },
  {
   "name": "HighPS",
   "type": "esriFieldTypeDouble",
   "alias": "HighPS",
   "domain": null
  },
  {
   "name": "Category",
   "type": "esriFieldTypeInteger",
   "alias": "Category",
   "domain": {
    "type": "codedValue",
    "name": "MosaicCatalogItemCategoryDomain",
    "description": "Catalog item categories.",
    "codedValues": [
     {
      "name": "Unknown",
      "code": 0
     },
     {
      "name": "Primary",
      "code": 1
     },
     {
      "name": "Overview",
      "code": 2
     },
     {
      "name": "Unprocessed Overview",
      "code": 3
     },
     {
      "name": "Partial Overview",
      "code": 4
     },
     {
      "name": "Inactive",
      "code": 5
     },
     {
      "name": "Uploaded",
      "code": 253
     },
     {
      "name": "Incomplete",
      "code": 254
     },
     {
      "name": "Custom",
      "code": 255
     }
    ],
    "mergePolicy": "esriMPTDefaultValue",
    "splitPolicy": "esriSPTDefaultValue"
   }
  },
  {
   "name": "Tag",
   "type": "esriFieldTypeString",
   "alias": "Tag",
   "domain": null,
   "length": 100
  },
  {
   "name": "GroupName",
   "type": "esriFieldTypeString",
   "alias": "GroupName",
   "domain": null,
   "length": 100
  },
  {
   "name": "ProductName",
   "type": "esriFieldTypeString",
   "alias": "ProductName",
   "domain": null,
   "length": 100
  },
  {
   "name": "CenterX",
   "type": "esriFieldTypeDouble",
   "alias": "CenterX",
   "domain": null
  },
  {
   "name": "CenterY",
   "type": "esriFieldTypeDouble",
   "alias": "CenterY",
   "domain": null
  },
  {
   "name": "ZOrder",
   "type": "esriFieldTypeInteger",
   "alias": "ZOrder",
   "domain": null
  },
  {
   "name": "Shape",
   "type": "esriFieldTypeGeometry",
   "alias": "Shape",
   "domain": null
  },
  {
   "name": "Shape.STArea()",
   "type": "esriFieldTypeDouble",
   "alias": "Shape.STArea()",
   "domain": null
  },
  {
   "name": "Shape.STLength()",
   "type": "esriFieldTypeDouble",
   "alias": "Shape.STLength()",
   "domain": null
  }
 ],
 "capabilities": "Image,Metadata,Catalog",
 "defaultMosaicMethod": "Northwest",
 "allowedMosaicMethods": "NorthWest,Center,LockRaster,ByAttribute,Nadir,Viewpoint,Seamline,None",
 "sortField": "",
 "sortValue": null,
 "sortAscending": true,
 "mosaicOperator": "First",
 "maxDownloadSizeLimit": 2048,
 "defaultCompressionQuality": 75,
 "defaultResamplingMethod": "Bilinear",
 "maxImageHeight": 4100,
 "maxImageWidth": 15000,
 "maxRecordCount": 1000,
 "maxDownloadImageCount": 20,
 "maxMosaicImageCount": 20,
 "allowRasterFunction": true,
 "rasterFunctionInfos": [
  {
   "name": "None",
   "description": "A No-Op Function.",
   "help": ""
  }
 ],
 "rasterTypeInfos": [
  {
   "name": "Raster Dataset",
   "description": "Supports all ArcGIS Raster Datasets",
   "help": ""
  }
 ],
 "mensurationCapabilities": "None",
 "hasHistograms": true,
 "hasColormap": false,
 "hasRasterAttributeTable": false,
 "minScale": 0,
 "maxScale": 0,
 "exportTilesAllowed": false,
 "supportsStatistics": true,
 "supportsAdvancedQueries": true,
 "editFieldsInfo": null,
 "ownershipBasedAccessControlForRasters": null,
 "allowComputeTiePoints": false,
 "useStandardizedQueries": true,
 "advancedQueryCapabilities": {
  "useStandardizedQueries": true,
  "supportsStatistics": true,
  "supportsOrderBy": true,
  "supportsDistinct": true,
  "supportsPagination": true
 },
 "spatialReference": {
  "wkt2": "PROJCRS[\"NAD_1983_2011_Illinois_East_ftUS\",BASEGEOGCRS[\"GCS_NAD_1983_2011\",DATUM[\"D_NAD_1983_2011\",ELLIPSOID[\"GRS_1980\",6378137.0,298.257222101,LENGTHUNIT[\"Meter\",1.0]]],PRIMEM[\"Greenwich\",0.0,ANGLEUNIT[\"Degree\",0.0174532925199433]],CS[ellipsoidal,2],ANGLEUNIT[\"Degree\",0.0174532925199433]],CONVERSION[\"Transverse_Mercator\",METHOD[\"Transverse_Mercator\"],PARAMETER[\"false_easting\",984250.0,LENGTHUNIT[\"Foot_US\",0.3048006096012192]],PARAMETER[\"false_northing\",0.0,LENGTHUNIT[\"Foot_US\",0.3048006096012192]],PARAMETER[\"central_meridian\",-88.33333333333333,ANGLEUNIT[\"Degree\",0.0174532925199433]],PARAMETER[\"scale_factor\",0.999975,SCALEUNIT[\"Unity\",1.0]],PARAMETER[\"latitude_of_origin\",36.66666666666666,ANGLEUNIT[\"Degree\",0.0174532925199433]]],CS[Cartesian,2],AXIS[\"Easting (X)\",east,ORDER[1]],AXIS[\"Northing (Y)\",north,ORDER[2]],LENGTHUNIT[\"Foot_US\",0.3048006096012192]]",
  "wkt": "PROJCS[\"NAD_1983_2011_Illinois_East_ftUS\",GEOGCS[\"GCS_NAD_1983_2011\",DATUM[\"D_NAD_1983_2011\",SPHEROID[\"GRS_1980\",6378137.0,298.257222101]],PRIMEM[\"Greenwich\",0.0],UNIT[\"Degree\",0.0174532925199433]],PROJECTION[\"Transverse_Mercator\"],PARAMETER[\"false_easting\",984250.0],PARAMETER[\"false_northing\",0.0],PARAMETER[\"central_meridian\",-88.33333333333333],PARAMETER[\"scale_factor\",0.999975],PARAMETER[\"latitude_of_origin\",36.66666666666666],UNIT[\"Foot_US\",0.3048006096012192]]"
 }
}
