{ "currentVersion": 11.3, "serviceDescription": "Processing all returns in the classified point cloud that represent both the ground surface and aboveground features (buildings, roadways and overpasses, vegetation, etc.) produces a DSM, Digital Surface Model. A DSM is commonly referred to as the \u2018First Returns\u2019 reflective surface model.<\/font><\/span>
Additionally, each county contains an associated shaded relief model, or \u2018hillshade\u2019, and also ArcGrid pyramid files and statistics to facilitate display and analysis.<\/font><\/span>
<\/span><\/div>", "name": "AyersDEM/Lidar2021_DSH", "description": "Processing all returns in the classified point cloud that represent both the ground surface and aboveground features (buildings, roadways and overpasses, vegetation, etc.) produces a DSM, Digital Surface Model. A DSM is commonly referred to as the \u2018First Returns\u2019 reflective surface model.<\/font><\/span>
Additionally, each county contains an associated shaded relief model, or \u2018hillshade\u2019, and also ArcGrid pyramid files and statistics to facilitate display and analysis.<\/font><\/span>
<\/span><\/div>", "extent": { "xmin": 1002589.4155724943, "ymin": 1650355.5644751564, "xmax": 1207209.4155724943, "ymax": 1845260.5644751564, "spatialReference": { "wkid": 103037, "latestWkid": 6455, "vcsWkid": 105703, "latestVcsWkid": 6360 } }, "initialExtent": { "xmin": 1002589.4155724943, "ymin": 1650355.5644751564, "xmax": 1207209.4155724943, "ymax": 1845260.5644751564, "spatialReference": { "wkid": 103037, "latestWkid": 6455, "vcsWkid": 105703, "latestVcsWkid": 6360 } }, "fullExtent": { "xmin": 1002589.4155724943, "ymin": 1650355.5644751564, "xmax": 1207209.4155724943, "ymax": 1845260.5644751564, "spatialReference": { "wkid": 103037, "latestWkid": 6455, "vcsWkid": 105703, "latestVcsWkid": 6360 } }, "sortableFields": "", "heightModelInfo": { "heightModel": "gravity_related_height", "vertCRS": "NAVD_1988_Foot_US", "heightUnit": "us-foot" }, "bandCount": 1, "pixelType": "U8", "minValues": [ 0 ], "maxValues": [ 254 ], "meanValues": [ 0 ], "stdvValues": [ -1 ], "hasMultidimensions": false, "pixelSizeX": 1, "pixelSizeY": 1, "meanPixelSize": 0.30480060960121924, "datasetFormat": "SDR", "uncompressedSize": 39881461100, "blockWidth": 128, "blockHeight": 128, "compressionType": "LZ77", "bandNames": [ "Band_1" ], "allowCopy": true, "allowAnalysis": true, "itemAccess": false, "inspectionCapabilities": "", "minPixelSize": 0, "maxPixelSize": 0, "copyrightText": "Illinois State Geological Survey", "serviceDataType": "esriImageServiceDataTypeGeneric", "serviceSourceType": "esriImageServiceSourceTypeDataset", "objectIdField": "", "fields": [], "capabilities": "Mensuration,Image,Metadata", "defaultMosaicMethod": "Center", "allowedMosaicMethods": "", "sortField": "", "sortValue": null, "sortAscending": true, "mosaicOperator": "First", "defaultCompressionQuality": 75, "defaultResamplingMethod": "Bilinear", "maxImageHeight": 4100, "maxImageWidth": 15000, "allowRasterFunction": true, "rasterFunctionInfos": [ { "name": "None", "description": "", "help": "" } ], "rasterTypeInfos": [ { "name": "Raster Dataset", "description": "Supports all ArcGIS Raster Datasets", "help": "" } ], "mensurationCapabilities": "Basic", "hasHistograms": true, "hasColormap": false, "hasRasterAttributeTable": false, "minScale": 0, "maxScale": 0, "exportTilesAllowed": false, "supportsStatistics": false, "supportsAdvancedQueries": false, "editFieldsInfo": null, "ownershipBasedAccessControlForRasters": null, "allowComputeTiePoints": false, "useStandardizedQueries": true, "advancedQueryCapabilities": { "useStandardizedQueries": true, "supportsStatistics": false, "supportsOrderBy": false, "supportsDistinct": false, "supportsPagination": false }, "spatialReference": { "wkid": 103037, "latestWkid": 6455, "vcsWkid": 105703, "latestVcsWkid": 6360 }, "resampling": false }